BEGIN:VCALENDAR
VERSION:2.0
PRODID:Postgres World Webinars 2023
CALSCALE:GREGORIAN
BEGIN:VEVENT
DTSTAMP:20260423T075550Z
UID:a976af31-9516-48c2-816c-8ea58e3e804d
DTSTART:20230621T150000Z
DTEND:20230621T160000Z
LOCATION:PostgresWorld Zoom
SUMMARY:An Open Approach to Asynchronous Multi-master Replication With Post
 greSQL (Hari Kiran and Cady Motyka)
URL:https://pgconf.org/conferences/postgresworld_webinars_2023/program/prop
 osals/2087
END:VEVENT
BEGIN:VEVENT
DTSTAMP:20260423T075550Z
UID:a1a25a2a-1d26-4f01-bcc3-e4bb3aed3487
DTSTART:20230830T170000Z
DTEND:20230830T180000Z
LOCATION:PostgresWorld Zoom
SUMMARY:Enhancing pgLogical with Multi-Master Features (Ahsan Hadi and Cady
  Motyka)
URL:https://pgconf.org/conferences/postgresworld_webinars_2023/program/prop
 osals/2089
END:VEVENT
BEGIN:VEVENT
DTSTAMP:20260423T075550Z
UID:ef7a0410-52bb-48f0-a335-b193a5a2a575
DTSTART:20230920T170000Z
DTEND:20230920T180000Z
LOCATION:PostgresWorld Zoom
SUMMARY:PostgresWorld Presents: A Live Digital Privacy Event with EFF\, Spo
 nsored by Command Prompt and The More than a Refresh Podcast (Joshua D. Dr
 ake)
URL:https://pgconf.org/conferences/postgresworld_webinars_2023/program/prop
 osals/2090
END:VEVENT
BEGIN:VEVENT
DTSTAMP:20260423T075550Z
UID:411302ad-ba49-48a7-aafe-c0d1cb728c14
DTSTART:20231109T180000Z
DTEND:20231109T190000Z
LOCATION:PostgresWorld Zoom
SUMMARY:Unleash Ultra High Availability and Zero Downtime Maintenance with 
 Distributed PostgreSQL (Dr. Ibrar Ahmed\, Mike Josephson\, and Denis Lussi
 er)
URL:https://pgconf.org/conferences/postgresworld_webinars_2023/program/prop
 osals/2094
END:VEVENT
END:VCALENDAR
