BEGIN:VCALENDAR
VERSION:2.0
PRODID:PostgresWorld Training: 2026
CALSCALE:GREGORIAN
BEGIN:VEVENT
DTSTAMP:20260424T033717Z
UID:2ed5ca04-8125-42d3-8e72-27297013cd49
DTSTART:20260120T140000Z
DTEND:20260120T200000Z
LOCATION:Google Meet or Riverside
SUMMARY:PostgreSQL A-Z (Greg Dostatni)
URL:https://pgconf.org/conferences/postgresworld_training_2026/program/prop
 osals/2695
END:VEVENT
BEGIN:VEVENT
DTSTAMP:20260424T033717Z
UID:d1c3da62-c0f3-40db-bd9b-c3d95768c843
DTSTART:20260205T140000Z
DTEND:20260205T170000Z
LOCATION:Google Meet or Riverside
SUMMARY:Learning SQL With PostgreSQL (Dave Stokes)
URL:https://pgconf.org/conferences/postgresworld_training_2026/program/prop
 osals/2688
END:VEVENT
BEGIN:VEVENT
DTSTAMP:20260424T033717Z
UID:9ff2ef5f-b095-49db-9a2e-1b631dc67a00
DTSTART:20260218T140000Z
DTEND:20260218T200000Z
LOCATION:Google Meet or Riverside
SUMMARY:PostgreSQL Performance and Maintenance (Greg Dostatni)
URL:https://pgconf.org/conferences/postgresworld_training_2026/program/prop
 osals/2694
END:VEVENT
BEGIN:VEVENT
DTSTAMP:20260424T033717Z
UID:2a3f191c-1326-4026-a2ec-f9ffa41b6dba
DTSTART:20260224T150000Z
DTEND:20260224T163000Z
LOCATION:Google Meet or Riverside
SUMMARY:Keeping Bad Data Out Of Your Database (Dave Stokes)
URL:https://pgconf.org/conferences/postgresworld_training_2026/program/prop
 osals/2689
END:VEVENT
BEGIN:VEVENT
DTSTAMP:20260424T033717Z
UID:249971c3-c7d7-4f75-b702-245934297e37
DTSTART:20260326T140000Z
DTEND:20260326T153000Z
LOCATION:Google Meet or Riverside
SUMMARY:JSON_DATA() At Full Strength (Dave Stokes)
URL:https://pgconf.org/conferences/postgresworld_training_2026/program/prop
 osals/2690
END:VEVENT
END:VCALENDAR
