BEGIN:VCALENDAR
VERSION:2.0
PRODID:Postgres Conference: 2026
CALSCALE:GREGORIAN
BEGIN:VEVENT
DTSTAMP:20260424T012749Z
UID:3d65fa64-2ed8-43c2-a16c-53b44b3cf66c
DTSTART:20260421T153000Z
DTEND:20260421T223000Z
LOCATION:Almaden Foyer
SUMMARY:Registration
URL:https://pgconf.org/conferences/postgresconf_2026/program/proposals/2829
END:VEVENT
BEGIN:VEVENT
DTSTAMP:20260424T012749Z
UID:586dc60a-f2f0-40a3-ab9a-9b573802e57b
DTSTART:20260421T160000Z
DTEND:20260421T162000Z
LOCATION:Winchester 2
SUMMARY:Running PostgreSQL in Hybrid Data Architectures (Amit  Parikh and P
 hil Rodas)
URL:https://pgconf.org/conferences/postgresconf_2026/program/proposals/2778
END:VEVENT
BEGIN:VEVENT
DTSTAMP:20260424T012749Z
UID:ff5839df-62fe-45b7-91da-a5f8dfa766bc
DTSTART:20260421T160000Z
DTEND:20260421T165000Z
LOCATION:Santa Clara (Level C)
SUMMARY:Autonomous PostgreSQL: When AI Agents Become Your DBA (Shaily Porwa
 l and Vivek Singh)
URL:https://pgconf.org/conferences/postgresconf_2026/program/proposals/2767
END:VEVENT
BEGIN:VEVENT
DTSTAMP:20260424T012749Z
UID:535791d5-4fd4-4893-aa13-fd545d9fad56
DTSTART:20260421T160000Z
DTEND:20260421T165000Z
LOCATION:Winchester
SUMMARY:The power of mentorship (Jim Mlodgenski)
URL:https://pgconf.org/conferences/postgresconf_2026/program/proposals/2821
END:VEVENT
BEGIN:VEVENT
DTSTAMP:20260424T012749Z
UID:ff3b4715-6ef1-4790-8f3e-9ff1e78e04c6
DTSTART:20260421T160000Z
DTEND:20260421T165000Z
LOCATION:San Pedro (Level C)
SUMMARY:Building Real-Time\, Data-Aware Intelligence with Postgres & Model 
 Context Protocol (MCP) (Yogesh Jain)
URL:https://pgconf.org/conferences/postgresconf_2026/program/proposals/2728
END:VEVENT
BEGIN:VEVENT
DTSTAMP:20260424T012749Z
UID:a06a03ac-b25e-498c-b962-cecdae16490c
DTSTART:20260421T163000Z
DTEND:20260421T165000Z
LOCATION:Winchester 2
SUMMARY:Materialized Views: Performance Shortcut or Operational Trap? (Yu L
 ung Law and Christopher Hong)
URL:https://pgconf.org/conferences/postgresconf_2026/program/proposals/2749
END:VEVENT
BEGIN:VEVENT
DTSTAMP:20260424T012749Z
UID:742b90fd-dd2a-45d0-ba76-aa27400043f6
DTSTART:20260421T170000Z
DTEND:20260421T175000Z
LOCATION:Winchester
SUMMARY:Implementing Transparent Data Encryption At Rest (Robert Bernier)
URL:https://pgconf.org/conferences/postgresconf_2026/program/proposals/2678
END:VEVENT
BEGIN:VEVENT
DTSTAMP:20260424T012749Z
UID:b54e1cec-9b94-4141-8660-d193608b48a2
DTSTART:20260421T170000Z
DTEND:20260421T175000Z
LOCATION:Winchester 2
SUMMARY:RDS Maintenance: Strategies for Patching and Version Upgrades (Kare
 n Ng and Abhimanyu Tomar)
URL:https://pgconf.org/conferences/postgresconf_2026/program/proposals/2756
END:VEVENT
BEGIN:VEVENT
DTSTAMP:20260424T012749Z
UID:04e509e7-beae-4bc6-97c4-0bf344e3a39b
DTSTART:20260421T170000Z
DTEND:20260421T175000Z
LOCATION:Santa Clara (Level C)
SUMMARY:Elevate your DBA toolset with PG Collector (Mohamed Ali)
URL:https://pgconf.org/conferences/postgresconf_2026/program/proposals/2684
END:VEVENT
BEGIN:VEVENT
DTSTAMP:20260424T012749Z
UID:611b6dad-6f25-4fdb-b4f9-6bb30088a7a6
DTSTART:20260421T180000Z
DTEND:20260421T185000Z
LOCATION:Santa Clara (Level C)
SUMMARY:A benchmark study on the impact of PostgreSQL server parameter tuni
 ng (Luigi Nardi)
URL:https://pgconf.org/conferences/postgresconf_2026/program/proposals/2800
END:VEVENT
BEGIN:VEVENT
DTSTAMP:20260424T012749Z
UID:2ba49a72-7a2d-47a6-b0fb-8de024291f84
DTSTART:20260421T180000Z
DTEND:20260421T182000Z
LOCATION:Winchester 2
SUMMARY:How I took my open source business to a Fortune 500 company (Michae
 l Meskes)
URL:https://pgconf.org/conferences/postgresconf_2026/program/proposals/2698
END:VEVENT
BEGIN:VEVENT
DTSTAMP:20260424T012749Z
UID:9fb9cd1f-9840-4971-9998-0eb0bdc113b0
DTSTART:20260421T180000Z
DTEND:20260421T182000Z
LOCATION:Winchester
SUMMARY:Vector Database Performance Challenges\, A CaseStudy (Robert Bernie
 r)
URL:https://pgconf.org/conferences/postgresconf_2026/program/proposals/2680
END:VEVENT
BEGIN:VEVENT
DTSTAMP:20260424T012749Z
UID:4820b76f-0e02-4fd8-b841-414741c40022
DTSTART:20260421T180000Z
DTEND:20260421T182000Z
LOCATION:San Pedro (Level C)
SUMMARY:YMatrix mxvector: How to implement high performance pluggable vecto
 rized executor in PostgreSQL (CC Xiong and Yandong Yao)
URL:https://pgconf.org/conferences/postgresconf_2026/program/proposals/2748
END:VEVENT
BEGIN:VEVENT
DTSTAMP:20260424T012749Z
UID:097a7b40-36a6-4d05-bf0d-5b81d57df07e
DTSTART:20260421T183000Z
DTEND:20260421T184000Z
LOCATION:Winchester 2
SUMMARY:How life changes after an exit (Michael Meskes)
URL:https://pgconf.org/conferences/postgresconf_2026/program/proposals/2699
END:VEVENT
BEGIN:VEVENT
DTSTAMP:20260424T012749Z
UID:9a8b52ac-3ce8-4d1d-945f-e3fb3f6aab8f
DTSTART:20260421T183000Z
DTEND:20260421T185000Z
LOCATION:San Pedro (Level C)
SUMMARY:Debezium and PostgreSQL in Action (Velu Natarajan)
URL:https://pgconf.org/conferences/postgresconf_2026/program/proposals/2774
END:VEVENT
BEGIN:VEVENT
DTSTAMP:20260424T012749Z
UID:c404b1f1-f31d-4777-8564-9edc0127ba3f
DTSTART:20260421T183000Z
DTEND:20260421T185000Z
LOCATION:Winchester
SUMMARY:Rescued Draft Horses (Dave Stokes)
URL:https://pgconf.org/conferences/postgresconf_2026/program/proposals/2823
END:VEVENT
BEGIN:VEVENT
DTSTAMP:20260424T012749Z
UID:40980ed5-6249-4d28-883e-271868caab76
DTSTART:20260421T190000Z
DTEND:20260421T200000Z
LOCATION:Patio / Market (Outside Restaurant)
SUMMARY:Lunch
URL:https://pgconf.org/conferences/postgresconf_2026/program/proposals/2832
END:VEVENT
BEGIN:VEVENT
DTSTAMP:20260424T012749Z
UID:dfd3bcad-ac4c-40b2-a70a-240a8cdf745f
DTSTART:20260421T200000Z
DTEND:20260421T205000Z
LOCATION:San Pedro (Level C)
SUMMARY:The Open Source Approach: Building Production-Ready AI Apps with Po
 stgres (Mike Josephson)
URL:https://pgconf.org/conferences/postgresconf_2026/program/proposals/2787
END:VEVENT
BEGIN:VEVENT
DTSTAMP:20260424T012749Z
UID:b32b2a51-60ec-4a74-a37b-e2bb6db33d5c
DTSTART:20260421T200000Z
DTEND:20260421T205000Z
LOCATION:Winchester 2
SUMMARY:Measuring shared_buffers Behavior on Large-Memory PostgreSQL System
 s (Greg Dostatni)
URL:https://pgconf.org/conferences/postgresconf_2026/program/proposals/2740
END:VEVENT
BEGIN:VEVENT
DTSTAMP:20260424T012749Z
UID:853e1ec4-facc-4122-89f8-e9be1ae5fc88
DTSTART:20260421T200000Z
DTEND:20260421T205000Z
LOCATION:Winchester
SUMMARY:What Can An AI Assistant Do For You? (Dave Stokes)
URL:https://pgconf.org/conferences/postgresconf_2026/program/proposals/2683
END:VEVENT
BEGIN:VEVENT
DTSTAMP:20260424T012749Z
UID:4d20aca8-f50a-4874-9d9f-af43b5faa2d4
DTSTART:20260421T200000Z
DTEND:20260421T230000Z
LOCATION:Almaden Ballroom
SUMMARY:Hands-on lab: PostgreSQL Evolved — Smart Data\, Zero Drama (Shane
  Borden and Cody Fincher)
URL:https://pgconf.org/conferences/postgresconf_2026/program/proposals/2842
END:VEVENT
BEGIN:VEVENT
DTSTAMP:20260424T012749Z
UID:ab19e7ed-f5fd-4b67-a77a-b44bb34c23e8
DTSTART:20260421T203000Z
DTEND:20260421T205000Z
LOCATION:Santa Clara (Level C)
SUMMARY:PostgreSQL Streaming Model: From Implicit to Explicit  How Domino U
 nlocks Continuous Computing (Yandong Yao and CC Xiong)
URL:https://pgconf.org/conferences/postgresconf_2026/program/proposals/2745
END:VEVENT
BEGIN:VEVENT
DTSTAMP:20260424T012749Z
UID:c3715a34-9f92-4acc-adad-7f5deedf52ca
DTSTART:20260421T210000Z
DTEND:20260421T215000Z
LOCATION:Santa Clara (Level C)
SUMMARY:The Elephant in the Room: Tackling PostgreSQL Major Version Upgrade
 s Head-On (Shaily Porwal and Vivek Singh)
URL:https://pgconf.org/conferences/postgresconf_2026/program/proposals/2766
END:VEVENT
BEGIN:VEVENT
DTSTAMP:20260424T012749Z
UID:827bc524-3b8e-4ca2-8a92-b962480c3702
DTSTART:20260421T210000Z
DTEND:20260421T215000Z
LOCATION:Winchester
SUMMARY:Enhancing PostgreSQL Sharding Through Agentic AI: Scalability\, Opt
 imization\, and Autonomous Management (Premnath Jangam and abhinav sagar)
URL:https://pgconf.org/conferences/postgresconf_2026/program/proposals/2785
END:VEVENT
BEGIN:VEVENT
DTSTAMP:20260424T012749Z
UID:cd14b3c3-cdc7-45d5-8eaa-285c338693da
DTSTART:20260421T210000Z
DTEND:20260421T212000Z
LOCATION:San Pedro (Level C)
SUMMARY:From Transactions to Agents: PostgreSQL in Modern AI Applications (
 AMEY BANARSE)
URL:https://pgconf.org/conferences/postgresconf_2026/program/proposals/2762
END:VEVENT
BEGIN:VEVENT
DTSTAMP:20260424T012749Z
UID:7a546d95-2362-4a31-a8fd-2a5f7500a06a
DTSTART:20260421T210000Z
DTEND:20260421T215000Z
LOCATION:Winchester 2
SUMMARY:pg_search: Bringing Elasticsearch-Grade Search to PostgreSQL (Phili
 ppe Noël)
URL:https://pgconf.org/conferences/postgresconf_2026/program/proposals/2834
END:VEVENT
BEGIN:VEVENT
DTSTAMP:20260424T012749Z
UID:e27504fb-107b-4b00-ab94-ad8ebd4bbda1
DTSTART:20260421T213000Z
DTEND:20260421T215000Z
LOCATION:San Pedro (Level C)
SUMMARY:Building Durable Programs with Postgres (Peter Kraft)
URL:https://pgconf.org/conferences/postgresconf_2026/program/proposals/2723
END:VEVENT
BEGIN:VEVENT
DTSTAMP:20260424T012749Z
UID:f205387d-97a9-4002-a32b-3a6b8fdc5896
DTSTART:20260421T220000Z
DTEND:20260421T225000Z
LOCATION:Winchester 2
SUMMARY:Turbocharge Your Postgres: High-Performance Caching and Async Write
 s with Valkey (Roberto Luna Rojas)
URL:https://pgconf.org/conferences/postgresconf_2026/program/proposals/2825
END:VEVENT
BEGIN:VEVENT
DTSTAMP:20260424T012749Z
UID:e04eb8c4-dd33-438b-a6df-0d38ed369037
DTSTART:20260421T220000Z
DTEND:20260421T225000Z
LOCATION:Winchester
SUMMARY:Mastering PostgreSQL Partitioning: Advanced Questions and Demos (Ry
 an Booz)
URL:https://pgconf.org/conferences/postgresconf_2026/program/proposals/2789
END:VEVENT
BEGIN:VEVENT
DTSTAMP:20260424T012749Z
UID:32e133f8-fe72-4302-b9c8-23c41b2c4e6c
DTSTART:20260421T220000Z
DTEND:20260421T225000Z
LOCATION:San Pedro (Level C)
SUMMARY:Building Agentic AI Applications with PostgreSQL as the Backbone (S
 hayon Sanyal)
URL:https://pgconf.org/conferences/postgresconf_2026/program/proposals/2807
END:VEVENT
BEGIN:VEVENT
DTSTAMP:20260424T012749Z
UID:ee810b86-ab4c-4012-ba97-d4dc68bc86eb
DTSTART:20260421T220000Z
DTEND:20260421T225000Z
LOCATION:Santa Clara (Level C)
SUMMARY:PostgreSQL 18: The Evolution Continues — What’s New This Year (
 Saiprasad  Chakkera)
URL:https://pgconf.org/conferences/postgresconf_2026/program/proposals/2786
END:VEVENT
BEGIN:VEVENT
DTSTAMP:20260424T012749Z
UID:1fd15faa-b660-4349-95fb-0a04cbfdf19b
DTSTART:20260421T230000Z
DTEND:20260421T235000Z
LOCATION:Santa Clara (Level C)
SUMMARY:Migrating Oracle RAC to PostgreSQL Using Ora2Pg (Sri Ram Phani Kira
 n Kadambari and Vivek Singh)
URL:https://pgconf.org/conferences/postgresconf_2026/program/proposals/2769
END:VEVENT
BEGIN:VEVENT
DTSTAMP:20260424T012749Z
UID:36c94e79-0617-4e96-9fe9-89a072faefa2
DTSTART:20260421T230000Z
DTEND:20260421T235000Z
LOCATION:San Pedro (Level C)
SUMMARY:Beyond Text: Building Multimodal Search with pgvector in PostgreSQL
  (Nasiullha Chaudhari)
URL:https://pgconf.org/conferences/postgresconf_2026/program/proposals/2780
END:VEVENT
BEGIN:VEVENT
DTSTAMP:20260424T012749Z
UID:c8d7af46-09f7-4051-a885-304f447c9ddd
DTSTART:20260421T230000Z
DTEND:20260421T235000Z
LOCATION:Winchester 2
SUMMARY:Bringing Simplicity and Efficiency to the Agentic Data Layer with D
 istributed PostgreSQL (Andrew Marshall)
URL:https://pgconf.org/conferences/postgresconf_2026/program/proposals/2833
END:VEVENT
BEGIN:VEVENT
DTSTAMP:20260424T012749Z
UID:7522aaf0-7c23-4570-990a-7ced0d79c056
DTSTART:20260421T230000Z
DTEND:20260421T235000Z
LOCATION:Winchester
SUMMARY:Intel® AVX-512 Accelerates PostgreSQL 18 CRC32C Checksums (Eshe Pi
 ckett and Kelly McKeighan)
URL:https://pgconf.org/conferences/postgresconf_2026/program/proposals/2775
END:VEVENT
BEGIN:VEVENT
DTSTAMP:20260424T012749Z
UID:dea0632d-fc66-497a-9bcb-52ec1fa28908
DTSTART:20260422T153000Z
DTEND:20260422T223000Z
LOCATION:Almaden Foyer
SUMMARY:Registration
URL:https://pgconf.org/conferences/postgresconf_2026/program/proposals/2828
END:VEVENT
BEGIN:VEVENT
DTSTAMP:20260424T012749Z
UID:8f2c30f1-69bd-4053-90c2-c6aaa3e99b35
DTSTART:20260422T170000Z
DTEND:20260422T172000Z
LOCATION:Almaden Ballroom
SUMMARY:Serious Beesness: Life Lessons from the Hive (Ryan Booz)
URL:https://pgconf.org/conferences/postgresconf_2026/program/proposals/2819
END:VEVENT
BEGIN:VEVENT
DTSTAMP:20260424T012749Z
UID:0cc9c95d-9616-4e70-9a36-e6006eaea3ce
DTSTART:20260422T173000Z
DTEND:20260422T175000Z
LOCATION:Almaden Ballroom
SUMMARY:When Trust Becomes Infrastructure: Secure-by-Default Postgres for t
 he AI Era (Dan Lynch)
URL:https://pgconf.org/conferences/postgresconf_2026/program/proposals/2812
END:VEVENT
BEGIN:VEVENT
DTSTAMP:20260424T012749Z
UID:c1c0d3c7-3af4-4187-bf4a-2c410070b50d
DTSTART:20260422T175000Z
DTEND:20260422T181000Z
LOCATION:Almaden Ballroom
SUMMARY:Postgres @ Amazon (Robert Treat)
URL:https://pgconf.org/conferences/postgresconf_2026/program/proposals/2824
END:VEVENT
BEGIN:VEVENT
DTSTAMP:20260424T012749Z
UID:7abf905d-73c6-4b89-a497-d15da6466184
DTSTART:20260422T181000Z
DTEND:20260422T183000Z
LOCATION:Almaden Ballroom
SUMMARY:Postgres and AI - stronger together! (Vikas Arora and Vishal Bagga)
URL:https://pgconf.org/conferences/postgresconf_2026/program/proposals/2840
END:VEVENT
BEGIN:VEVENT
DTSTAMP:20260424T012749Z
UID:82469ef9-f746-4ba0-a739-00006e3e1986
DTSTART:20260422T183000Z
DTEND:20260422T185000Z
LOCATION:Almaden Ballroom
SUMMARY:The Power of the Pause (Megan Darnell)
URL:https://pgconf.org/conferences/postgresconf_2026/program/proposals/2793
END:VEVENT
BEGIN:VEVENT
DTSTAMP:20260424T012749Z
UID:363d5bc4-9563-4e94-aacd-a4e2f443e2a7
DTSTART:20260422T190000Z
DTEND:20260422T200000Z
LOCATION:Almaden Ballroom
SUMMARY:Lunch
URL:https://pgconf.org/conferences/postgresconf_2026/program/proposals/2831
END:VEVENT
BEGIN:VEVENT
DTSTAMP:20260424T012749Z
UID:32093013-abe1-458a-ad43-13dde78d18ba
DTSTART:20260422T194000Z
DTEND:20260423T000000Z
LOCATION:Santa Clara Foyer (Level C)
SUMMARY:Exhibit Hall Open (PostgresConf Organizers)
URL:https://pgconf.org/conferences/postgresconf_2026/program/proposals/2837
END:VEVENT
BEGIN:VEVENT
DTSTAMP:20260424T012749Z
UID:81aff092-41e6-4500-aca2-a9b7948449ea
DTSTART:20260422T200000Z
DTEND:20260422T205000Z
LOCATION:Santa Clara (Level C)
SUMMARY:Logging with Purpose: A Framework for Finding and Fixing Slow Queri
 es in Postgres (Ryan Booz)
URL:https://pgconf.org/conferences/postgresconf_2026/program/proposals/2792
END:VEVENT
BEGIN:VEVENT
DTSTAMP:20260424T012749Z
UID:057728dc-df2c-4bb2-831f-e4ced2ea8d93
DTSTART:20260422T200000Z
DTEND:20260422T205000Z
LOCATION:San Pedro (Level C)
SUMMARY:Beyond vectors: Postgres for Production AI Agents (Gwen Shapira)
URL:https://pgconf.org/conferences/postgresconf_2026/program/proposals/2813
END:VEVENT
BEGIN:VEVENT
DTSTAMP:20260424T012749Z
UID:76ceef34-e315-495f-9aaa-53afff4500d1
DTSTART:20260422T200000Z
DTEND:20260422T230000Z
LOCATION:Winchester 2
SUMMARY:Running PostgreSQL in Kubernetes with CloudNativePG (Danish and Nee
 lkumar Patel)
URL:https://pgconf.org/conferences/postgresconf_2026/program/proposals/2797
END:VEVENT
BEGIN:VEVENT
DTSTAMP:20260424T012749Z
UID:f966b389-1fbe-4fe8-a28e-bec7e13a7c94
DTSTART:20260422T210000Z
DTEND:20260422T215000Z
LOCATION:Winchester
SUMMARY:Stop Guessing: How to Actually Fix PostgreSQL Performance (Anita Si
 ngh and Ranjan Burman)
URL:https://pgconf.org/conferences/postgresconf_2026/program/proposals/2798
END:VEVENT
BEGIN:VEVENT
DTSTAMP:20260424T012749Z
UID:db5daef3-baf4-4608-b29d-a1299683d76d
DTSTART:20260422T210000Z
DTEND:20260422T215000Z
LOCATION:San Pedro (Level C)
SUMMARY:Replacing Oracle’s Advanced Features in PostgreSQL: High Availabi
 lity\, Advanced Functions\, and Extensibility (Sameer Malik and Shayon San
 yal)
URL:https://pgconf.org/conferences/postgresconf_2026/program/proposals/2761
END:VEVENT
BEGIN:VEVENT
DTSTAMP:20260424T012749Z
UID:748fc60c-40e5-4caf-a0da-0f16e6f9dbae
DTSTART:20260422T210000Z
DTEND:20260422T215000Z
LOCATION:Santa Clara (Level C)
SUMMARY:Rewiring for Resilience (Megan Darnell)
URL:https://pgconf.org/conferences/postgresconf_2026/program/proposals/2794
END:VEVENT
BEGIN:VEVENT
DTSTAMP:20260424T012749Z
UID:dac3c6b1-a794-45da-b05e-1cada4eba9a0
DTSTART:20260422T220000Z
DTEND:20260422T225000Z
LOCATION:Winchester
SUMMARY:Parallel query is silently stealing your CPU (Scott Mead)
URL:https://pgconf.org/conferences/postgresconf_2026/program/proposals/2759
END:VEVENT
BEGIN:VEVENT
DTSTAMP:20260424T012749Z
UID:5b087008-5a66-4f54-800f-8e5536141230
DTSTART:20260422T220000Z
DTEND:20260422T225000Z
LOCATION:Santa Clara (Level C)
SUMMARY:Building Multi Master Workflows on PostgreSQL Logical Replication (
 Dr. Ibrar Ahmed)
URL:https://pgconf.org/conferences/postgresconf_2026/program/proposals/2705
END:VEVENT
BEGIN:VEVENT
DTSTAMP:20260424T012749Z
UID:d9ba8108-0a60-4c45-a847-ac09f118fc9e
DTSTART:20260422T220000Z
DTEND:20260422T225000Z
LOCATION:San Pedro (Level C)
SUMMARY:Hybrid Search in PostgreSQL: Combining Vector and Full-Text for Rea
 l-World Applications (Shayon Sanyal and Rinisha Marar)
URL:https://pgconf.org/conferences/postgresconf_2026/program/proposals/2806
END:VEVENT
BEGIN:VEVENT
DTSTAMP:20260424T012749Z
UID:eb63dd2a-ea2b-4b13-b977-bcc4cfd607d5
DTSTART:20260422T230000Z
DTEND:20260422T235000Z
LOCATION:Winchester
SUMMARY:PostgreSQL Housekeeping: The Complete VACUUM Handbook (Sukhpreet Be
 di and Nazneen Jafri)
URL:https://pgconf.org/conferences/postgresconf_2026/program/proposals/2725
END:VEVENT
BEGIN:VEVENT
DTSTAMP:20260424T012749Z
UID:24760cbc-54d8-469a-bdc4-08e1a8487c91
DTSTART:20260422T230000Z
DTEND:20260422T235000Z
LOCATION:Santa Clara (Level C)
SUMMARY:PostgreSQL I/O Mechanisms Performance Comparison (Hunter OBrien)
URL:https://pgconf.org/conferences/postgresconf_2026/program/proposals/2814
END:VEVENT
BEGIN:VEVENT
DTSTAMP:20260424T012749Z
UID:c958a834-ff0a-4d70-9438-88f62977dae5
DTSTART:20260422T231000Z
DTEND:20260423T000000Z
LOCATION:Winchester 2
SUMMARY:Narrating the Distributed Database on PostgreSQL journey (Sameer Ma
 lik and Amit Kumar)
URL:https://pgconf.org/conferences/postgresconf_2026/program/proposals/2760
END:VEVENT
BEGIN:VEVENT
DTSTAMP:20260424T012749Z
UID:5057f0ae-6bb5-48a8-9c7e-24544f6d42ac
DTSTART:20260423T000000Z
DTEND:20260423T020000Z
LOCATION:Patio / Market (Outside Restaurant)
SUMMARY:Welcome Reception
URL:https://pgconf.org/conferences/postgresconf_2026/program/proposals/2826
END:VEVENT
BEGIN:VEVENT
DTSTAMP:20260424T012749Z
UID:5947299e-423d-4521-b7c7-5657ea04203e
DTSTART:20260423T153000Z
DTEND:20260423T223000Z
LOCATION:Almaden Foyer
SUMMARY:Registration
URL:https://pgconf.org/conferences/postgresconf_2026/program/proposals/2827
END:VEVENT
BEGIN:VEVENT
DTSTAMP:20260424T012749Z
UID:0df73aab-28df-4872-aa2a-5762db262cd8
DTSTART:20260423T153000Z
DTEND:20260423T220000Z
LOCATION:Santa Clara Foyer (Level C)
SUMMARY:Exhibit Hall Open (PostgresConf Organizers)
URL:https://pgconf.org/conferences/postgresconf_2026/program/proposals/2838
END:VEVENT
BEGIN:VEVENT
DTSTAMP:20260424T012749Z
UID:f7b6983e-6dcd-44af-98e1-8b66061bdfef
DTSTART:20260423T160000Z
DTEND:20260423T165000Z
LOCATION:Winchester 2
SUMMARY:When AI Agents Write Your Code\, Who Protects Your Database? (Amir 
 More)
URL:https://pgconf.org/conferences/postgresconf_2026/program/proposals/2844
END:VEVENT
BEGIN:VEVENT
DTSTAMP:20260424T012749Z
UID:572fcdf3-8538-4457-8da5-96c5d08ff9b3
DTSTART:20260423T160000Z
DTEND:20260423T165000Z
LOCATION:San Pedro (Level C)
SUMMARY:Technical Credibility Isn’t Enough: Communication Skills Every Se
 nior Engineer Needs to Scale Impact (Monica Rivera)
URL:https://pgconf.org/conferences/postgresconf_2026/program/proposals/2742
END:VEVENT
BEGIN:VEVENT
DTSTAMP:20260424T012749Z
UID:382fcd2d-03ec-4897-815b-e14549d2915e
DTSTART:20260423T160000Z
DTEND:20260423T165000Z
LOCATION:Santa Clara (Level C)
SUMMARY:Demystifying PostgreSQL High Availability in the Cloud: Architectur
 es\, Tradeoffs and Decisions (Arpitha Vasudeva)
URL:https://pgconf.org/conferences/postgresconf_2026/program/proposals/2676
END:VEVENT
BEGIN:VEVENT
DTSTAMP:20260424T012749Z
UID:863a07a5-8cda-45f4-8866-204944f40135
DTSTART:20260423T160000Z
DTEND:20260423T165000Z
LOCATION:Winchester
SUMMARY:Postgres as a Control Plane: Design Patterns for Real-Time Compute 
 Offload (Sweta Vooda)
URL:https://pgconf.org/conferences/postgresconf_2026/program/proposals/2817
END:VEVENT
BEGIN:VEVENT
DTSTAMP:20260424T012749Z
UID:935865b7-fe68-4cc0-97e5-453f2caeebdc
DTSTART:20260423T170000Z
DTEND:20260423T172000Z
LOCATION:Santa Clara (Level C)
SUMMARY:Don’t Standby\, Stand-Up! (Jonah Harris)
URL:https://pgconf.org/conferences/postgresconf_2026/program/proposals/2815
END:VEVENT
BEGIN:VEVENT
DTSTAMP:20260424T012749Z
UID:04d11171-4e05-4c95-a99b-8d589a330324
DTSTART:20260423T170000Z
DTEND:20260423T172000Z
LOCATION:Winchester 2
SUMMARY:Schema-First PostgreSQL Migrations Without a DSL (Greg Potter)
URL:https://pgconf.org/conferences/postgresconf_2026/program/proposals/2763
END:VEVENT
BEGIN:VEVENT
DTSTAMP:20260424T012749Z
UID:4240fcce-6a12-4915-8839-7e189412f159
DTSTART:20260423T170000Z
DTEND:20260423T175000Z
LOCATION:Winchester
SUMMARY:Modular Databases: We Put Postgres in package.json (Dan Lynch)
URL:https://pgconf.org/conferences/postgresconf_2026/program/proposals/2804
END:VEVENT
BEGIN:VEVENT
DTSTAMP:20260424T012749Z
UID:be6e01ef-316c-4d2f-af92-e00fd9402028
DTSTART:20260423T170000Z
DTEND:20260423T175000Z
LOCATION:San Pedro (Level C)
SUMMARY:“Autovacuum Blocked\, Backlogged\, or Slow?! Understanding Why It
  Can’t Keep Up” (Mohamed Ali and BAJI SHAIK)
URL:https://pgconf.org/conferences/postgresconf_2026/program/proposals/2721
END:VEVENT
BEGIN:VEVENT
DTSTAMP:20260424T012749Z
UID:0ce20c75-4953-4f6e-bf83-b100ffbae226
DTSTART:20260423T180000Z
DTEND:20260423T185000Z
LOCATION:San Pedro (Level C)
SUMMARY:AI-Ready Data Architecture (Amit  Parikh)
URL:https://pgconf.org/conferences/postgresconf_2026/program/proposals/2835
END:VEVENT
BEGIN:VEVENT
DTSTAMP:20260424T012749Z
UID:37907dde-cb58-4765-9574-a2dac5ec1031
DTSTART:20260423T180000Z
DTEND:20260423T185000Z
LOCATION:Winchester
SUMMARY:Building an Efficient HTAP Architecture with PostgreSQL and Apache 
 Doris with Native Doris Postgres CDC (Kevin Shen)
URL:https://pgconf.org/conferences/postgresconf_2026/program/proposals/2768
END:VEVENT
BEGIN:VEVENT
DTSTAMP:20260424T012749Z
UID:dda5d8ee-8c4e-46fd-a8c0-f56f4a075e3f
DTSTART:20260423T180000Z
DTEND:20260423T185000Z
LOCATION:Winchester 2
SUMMARY:Database DevOps: CD for Stateful Applications (Stephen Atwell)
URL:https://pgconf.org/conferences/postgresconf_2026/program/proposals/2841
END:VEVENT
BEGIN:VEVENT
DTSTAMP:20260424T012749Z
UID:b31122f6-6090-4e92-86d8-0068a6432384
DTSTART:20260423T190000Z
DTEND:20260423T200000Z
LOCATION:Almaden Ballroom
SUMMARY:Lunch
URL:https://pgconf.org/conferences/postgresconf_2026/program/proposals/2830
END:VEVENT
BEGIN:VEVENT
DTSTAMP:20260424T012749Z
UID:e1766778-426d-464d-97c1-2f9486431437
DTSTART:20260423T200000Z
DTEND:20260423T205000Z
LOCATION:Santa Clara (Level C)
SUMMARY:Autotuning PostgreSQL: A deep dive into server parameter tuning wit
 h agentic AI (Luigi Nardi)
URL:https://pgconf.org/conferences/postgresconf_2026/program/proposals/2805
END:VEVENT
BEGIN:VEVENT
DTSTAMP:20260424T012749Z
UID:69c1c84c-1653-4835-bc04-536d7ebf9238
DTSTART:20260423T200000Z
DTEND:20260423T205000Z
LOCATION:Winchester
SUMMARY:Let’s Build a Postgres Extension! (Shaun Thomas)
URL:https://pgconf.org/conferences/postgresconf_2026/program/proposals/2685
END:VEVENT
BEGIN:VEVENT
DTSTAMP:20260424T012749Z
UID:654c17ed-628f-4835-a907-f1a7b7be7ee2
DTSTART:20260423T200000Z
DTEND:20260423T205000Z
LOCATION:San Pedro (Level C)
SUMMARY:Critical DBA Tasks for Postgresql  (Pat Wright)
URL:https://pgconf.org/conferences/postgresconf_2026/program/proposals/2839
END:VEVENT
BEGIN:VEVENT
DTSTAMP:20260424T012749Z
UID:b45721de-bcbe-4a31-a48e-6ed3467d1770
DTSTART:20260423T210000Z
DTEND:20260423T212000Z
LOCATION:Winchester
SUMMARY:Trust\, But Verify: Operationalizing Data Consistency Checks for Po
 stgres Logical Replication (Mason Sharp)
URL:https://pgconf.org/conferences/postgresconf_2026/program/proposals/2783
END:VEVENT
BEGIN:VEVENT
DTSTAMP:20260424T012749Z
UID:3d437597-2ae4-4322-b278-fea8269e0591
DTSTART:20260423T210000Z
DTEND:20260423T212000Z
LOCATION:Santa Clara (Level C)
SUMMARY:Accelerating PostgreSQL Backups with Intel® QuickAssist Technology
  (Matt Welch)
URL:https://pgconf.org/conferences/postgresconf_2026/program/proposals/2776
END:VEVENT
BEGIN:VEVENT
DTSTAMP:20260424T012749Z
UID:0e2d9b74-833a-4913-ba34-ac94c59a05b7
DTSTART:20260423T210000Z
DTEND:20260423T212000Z
LOCATION:San Pedro (Level C)
SUMMARY:PostgreSQL Statistics Unleashed: Mastering Query Optimization Throu
 gh Data-Driven Insights (Anita Singh and Angel Duenas Neyra)
URL:https://pgconf.org/conferences/postgresconf_2026/program/proposals/2729
END:VEVENT
BEGIN:VEVENT
DTSTAMP:20260424T012749Z
UID:2a48d2fb-a285-44d1-b3ac-dab656a4a0fb
DTSTART:20260423T213000Z
DTEND:20260423T222000Z
LOCATION:Santa Clara (Level C)
SUMMARY:Multigres: One stop PostgreSQL Management and Scaling (Deepthi Sigi
 reddi and Sugu Sougoumarane)
URL:https://pgconf.org/conferences/postgresconf_2026/program/proposals/2801
END:VEVENT
BEGIN:VEVENT
DTSTAMP:20260424T012749Z
UID:595514f7-ba4a-4b91-8bef-e95a4c238fb9
DTSTART:20260423T213000Z
DTEND:20260423T222000Z
LOCATION:San Pedro (Level C)
SUMMARY:Leveraging Open-Source Data Platforms to Build Cost-Effective and R
 eliable Supply Chain Systems (Tim Steward)
URL:https://pgconf.org/conferences/postgresconf_2026/program/proposals/2755
END:VEVENT
BEGIN:VEVENT
DTSTAMP:20260424T012749Z
UID:123f1e11-7688-4a2c-923d-79d58b834065
DTSTART:20260423T213000Z
DTEND:20260423T222000Z
LOCATION:Winchester
SUMMARY:DocumentDB on Postgres: Native BSON\, Vectors\, and Mongo Compatibi
 lity (Hari Krishna Sunder and Nitin Ahuja)
URL:https://pgconf.org/conferences/postgresconf_2026/program/proposals/2724
END:VEVENT
BEGIN:VEVENT
DTSTAMP:20260424T012749Z
UID:657232dc-77ea-48f1-9933-d46dc30b8656
DTSTART:20260423T223000Z
DTEND:20260423T232000Z
LOCATION:Winchester
SUMMARY:Rewriting the Postgres Engine (Jonah Harris)
URL:https://pgconf.org/conferences/postgresconf_2026/program/proposals/2816
END:VEVENT
BEGIN:VEVENT
DTSTAMP:20260424T012749Z
UID:b1f71942-99ae-46db-ad52-6c88ed064fab
DTSTART:20260423T223000Z
DTEND:20260423T232000Z
LOCATION:Santa Clara (Level C)
SUMMARY: Eight Steps to Bullet-Proof Database Disaster Recovery (Dr. Ibrar 
 Ahmed)
URL:https://pgconf.org/conferences/postgresconf_2026/program/proposals/2706
END:VEVENT
BEGIN:VEVENT
DTSTAMP:20260424T012749Z
UID:438c7730-0ef3-459c-a7fa-14571a2a6299
DTSTART:20260423T233000Z
DTEND:20260424T002000Z
LOCATION:Winchester
SUMMARY:Sparse Matrices as a Postgres Type: Inside OneSparse (Michel Pellet
 ier)
URL:https://pgconf.org/conferences/postgresconf_2026/program/proposals/2846
END:VEVENT
END:VCALENDAR
