BEGIN:VCALENDAR
VERSION:2.0
PRODID:Postgres Webinar Series
CALSCALE:GREGORIAN
BEGIN:VEVENT
DTSTAMP:20260423T075553Z
UID:dea4069c-ff6d-48c8-b003-f754fdaefcc3
DTSTART:20200106T110000Z
DTEND:20200106T120000Z
LOCATION:Online
SUMMARY:Getting Started with PostGIS and OpenStreetMap (Ryan Lambert)
URL:https://pgconf.org/conferences/postgres-webinar-series/program/proposal
 s/1412
END:VEVENT
BEGIN:VEVENT
DTSTAMP:20260423T075553Z
UID:4f149e20-4466-4236-a45a-063380df9001
DTSTART:20200114T110000Z
DTEND:20200114T120000Z
LOCATION:Online
SUMMARY:Loading PostGIS with osm2pgsql (Ryan Lambert)
URL:https://pgconf.org/conferences/postgres-webinar-series/program/proposal
 s/1548
END:VEVENT
BEGIN:VEVENT
DTSTAMP:20260423T075553Z
UID:4bbadd5d-7450-409f-bda0-a970d4c46fc9
DTSTART:20200128T110000Z
DTEND:20200128T120000Z
LOCATION:Online
SUMMARY:Exploring OpenStreetMap from PostGIS:  Tools and Queries (Ryan Lam
 bert)
URL:https://pgconf.org/conferences/postgres-webinar-series/program/proposal
 s/1547
END:VEVENT
BEGIN:VEVENT
DTSTAMP:20260423T075553Z
UID:94a1d468-5a18-486e-a8e3-6ad960275ea6
DTSTART:20200211T110000Z
DTEND:20200211T120000Z
LOCATION:Online
SUMMARY:PostGIS Spatial Queries and Performance Tuning (Ryan Lambert)
URL:https://pgconf.org/conferences/postgres-webinar-series/program/proposal
 s/1549
END:VEVENT
BEGIN:VEVENT
DTSTAMP:20260423T075553Z
UID:ee9254d2-c705-46b1-a829-4781a95c8507
DTSTART:20200212T100000Z
DTEND:20200212T110000Z
LOCATION:Online
SUMMARY:Enterprise Authentication and Connection Pooling ( Erik Brandsberg)
URL:https://pgconf.org/conferences/postgres-webinar-series/program/proposal
 s/1552
END:VEVENT
BEGIN:VEVENT
DTSTAMP:20260423T075553Z
UID:b753a448-b94e-4bc7-a45e-96d71d65f1da
DTSTART:20200219T110000Z
DTEND:20200219T120000Z
LOCATION:Online
SUMMARY:FPGA: an Easier Path to Parallelism for Postgres? (Andrew Ellicott 
 and Sebastian Dressler)
URL:https://pgconf.org/conferences/postgres-webinar-series/program/proposal
 s/1555
END:VEVENT
BEGIN:VEVENT
DTSTAMP:20260423T075553Z
UID:8a5df530-6038-475c-bd53-cdd098b8a79c
DTSTART:20200226T110000Z
DTEND:20200226T120000Z
LOCATION:Online
SUMMARY:PostgreSQL 12 and PostGIS 3.0 (Ryan Lambert)
URL:https://pgconf.org/conferences/postgres-webinar-series/program/proposal
 s/1550
END:VEVENT
BEGIN:VEVENT
DTSTAMP:20260423T075553Z
UID:c520e5fa-1850-4e91-9b5a-54c051c0df94
DTSTART:20200303T110000Z
DTEND:20200303T120000Z
LOCATION:Online
SUMMARY:Advanced Operations and Features (Ryan Lambert)
URL:https://pgconf.org/conferences/postgres-webinar-series/program/proposal
 s/1551
END:VEVENT
BEGIN:VEVENT
DTSTAMP:20260423T075553Z
UID:c724cd45-319f-436a-8ba6-d116a5cc12f4
DTSTART:20200415T100000Z
DTEND:20200415T110000Z
LOCATION:Online
SUMMARY:The Architecture of a Geo-Distributed SQL Database (Jim Walker)
URL:https://pgconf.org/conferences/postgres-webinar-series/program/proposal
 s/1580
END:VEVENT
BEGIN:VEVENT
DTSTAMP:20260423T075553Z
UID:510a7f61-9fde-4b6a-a061-c24d021398a1
DTSTART:20200429T100000Z
DTEND:20200429T110000Z
LOCATION:Online
SUMMARY:How to Deploy a SQL Database on Kubernetes (Chris Casano)
URL:https://pgconf.org/conferences/postgres-webinar-series/program/proposal
 s/1581
END:VEVENT
BEGIN:VEVENT
DTSTAMP:20260423T075553Z
UID:b80ea606-12d0-4b24-80dc-d2a4b01f0afc
DTSTART:20200506T190000Z
DTEND:20200506T200000Z
LOCATION:Online
SUMMARY: NORM - Bridging the Gap Between Applications and Databases (Henrie
 tta Dombrovskaya)
URL:https://pgconf.org/conferences/postgres-webinar-series/program/proposal
 s/1585
END:VEVENT
BEGIN:VEVENT
DTSTAMP:20260423T075553Z
UID:3b6d4327-7105-4a4e-b0c7-50cfebd943b2
DTSTART:20200507T100000Z
DTEND:20200507T110000Z
LOCATION:Online
SUMMARY:How to Move Data from Oracle to Postgres in Near-Real Time (Joshua 
 D. Drake and Erez Alsheich)
URL:https://pgconf.org/conferences/postgres-webinar-series/program/proposal
 s/1400
END:VEVENT
BEGIN:VEVENT
DTSTAMP:20260423T075553Z
UID:9abedc19-d508-4fda-9c8b-06af2b3270c2
DTSTART:20200512T100000Z
DTEND:20200512T110000Z
LOCATION:Online
SUMMARY:YugabyteDB: a distributed PostgreSQL database (Bryn Llewellyn)
URL:https://pgconf.org/conferences/postgres-webinar-series/program/proposal
 s/1584
END:VEVENT
BEGIN:VEVENT
DTSTAMP:20260423T075553Z
UID:02f102eb-b10c-4ddd-bfad-d83361dd8e18
DTSTART:20200521T110000Z
DTEND:20200521T120000Z
LOCATION:Online
SUMMARY:A Deep Dive into PostgreSQL Indexing (Dr. Ibrar Ahmed)
URL:https://pgconf.org/conferences/postgres-webinar-series/program/proposal
 s/1587
END:VEVENT
BEGIN:VEVENT
DTSTAMP:20260423T075553Z
UID:86ad7180-7cf5-442f-9223-61dfbacdaddf
DTSTART:20200602T100000Z
DTEND:20200602T110000Z
LOCATION:Online
SUMMARY:How to Move Data from Oracle to Postgres in Near-Real Time (Joshua 
 Drake and Alton Dinsmore)
URL:https://pgconf.org/conferences/postgres-webinar-series/program/proposal
 s/1583
END:VEVENT
BEGIN:VEVENT
DTSTAMP:20260423T075553Z
UID:83544b7f-7a00-4e88-aa6b-b77e64edadb6
DTSTART:20200609T110000Z
DTEND:20200609T120000Z
LOCATION:Online
SUMMARY:Community vs. Enterprise Open Source – Which is Right for Your Bu
 siness? (Justin Reock)
URL:https://pgconf.org/conferences/postgres-webinar-series/program/proposal
 s/1586
END:VEVENT
BEGIN:VEVENT
DTSTAMP:20260423T075553Z
UID:98652cdb-5837-4fb2-8564-ba47c501fe7e
DTSTART:20200610T110000Z
DTEND:20200610T120000Z
LOCATION:Online
SUMMARY:Bring Compression to Postgres at Zero Cost of Performance (Tong Zha
 ng)
URL:https://pgconf.org/conferences/postgres-webinar-series/program/proposal
 s/1590
END:VEVENT
BEGIN:VEVENT
DTSTAMP:20260423T075553Z
UID:105ebb8b-b281-4f00-b862-e866a60e2578
DTSTART:20200616T110000Z
DTEND:20200616T120000Z
LOCATION:Online
SUMMARY:Mostly mistaken and ignored PostgreSQL parameters while optimizing 
 a PostgreSQL database (Avinash Vallarapu)
URL:https://pgconf.org/conferences/postgres-webinar-series/program/proposal
 s/1588
END:VEVENT
BEGIN:VEVENT
DTSTAMP:20260423T075554Z
UID:7d82aa8d-9204-4efe-8be4-bd1796aa6513
DTSTART:20200617T110000Z
DTEND:20200617T120000Z
LOCATION:Online
SUMMARY:Postgres vs. MongoDB for real-time machine learning on wind turbine
  data (Luis Manuel Carril and Michael Tegtmeier)
URL:https://pgconf.org/conferences/postgres-webinar-series/program/proposal
 s/1591
END:VEVENT
BEGIN:VEVENT
DTSTAMP:20260423T075554Z
UID:335a8716-2735-4a36-994d-6d71729d9c70
DTSTART:20200623T100000Z
DTEND:20200623T110000Z
LOCATION:Online
SUMMARY:Turning PostgreSQL into a Cloud Native Data Service (Julian Fischer
 )
URL:https://pgconf.org/conferences/postgres-webinar-series/program/proposal
 s/1594
END:VEVENT
BEGIN:VEVENT
DTSTAMP:20260423T075554Z
UID:958a021f-eee9-45e7-a3f7-787fdf515c8c
DTSTART:20200625T100000Z
DTEND:20200625T110000Z
LOCATION:Online
SUMMARY:Scaling PostgreSQL: Never Shard Again and Gain Effortless Scale (Ji
 m Walker and Chris Casano)
URL:https://pgconf.org/conferences/postgres-webinar-series/program/proposal
 s/1592
END:VEVENT
BEGIN:VEVENT
DTSTAMP:20260423T075554Z
UID:4b948a0e-2323-4040-b715-d514b1f7c624
DTSTART:20200630T110000Z
DTEND:20200630T120000Z
LOCATION:Online
SUMMARY:Deeper Understanding of PostgreSQL Execution Plan: At plan time and
  run time (Jobin Augustine)
URL:https://pgconf.org/conferences/postgres-webinar-series/program/proposal
 s/1589
END:VEVENT
BEGIN:VEVENT
DTSTAMP:20260423T075554Z
UID:8b32e561-3a08-4f71-b4d0-3fb87d3b6b7f
DTSTART:20200707T100000Z
DTEND:20200707T110000Z
LOCATION:Online
SUMMARY:A Deep Dive into PostgreSQL Indexing (Dr. Ibrar Ahmed)
URL:https://pgconf.org/conferences/postgres-webinar-series/program/proposal
 s/1593
END:VEVENT
BEGIN:VEVENT
DTSTAMP:20260423T075554Z
UID:42dfef96-8111-47b3-a193-8f5389a710ee
DTSTART:20200715T100000Z
DTEND:20200715T110000Z
LOCATION:Online
SUMMARY:Working with JSON Data in PostgreSQL vs. MongoDB (dharshan rangegow
 da)
URL:https://pgconf.org/conferences/postgres-webinar-series/program/proposal
 s/1582
END:VEVENT
BEGIN:VEVENT
DTSTAMP:20260423T075554Z
UID:44a5f83a-31ff-45a6-9184-52e3af7ff859
DTSTART:20200729T100000Z
DTEND:20200729T110000Z
LOCATION:Online
SUMMARY:Debugging with PostgreSQL (John Ashmead)
URL:https://pgconf.org/conferences/postgres-webinar-series/program/proposal
 s/1595
END:VEVENT
BEGIN:VEVENT
DTSTAMP:20260423T075554Z
UID:cdf7180b-a056-4e28-a595-8edf73d6e49f
DTSTART:20200909T100000Z
DTEND:20200909T110000Z
LOCATION:Online
SUMMARY:PostgreSQL Parallelism Do’s and Don’ts (Sebastian Dressler)
URL:https://pgconf.org/conferences/postgres-webinar-series/program/proposal
 s/1599
END:VEVENT
BEGIN:VEVENT
DTSTAMP:20260423T075554Z
UID:099dbad2-2c4a-444c-abeb-1fc346f7050d
DTSTART:20200915T100000Z
DTEND:20200915T110000Z
LOCATION:Online
SUMMARY:Monitoring Strategy Considerations (David Orlandi)
URL:https://pgconf.org/conferences/postgres-webinar-series/program/proposal
 s/1603
END:VEVENT
BEGIN:VEVENT
DTSTAMP:20260423T075554Z
UID:006fb759-c400-49bd-9e29-1b7522c2e41d
DTSTART:20200916T100000Z
DTEND:20200916T110000Z
LOCATION:Online
SUMMARY:How To Query Against Multiple Postgres Instances As If They're One 
 Server Using Starburst Presto (Randy Chertkow)
URL:https://pgconf.org/conferences/postgres-webinar-series/program/proposal
 s/1604
END:VEVENT
BEGIN:VEVENT
DTSTAMP:20260423T075554Z
UID:1c066908-fe81-4b8c-80c7-dfc8190b3732
DTSTART:20200929T100000Z
DTEND:20200929T110000Z
LOCATION:Online
SUMMARY:Introduction to PostgreSQL ColumnStore Indexes (Sebastian Dressler)
URL:https://pgconf.org/conferences/postgres-webinar-series/program/proposal
 s/1600
END:VEVENT
BEGIN:VEVENT
DTSTAMP:20260423T075554Z
UID:4ea0c70c-a16b-4449-9730-6e3669ab916a
DTSTART:20200930T100000Z
DTEND:20200930T110000Z
LOCATION:Online
SUMMARY:Live Demo: Creating A Single Point Of Access To Multiple Postgres S
 ervers Using Starburst Presto (Randy Chertkow)
URL:https://pgconf.org/conferences/postgres-webinar-series/program/proposal
 s/1605
END:VEVENT
BEGIN:VEVENT
DTSTAMP:20260423T075554Z
UID:f68a92ab-a50f-4fe8-ba51-a409bcebaf23
DTSTART:20201006T090000Z
DTEND:20201006T100000Z
LOCATION:Online
SUMMARY:Data processing more than billion rows per second (Kohei KaiGai)
URL:https://pgconf.org/conferences/postgres-webinar-series/program/proposal
 s/1611
END:VEVENT
BEGIN:VEVENT
DTSTAMP:20260423T075554Z
UID:cb3e62d3-4380-4316-a3de-2e0241dc7b2f
DTSTART:20201007T100000Z
DTEND:20201007T110000Z
LOCATION:Online
SUMMARY:Database Isolation Levels\, Data Issues and Global Transaction Cons
 istency (Jim Walker and Chris Casano)
URL:https://pgconf.org/conferences/postgres-webinar-series/program/proposal
 s/1614
END:VEVENT
BEGIN:VEVENT
DTSTAMP:20260423T075554Z
UID:f8617bef-c20e-4c7f-ace1-7d0ae0e69617
DTSTART:20201020T100000Z
DTEND:20201020T110000Z
LOCATION:Online
SUMMARY:PGX:  Build Postgres Extensions with Rust (Eric Ridge)
URL:https://pgconf.org/conferences/postgres-webinar-series/program/proposal
 s/1613
END:VEVENT
BEGIN:VEVENT
DTSTAMP:20260423T075554Z
UID:ad6df66c-7781-4624-8f61-c5bb3e6b05c5
DTSTART:20201021T100000Z
DTEND:20201021T110000Z
LOCATION:Online
SUMMARY:Using PostgreSQL and Friends for a Street Sweeping Solver Project (
 James E. Marca)
URL:https://pgconf.org/conferences/postgres-webinar-series/program/proposal
 s/1612
END:VEVENT
BEGIN:VEVENT
DTSTAMP:20260423T075554Z
UID:ee1ee394-6ebf-420a-8538-70c7ea51bb63
DTSTART:20201027T100000Z
DTEND:20201027T110000Z
LOCATION:Online
SUMMARY:Logical Replication lessons learned for the Data Warehouse (Pat Wri
 ght)
URL:https://pgconf.org/conferences/postgres-webinar-series/program/proposal
 s/1609
END:VEVENT
BEGIN:VEVENT
DTSTAMP:20260423T075554Z
UID:334b63ab-415d-4845-ac70-1664c7813a36
DTSTART:20201028T100000Z
DTEND:20201028T110000Z
LOCATION:Online
SUMMARY:How to build local communities: a meetup perspective (Henrietta Dom
 brovskaya)
URL:https://pgconf.org/conferences/postgres-webinar-series/program/proposal
 s/1616
END:VEVENT
BEGIN:VEVENT
DTSTAMP:20260423T075554Z
UID:e7fbe72e-4172-46f3-aad2-d38736a55ee0
DTSTART:20201105T100000Z
DTEND:20201105T110000Z
LOCATION:Online
SUMMARY:All about PostgreSQL Security (Dr. Ibrar Ahmed)
URL:https://pgconf.org/conferences/postgres-webinar-series/program/proposal
 s/1654
END:VEVENT
BEGIN:VEVENT
DTSTAMP:20260423T075554Z
UID:33298d50-693b-4aa3-aedf-7aab3b457452
DTSTART:20201110T180000Z
DTEND:20201110T190000Z
LOCATION:Online
SUMMARY:CYPEX: Revolutionizing PostgreSQL Application Development (Hans-Jü
 rgen Schönig)
URL:https://pgconf.org/conferences/postgres-webinar-series/program/proposal
 s/1615
END:VEVENT
END:VCALENDAR
