BEGIN:VCALENDAR
VERSION:2.0
PRODID:PgSaturday: Dallas 2025
CALSCALE:GREGORIAN
BEGIN:VEVENT
DTSTAMP:20260423T162159Z
UID:e6287301-5d45-4b06-aca6-1b695202d544
DTSTART:20250405T141000Z
DTEND:20250405T143000Z
LOCATION:73
SUMMARY:PgSaturday Dallas Launch! (PostgresConf Organizers)
URL:https://pgconf.org/conferences/pgsaturday_dallas_2025/program/proposals
 /2625
END:VEVENT
BEGIN:VEVENT
DTSTAMP:20260423T162159Z
UID:16702ab2-0160-4bca-acc0-7c1984ae5c44
DTSTART:20250405T144000Z
DTEND:20250405T153000Z
LOCATION:73
SUMMARY:Azure PostgreSQL Flexible Server (Luciano Moreira and Paula Berengu
 el)
URL:https://pgconf.org/conferences/pgsaturday_dallas_2025/program/proposals
 /2618
END:VEVENT
BEGIN:VEVENT
DTSTAMP:20260423T162159Z
UID:76149f8b-caf6-4e2e-81ed-1f841d0bce2b
DTSTART:20250405T154000Z
DTEND:20250405T160000Z
LOCATION:73
SUMMARY:Pub/Sub for Tables: A New Approach to PostgreSQL Data Integration (
  Shubham Gupta)
URL:https://pgconf.org/conferences/pgsaturday_dallas_2025/program/proposals
 /2626
END:VEVENT
BEGIN:VEVENT
DTSTAMP:20260423T162159Z
UID:7b2b731b-4e7a-4740-b10f-882de234b9ae
DTSTART:20250405T161000Z
DTEND:20250405T170000Z
LOCATION:73
SUMMARY:Just use postgres: why I built an enterprise scheduler in a stored 
 procedure (Merlin Moncure)
URL:https://pgconf.org/conferences/pgsaturday_dallas_2025/program/proposals
 /2623
END:VEVENT
BEGIN:VEVENT
DTSTAMP:20260423T162159Z
UID:c7e18f2a-c775-4553-b72f-49f6ebf2c6a6
DTSTART:20250405T171000Z
DTEND:20250405T173000Z
LOCATION:73
SUMMARY:Revolutionizing Backups (Veena Popuri)
URL:https://pgconf.org/conferences/pgsaturday_dallas_2025/program/proposals
 /2570
END:VEVENT
BEGIN:VEVENT
DTSTAMP:20260423T162159Z
UID:44a9a30c-9e91-45e6-a0d0-74d3b3721aee
DTSTART:20250405T173000Z
DTEND:20250405T190000Z
LOCATION:73
SUMMARY:Lunch
URL:https://pgconf.org/conferences/pgsaturday_dallas_2025/program/proposals
 /2628
END:VEVENT
BEGIN:VEVENT
DTSTAMP:20260423T162159Z
UID:feec9472-86fd-4cf4-835a-4d0656f69c30
DTSTART:20250405T190000Z
DTEND:20250405T195000Z
LOCATION:73
SUMMARY:PostgreSQL 17 & 18: The Ground-Breaking Features You Can't Ignore (
 Vivek Singh)
URL:https://pgconf.org/conferences/pgsaturday_dallas_2025/program/proposals
 /2583
END:VEVENT
BEGIN:VEVENT
DTSTAMP:20260423T162159Z
UID:020b98f0-b6cb-4794-9c48-91792c11e7dc
DTSTART:20250405T200000Z
DTEND:20250405T205000Z
LOCATION:73
SUMMARY:Why PostgreSQL Isn't Utilizing Indexes: Diagnosing and Solving Perf
 ormance Issues (Chandra Pathivada)
URL:https://pgconf.org/conferences/pgsaturday_dallas_2025/program/proposals
 /2576
END:VEVENT
BEGIN:VEVENT
DTSTAMP:20260423T162159Z
UID:4f019d57-aae8-469c-9b9b-72eff1f85f48
DTSTART:20250405T210000Z
DTEND:20250405T212000Z
LOCATION:73
SUMMARY:Exploring Multi-Tenant Architectures in PostgreSQL: Scalable Soluti
 ons for SaaS Applications (Krishna Sarabu)
URL:https://pgconf.org/conferences/pgsaturday_dallas_2025/program/proposals
 /2482
END:VEVENT
BEGIN:VEVENT
DTSTAMP:20260423T162159Z
UID:5b86429e-23b6-4660-8964-bbea756578f5
DTSTART:20250405T213000Z
DTEND:20250405T222000Z
LOCATION:73
SUMMARY:Seamless Transition: Migrating from Commercial to Open Source Datab
 ases (Minesh Chande and Alvaro Costa-Neto)
URL:https://pgconf.org/conferences/pgsaturday_dallas_2025/program/proposals
 /2593
END:VEVENT
END:VCALENDAR
