BEGIN:VCALENDAR
VERSION:2.0
PRODID:Mini NYC 2019
CALSCALE:GREGORIAN
BEGIN:VEVENT
DTSTAMP:20260423T075448Z
UID:840860f4-e363-40cf-acf7-9a13a7ece5fe
DTSTART:20191024T182000Z
DTEND:20191024T191000Z
LOCATION:3rd Floor
SUMMARY:Machine monitoring goes open source: Leveraging Industrial IoT data
  with Timescale ( Mario Ishikawa)
URL:https://pgconf.org/conferences/mini-postgres-nyc-2019/program/proposals
 /1380
END:VEVENT
BEGIN:VEVENT
DTSTAMP:20260423T075448Z
UID:1bf71ecf-7d66-462b-bb4d-faf383f817b0
DTSTART:20191024T191000Z
DTEND:20191024T200000Z
LOCATION:3rd Floor
SUMMARY:Postgresql V12: Features and Migration Considerations (Joshua D. Dr
 ake)
URL:https://pgconf.org/conferences/mini-postgres-nyc-2019/program/proposals
 /1379
END:VEVENT
BEGIN:VEVENT
DTSTAMP:20260423T075448Z
UID:37ce5d2e-c280-49cb-a449-6c842f2fe924
DTSTART:20191024T202000Z
DTEND:20191024T211000Z
LOCATION:3rd Floor
SUMMARY:Advanced compression in TimescaleDB with hybrid row/columnar storag
 e (David Kohn)
URL:https://pgconf.org/conferences/mini-postgres-nyc-2019/program/proposals
 /1381
END:VEVENT
END:VCALENDAR
