BEGIN:VCALENDAR
VERSION:2.0
PRODID:PGConf US Mini: NYC 2017 [PgConf.US]
CALSCALE:GREGORIAN
BEGIN:VEVENT
DTSTAMP:20260423T075931Z
UID:cdf6e86b-0692-4e76-af81-655ed54339f7
DTSTART:20170914T131000Z
DTEND:20170914T140000Z
LOCATION:16th Floor
SUMMARY:Major Features: Postgres 10 (Bruce Momjian)
URL:https://pgconf.org/conferences/USNYCMini2017/program/proposals/742
END:VEVENT
END:VCALENDAR
