BEGIN:VCALENDAR
VERSION:2.0
PRODID:South Africa 2021
CALSCALE:GREGORIAN
BEGIN:VEVENT
DTSTAMP:20260423T080234Z
UID:8ff947b6-33c5-4256-b2c5-f8d010c12c51
DTSTART:20211005T070000Z
DTEND:20211005T071000Z
LOCATION:Online
SUMMARY:Opening & Welcome
URL:https://pgconf.org/conferences/SouthAfrica2021/program/proposals/1854
END:VEVENT
BEGIN:VEVENT
DTSTAMP:20260423T080234Z
UID:38b918d5-9c18-453f-a338-23e19bf488aa
DTSTART:20211005T072000Z
DTEND:20211005T080000Z
LOCATION:Online
SUMMARY:Riding the second wave (Jan Karremans)
URL:https://pgconf.org/conferences/SouthAfrica2021/program/proposals/1801
END:VEVENT
BEGIN:VEVENT
DTSTAMP:20260423T080234Z
UID:674d9c9f-8e77-45f7-922a-4a47ed46d7f4
DTSTART:20211005T081000Z
DTEND:20211005T085000Z
LOCATION:Online
SUMMARY:Reducing Costs and Improving Performance With Data Modeling in Post
 gres (Charly Batista)
URL:https://pgconf.org/conferences/SouthAfrica2021/program/proposals/1808
END:VEVENT
BEGIN:VEVENT
DTSTAMP:20260423T080234Z
UID:353195dc-51ed-4a0d-916a-22cee434d214
DTSTART:20211005T090000Z
DTEND:20211005T094000Z
LOCATION:Online
SUMMARY:pg_timetable: PostgreSQL scheduling done right (Hans-Jürgen Schön
 ig)
URL:https://pgconf.org/conferences/SouthAfrica2021/program/proposals/1830
END:VEVENT
BEGIN:VEVENT
DTSTAMP:20260423T080234Z
UID:088049b0-487f-441e-b192-2bc666feff1e
DTSTART:20211005T095000Z
DTEND:20211005T103000Z
LOCATION:Online
SUMMARY:Modularizing computation via Common Table Expressions (CTEs) (Karel
  van der Walt)
URL:https://pgconf.org/conferences/SouthAfrica2021/program/proposals/1823
END:VEVENT
BEGIN:VEVENT
DTSTAMP:20260423T080234Z
UID:2db928a5-ade6-4124-a7f1-dd83c1188aac
DTSTART:20211005T103000Z
DTEND:20211005T113000Z
LOCATION:Online
SUMMARY:Lunch break
URL:https://pgconf.org/conferences/SouthAfrica2021/program/proposals/1853
END:VEVENT
BEGIN:VEVENT
DTSTAMP:20260423T080234Z
UID:9a387890-8318-4d7a-adcb-c80b0e0908b7
DTSTART:20211005T113000Z
DTEND:20211005T121000Z
LOCATION:Online
SUMMARY:When it all GOes right (Pavlo Golub)
URL:https://pgconf.org/conferences/SouthAfrica2021/program/proposals/1833
END:VEVENT
BEGIN:VEVENT
DTSTAMP:20260423T080234Z
UID:fa31abfc-9a84-49e8-9699-ca973cc5c6a5
DTSTART:20211005T122000Z
DTEND:20211005T130000Z
LOCATION:Online
SUMMARY:Benefit of adopting Kubernetes for self-hosted PostgreSQL stack (Ri
 zky Maulana Nugraha)
URL:https://pgconf.org/conferences/SouthAfrica2021/program/proposals/1846
END:VEVENT
BEGIN:VEVENT
DTSTAMP:20260423T080234Z
UID:2e08f553-0b49-485b-ae27-1b9cbe04f4d9
DTSTART:20211005T131000Z
DTEND:20211005T135000Z
LOCATION:Online
SUMMARY:Routing with PostGIS and OpenStreetMap (Ryan Lambert)
URL:https://pgconf.org/conferences/SouthAfrica2021/program/proposals/1852
END:VEVENT
BEGIN:VEVENT
DTSTAMP:20260423T080234Z
UID:f752384b-4e5b-4695-918f-0cf1f2a3903b
DTSTART:20211005T135000Z
DTEND:20211005T140000Z
LOCATION:Online
SUMMARY:Closing
URL:https://pgconf.org/conferences/SouthAfrica2021/program/proposals/1855
END:VEVENT
END:VCALENDAR
