BEGIN:VCALENDAR
VERSION:2.0
PRODID:South Africa 2018
CALSCALE:GREGORIAN
BEGIN:VEVENT
DTSTAMP:20260423T080836Z
UID:c4984db5-5e49-492e-b1f9-2e3cd97b46aa
DTSTART:20181009T060000Z
DTEND:20181009T070000Z
LOCATION:Courtyard/Boma
SUMMARY:Registration
URL:https://pgconf.org/conferences/SouthAfrica2018/program/proposals/798
END:VEVENT
BEGIN:VEVENT
DTSTAMP:20260423T080836Z
UID:de8c6be9-2d07-4be2-9fee-8b9ac231af80
DTSTART:20181009T070000Z
DTEND:20181009T072000Z
LOCATION:Baobab
SUMMARY:Opening
URL:https://pgconf.org/conferences/SouthAfrica2018/program/proposals/800
END:VEVENT
BEGIN:VEVENT
DTSTAMP:20260423T080836Z
UID:11dc1911-d642-4179-a624-0c81367ae09a
DTSTART:20181009T072000Z
DTEND:20181009T080000Z
LOCATION:Baobab
SUMMARY:Face recognition and PostgreSQL (Kobus Wolvaardt)
URL:https://pgconf.org/conferences/SouthAfrica2018/program/proposals/794
END:VEVENT
BEGIN:VEVENT
DTSTAMP:20260423T080836Z
UID:7509bd97-3a9f-4995-8adf-bde7b003eede
DTSTART:20181009T080000Z
DTEND:20181009T083000Z
LOCATION:Courtyard/Boma
SUMMARY:Morning coffee
URL:https://pgconf.org/conferences/SouthAfrica2018/program/proposals/795
END:VEVENT
BEGIN:VEVENT
DTSTAMP:20260423T080836Z
UID:1fc5ca5d-6a91-470c-9ccf-93232fdfa8b1
DTSTART:20181009T083000Z
DTEND:20181009T091000Z
LOCATION:Baobab
SUMMARY:Wait Events in PostgreSQL (David Wein)
URL:https://pgconf.org/conferences/SouthAfrica2018/program/proposals/779
END:VEVENT
BEGIN:VEVENT
DTSTAMP:20260423T080836Z
UID:290ed8ce-fef4-412a-81eb-e8a7fbc30cd3
DTSTART:20181009T083000Z
DTEND:20181009T091000Z
LOCATION:Cedarwood
SUMMARY:Using ZFS (on Linux) with PostgreSQL (Hendrik Visage)
URL:https://pgconf.org/conferences/SouthAfrica2018/program/proposals/292
END:VEVENT
BEGIN:VEVENT
DTSTAMP:20260423T080836Z
UID:26bfcd4c-4325-419f-9aaf-8af5d6e2c785
DTSTART:20181009T083000Z
DTEND:20181009T085000Z
LOCATION:Yellowwood
SUMMARY:PostgreSQL resources for new team members (Johan Zietsman)
URL:https://pgconf.org/conferences/SouthAfrica2018/program/proposals/770
END:VEVENT
BEGIN:VEVENT
DTSTAMP:20260423T080836Z
UID:33b7d938-1994-43e7-9603-638e05fbd643
DTSTART:20181009T085000Z
DTEND:20181009T091000Z
LOCATION:Yellowwood
SUMMARY:Enhance your psql client experience (Nico Schlebusch)
URL:https://pgconf.org/conferences/SouthAfrica2018/program/proposals/781
END:VEVENT
BEGIN:VEVENT
DTSTAMP:20260423T080836Z
UID:cb7272ef-a5ee-453e-b7f7-92abfbc71d30
DTSTART:20181009T092000Z
DTEND:20181009T100000Z
LOCATION:Cedarwood
SUMMARY:PostgreSQL administration with Ansible (Johan Zietsman)
URL:https://pgconf.org/conferences/SouthAfrica2018/program/proposals/780
END:VEVENT
BEGIN:VEVENT
DTSTAMP:20260423T080836Z
UID:98b6f7c8-d9e2-4a1b-ac9a-183fe1cbfae8
DTSTART:20181009T092000Z
DTEND:20181009T100000Z
LOCATION:Baobab
SUMMARY:Window Functions (Willem Booysen)
URL:https://pgconf.org/conferences/SouthAfrica2018/program/proposals/294
END:VEVENT
BEGIN:VEVENT
DTSTAMP:20260423T080836Z
UID:1c1e8d50-e715-4a56-8fa6-5f6302b8adf9
DTSTART:20181009T092000Z
DTEND:20181009T100000Z
LOCATION:Yellowwood
SUMMARY:Introduction to PostGIS (Mureithi Runji)
URL:https://pgconf.org/conferences/SouthAfrica2018/program/proposals/772
END:VEVENT
BEGIN:VEVENT
DTSTAMP:20260423T080836Z
UID:062fa219-9afa-42fc-8d31-0291a9795ea7
DTSTART:20181009T100000Z
DTEND:20181009T110000Z
LOCATION:Courtyard/Boma
SUMMARY:Lunch
URL:https://pgconf.org/conferences/SouthAfrica2018/program/proposals/797
END:VEVENT
BEGIN:VEVENT
DTSTAMP:20260423T080836Z
UID:6a8922a1-bb86-40fc-973a-868d2fe78c62
DTSTART:20181009T110000Z
DTEND:20181009T114000Z
LOCATION:Cedarwood
SUMMARY:Constraints in PostgreSQL (George Nel)
URL:https://pgconf.org/conferences/SouthAfrica2018/program/proposals/777
END:VEVENT
BEGIN:VEVENT
DTSTAMP:20260423T080836Z
UID:f48c759f-248f-4a04-9d43-740c6664ec37
DTSTART:20181009T110000Z
DTEND:20181009T114000Z
LOCATION:Yellowwood
SUMMARY:All the dirt on VACUUM (David Wein)
URL:https://pgconf.org/conferences/SouthAfrica2018/program/proposals/778
END:VEVENT
BEGIN:VEVENT
DTSTAMP:20260423T080836Z
UID:41e89217-b711-4fab-b70e-5572666a9ce3
DTSTART:20181009T110000Z
DTEND:20181009T114000Z
LOCATION:Baobab
SUMMARY:Big Data Machine Learning in SQL for Developers (Helge Reikeras)
URL:https://pgconf.org/conferences/SouthAfrica2018/program/proposals/879
END:VEVENT
BEGIN:VEVENT
DTSTAMP:20260423T080836Z
UID:024a68ba-5681-4b8a-b8fd-95f44f31c684
DTSTART:20181009T115000Z
DTEND:20181009T123000Z
LOCATION:Cedarwood
SUMMARY:Row Level Security (Bennie Swart)
URL:https://pgconf.org/conferences/SouthAfrica2018/program/proposals/791
END:VEVENT
BEGIN:VEVENT
DTSTAMP:20260423T080836Z
UID:affe3138-ab62-4738-98fc-f46422b0030d
DTSTART:20181009T115000Z
DTEND:20181009T123000Z
LOCATION:Yellowwood
SUMMARY:Introduction to CTEs (Terence Zekveld)
URL:https://pgconf.org/conferences/SouthAfrica2018/program/proposals/769
END:VEVENT
BEGIN:VEVENT
DTSTAMP:20260423T080836Z
UID:f5e8c8a0-4815-4bd6-8fb2-d027bf27cc64
DTSTART:20181009T115000Z
DTEND:20181009T123000Z
LOCATION:Baobab
SUMMARY:A talk about indexes (Malcolm McLean)
URL:https://pgconf.org/conferences/SouthAfrica2018/program/proposals/297
END:VEVENT
BEGIN:VEVENT
DTSTAMP:20260423T080836Z
UID:1ae7ff1e-a9f9-4834-a155-bed8159b6e78
DTSTART:20181009T123000Z
DTEND:20181009T130000Z
LOCATION:Courtyard/Boma
SUMMARY:Afternoon coffee
URL:https://pgconf.org/conferences/SouthAfrica2018/program/proposals/796
END:VEVENT
BEGIN:VEVENT
DTSTAMP:20260423T080836Z
UID:b32877e8-32c2-4638-8f5c-60c840f3165a
DTSTART:20181009T130000Z
DTEND:20181009T134000Z
LOCATION:Yellowwood
SUMMARY:Azure Database for PostgreSQL Technical Overview (Donovan White)
URL:https://pgconf.org/conferences/SouthAfrica2018/program/proposals/883
END:VEVENT
BEGIN:VEVENT
DTSTAMP:20260423T080836Z
UID:42e014e1-eded-48ca-8cb0-30178f84123e
DTSTART:20181009T130000Z
DTEND:20181009T134000Z
LOCATION:Baobab
SUMMARY:PostgreSQL replication by example (Kobus Wolvaardt)
URL:https://pgconf.org/conferences/SouthAfrica2018/program/proposals/775
END:VEVENT
BEGIN:VEVENT
DTSTAMP:20260423T080836Z
UID:39058402-1e92-4ba2-ba0c-036842ef9e5b
DTSTART:20181009T130000Z
DTEND:20181009T134000Z
LOCATION:Cedarwood
SUMMARY:JSONB functions\, operators and use cases (Jacques Combrink)
URL:https://pgconf.org/conferences/SouthAfrica2018/program/proposals/790
END:VEVENT
BEGIN:VEVENT
DTSTAMP:20260423T080836Z
UID:98e77903-dc55-4a97-8cbe-ccbcaf582fbf
DTSTART:20181009T135000Z
DTEND:20181009T143000Z
LOCATION:Baobab
SUMMARY:Migrating away from Oracle to PostgreSQL (Abhinav Singh)
URL:https://pgconf.org/conferences/SouthAfrica2018/program/proposals/881
END:VEVENT
BEGIN:VEVENT
DTSTAMP:20260423T080836Z
UID:9c19e921-043a-4f88-9b02-68fa9efab3b9
DTSTART:20181009T135000Z
DTEND:20181009T143000Z
LOCATION:Cedarwood
SUMMARY:Asynchronous code with PostgreSQL (Christo Goosen)
URL:https://pgconf.org/conferences/SouthAfrica2018/program/proposals/773
END:VEVENT
BEGIN:VEVENT
DTSTAMP:20260423T080836Z
UID:d56f6e8f-e39b-4652-9bbf-0b1799147b20
DTSTART:20181009T144000Z
DTEND:20181009T151000Z
LOCATION:Baobab
SUMMARY:Panel discussion and Closing
URL:https://pgconf.org/conferences/SouthAfrica2018/program/proposals/799
END:VEVENT
BEGIN:VEVENT
DTSTAMP:20260423T080836Z
UID:2e236296-908b-477e-95f5-035e4dee607e
DTSTART:20181010T060000Z
DTEND:20181010T070000Z
LOCATION:Courtyard/Boma
SUMMARY:Registration
URL:https://pgconf.org/conferences/SouthAfrica2018/program/proposals/829
END:VEVENT
BEGIN:VEVENT
DTSTAMP:20260423T080836Z
UID:8b39e117-c904-4ecf-874e-5496e6f0f543
DTSTART:20181010T070000Z
DTEND:20181010T100000Z
LOCATION:Cypress
SUMMARY:ZFS in practice for SysAdmin & DBA (Hendrik Visage)
URL:https://pgconf.org/conferences/SouthAfrica2018/program/proposals/832
END:VEVENT
BEGIN:VEVENT
DTSTAMP:20260423T080836Z
UID:44bec7bb-5042-41f5-be99-f458d5f737b4
DTSTART:20181010T100000Z
DTEND:20181010T110000Z
LOCATION:Courtyard/Boma
SUMMARY:Lunch
URL:https://pgconf.org/conferences/SouthAfrica2018/program/proposals/828
END:VEVENT
BEGIN:VEVENT
DTSTAMP:20260423T080836Z
UID:ccd2ef5e-c950-4507-92b8-b026176f5321
DTSTART:20181010T110000Z
DTEND:20181010T140000Z
LOCATION:Cypress
SUMMARY:Performance tuning PostgreSQL (Malcolm McLean and Kobus Wolvaardt)
URL:https://pgconf.org/conferences/SouthAfrica2018/program/proposals/768
END:VEVENT
END:VCALENDAR
