BEGIN:VCALENDAR
VERSION:2.0
PRODID:Silicon Valley
CALSCALE:GREGORIAN
BEGIN:VEVENT
DTSTAMP:20260423T115431Z
UID:e88fb671-afc1-43d3-90f4-e40d18fd22b1
DTSTART:20181015T150000Z
DTEND:20181015T160000Z
LOCATION:Ballroom
SUMMARY:Registration
URL:https://pgconf.org/conferences/SiliconValley2018/program/proposals/895
END:VEVENT
BEGIN:VEVENT
DTSTAMP:20260423T115431Z
UID:899fe864-0971-40ec-bccd-ab0a20a6976a
DTSTART:20181015T153000Z
DTEND:20181015T155000Z
LOCATION:Ballroom
SUMMARY:Monday Morning Break (PostgresConf Organizers)
URL:https://pgconf.org/conferences/SiliconValley2018/program/proposals/892
END:VEVENT
BEGIN:VEVENT
DTSTAMP:20260423T115431Z
UID:d42b0956-0e52-49af-8ae3-91d474e82738
DTSTART:20181015T160000Z
DTEND:20181015T162000Z
LOCATION:Ballroom
SUMMARY:Massively Parallel PostgreSQL For Analytics (Tushar Pednekar)
URL:https://pgconf.org/conferences/SiliconValley2018/program/proposals/864
END:VEVENT
BEGIN:VEVENT
DTSTAMP:20260423T115431Z
UID:457124fb-5562-4812-aa9b-daad89586848
DTSTART:20181015T162000Z
DTEND:20181015T164000Z
LOCATION:Ballroom
SUMMARY:Update on Microsoft’s learning and progress on supporting Postgre
 SQL as a fully managed service on Azure (Sunil Kamath)
URL:https://pgconf.org/conferences/SiliconValley2018/program/proposals/876
END:VEVENT
BEGIN:VEVENT
DTSTAMP:20260423T115431Z
UID:1919de9b-a29c-49bf-a2b1-052aa9b6fd9b
DTSTART:20181015T164000Z
DTEND:20181015T170000Z
LOCATION:Ballroom
SUMMARY:What's new in Postgres 11 ( Tom Kincaid)
URL:https://pgconf.org/conferences/SiliconValley2018/program/proposals/848
END:VEVENT
BEGIN:VEVENT
DTSTAMP:20260423T115431Z
UID:0935c368-2970-4efc-9f95-38ede311fc37
DTSTART:20181015T171000Z
DTEND:20181015T180000Z
LOCATION:Ballroom
SUMMARY:Helping to Solve World Hunger through AgensGraph (Joshua Bae)
URL:https://pgconf.org/conferences/SiliconValley2018/program/proposals/885
END:VEVENT
BEGIN:VEVENT
DTSTAMP:20260423T115431Z
UID:d7956282-a601-4b22-a82b-d9807589dbba
DTSTART:20181015T171000Z
DTEND:20181015T180000Z
LOCATION:Winchester 1
SUMMARY:Best Practices for Running Postgres in Kubernetes (Jeff Silberman)
URL:https://pgconf.org/conferences/SiliconValley2018/program/proposals/819
END:VEVENT
BEGIN:VEVENT
DTSTAMP:20260423T115431Z
UID:b05eea48-1a1f-4746-845d-13afe148de86
DTSTART:20181015T171000Z
DTEND:20181015T180000Z
LOCATION:Winchester 2
SUMMARY:Data Integrity at Scale - lessons learned building Google Cloud SQL
  (Alexis Guajardo and Brett Hesterberg)
URL:https://pgconf.org/conferences/SiliconValley2018/program/proposals/776
END:VEVENT
BEGIN:VEVENT
DTSTAMP:20260423T115431Z
UID:a958e6e7-a95b-4104-87eb-a633dd1e7b4c
DTSTART:20181015T171000Z
DTEND:20181015T180000Z
LOCATION:Market
SUMMARY:I Didn't Know Postgres Could Do That! (Robert Treat)
URL:https://pgconf.org/conferences/SiliconValley2018/program/proposals/860
END:VEVENT
BEGIN:VEVENT
DTSTAMP:20260423T115431Z
UID:ab4fafb7-c5ce-4fa6-9a47-e95aca3759ce
DTSTART:20181015T181000Z
DTEND:20181015T190000Z
LOCATION:Winchester 1
SUMMARY:Improve Database Warehouse Performance 100x with a Database Proxy  
 (Lee Roland)
URL:https://pgconf.org/conferences/SiliconValley2018/program/proposals/830
END:VEVENT
BEGIN:VEVENT
DTSTAMP:20260423T115431Z
UID:04aad3a8-d411-4712-915d-5eb14cbe2fe7
DTSTART:20181015T181000Z
DTEND:20181015T183000Z
LOCATION:Winchester 2
SUMMARY:Postgres as a foundation for an operations data-science platform (M
 aryam  Sanglaji and Mark Chamness)
URL:https://pgconf.org/conferences/SiliconValley2018/program/proposals/809
END:VEVENT
BEGIN:VEVENT
DTSTAMP:20260423T115431Z
UID:8137cb00-8a09-4d86-b16c-3e6cfe142a66
DTSTART:20181015T181000Z
DTEND:20181015T183000Z
LOCATION:Market
SUMMARY:How to run Stateful application on EC2 Spot Instances (Amiram Shach
 ar)
URL:https://pgconf.org/conferences/SiliconValley2018/program/proposals/820
END:VEVENT
BEGIN:VEVENT
DTSTAMP:20260423T115431Z
UID:6763c790-c1e1-4517-8d48-6ab1e265345f
DTSTART:20181015T184000Z
DTEND:20181015T190000Z
LOCATION:Winchester 2
SUMMARY:Turning Data Teams Into Super Heroes (Harry  Glaser)
URL:https://pgconf.org/conferences/SiliconValley2018/program/proposals/815
END:VEVENT
BEGIN:VEVENT
DTSTAMP:20260423T115431Z
UID:ff22f63c-6677-43b8-9e16-b130209e8d7e
DTSTART:20181015T184000Z
DTEND:20181015T190000Z
LOCATION:Market
SUMMARY:Condenser - A Simple PostgreSQL Subsetting Tool (Adam Kamor and And
 rew Colombi)
URL:https://pgconf.org/conferences/SiliconValley2018/program/proposals/871
END:VEVENT
BEGIN:VEVENT
DTSTAMP:20260423T115431Z
UID:bf053a92-b61d-4189-b613-2bef96673f89
DTSTART:20181015T190000Z
DTEND:20181015T200000Z
LOCATION:Ballroom
SUMMARY:Monday Lunch
URL:https://pgconf.org/conferences/SiliconValley2018/program/proposals/890
END:VEVENT
BEGIN:VEVENT
DTSTAMP:20260423T115431Z
UID:ba9a86aa-bcc5-45b7-8439-7b52bb25653d
DTSTART:20181015T200000Z
DTEND:20181015T205000Z
LOCATION:Winchester 2
SUMMARY:Using an in-memory storage platform to bridge big-data systems (Bin
  Fan)
URL:https://pgconf.org/conferences/SiliconValley2018/program/proposals/846
END:VEVENT
BEGIN:VEVENT
DTSTAMP:20260423T115431Z
UID:47a7bbcd-cbab-4047-a628-4ef5071378de
DTSTART:20181015T200000Z
DTEND:20181015T205000Z
LOCATION:Market
SUMMARY:Understanding High availability options for PostgreSQL (dharshan ra
 ngegowda and Madan Kumar K)
URL:https://pgconf.org/conferences/SiliconValley2018/program/proposals/801
END:VEVENT
BEGIN:VEVENT
DTSTAMP:20260423T115431Z
UID:3d6bdd63-46c5-485c-8006-5a7f409ed08b
DTSTART:20181015T200000Z
DTEND:20181015T230000Z
LOCATION:Winchester 1
SUMMARY:Using TimescaleDB for time-series storage and analytics in Postgres
  (Diana Hsieh\,  Matvey Arye\, and Andrew Staller)
URL:https://pgconf.org/conferences/SiliconValley2018/program/proposals/877
END:VEVENT
BEGIN:VEVENT
DTSTAMP:20260423T115431Z
UID:20fd2fea-ca48-4549-93ed-707270abcbf3
DTSTART:20181015T210000Z
DTEND:20181015T212000Z
LOCATION:Winchester 2
SUMMARY:Dealing with Gigantic Tables (Linas Valiukas)
URL:https://pgconf.org/conferences/SiliconValley2018/program/proposals/847
END:VEVENT
BEGIN:VEVENT
DTSTAMP:20260423T115431Z
UID:3561857e-d122-4578-a0be-6969e92c9a69
DTSTART:20181015T213000Z
DTEND:20181015T222000Z
LOCATION:Winchester 2
SUMMARY:Data pipelines with PostgreSQL and Kafka (Oskari Saarenmaa)
URL:https://pgconf.org/conferences/SiliconValley2018/program/proposals/836
END:VEVENT
BEGIN:VEVENT
DTSTAMP:20260423T115431Z
UID:5c320eb8-f21b-45d8-ad26-5d7a797c6ac9
DTSTART:20181015T213000Z
DTEND:20181015T222000Z
LOCATION:Market
SUMMARY:Architecting distributed data for GDPR (Karthik Ranganathan)
URL:https://pgconf.org/conferences/SiliconValley2018/program/proposals/803
END:VEVENT
BEGIN:VEVENT
DTSTAMP:20260423T115431Z
UID:fac308c1-8647-4e55-b63b-df4b12250a21
DTSTART:20181015T224000Z
DTEND:20181015T233000Z
LOCATION:Winchester 2
SUMMARY:Operating Machine Learning & Massively Parallel Postgres on Kuberne
 tes (Derek Comingore)
URL:https://pgconf.org/conferences/SiliconValley2018/program/proposals/771
END:VEVENT
BEGIN:VEVENT
DTSTAMP:20260423T115431Z
UID:f1067fb7-66ac-428e-8213-36ec35d60d36
DTSTART:20181015T224000Z
DTEND:20181015T233000Z
LOCATION:Market
SUMMARY:Building a DBaaS platform for Postgres (Bala Kuchibhotla )
URL:https://pgconf.org/conferences/SiliconValley2018/program/proposals/808
END:VEVENT
BEGIN:VEVENT
DTSTAMP:20260423T115431Z
UID:8d1555c2-50fc-4867-8fa9-f4d527c40989
DTSTART:20181015T234000Z
DTEND:20181016T003000Z
LOCATION:Winchester 2
SUMMARY:Taking care of the elephant  (Michael Meskes)
URL:https://pgconf.org/conferences/SiliconValley2018/program/proposals/834
END:VEVENT
BEGIN:VEVENT
DTSTAMP:20260423T115431Z
UID:e1f195ec-f8ae-44b1-b6d8-41411ee5540e
DTSTART:20181015T234000Z
DTEND:20181016T003000Z
LOCATION:Market
SUMMARY:Data Recovery in PostgreSQL on a damaged filesystem (Christopher Tr
 avers)
URL:https://pgconf.org/conferences/SiliconValley2018/program/proposals/841
END:VEVENT
BEGIN:VEVENT
DTSTAMP:20260423T115431Z
UID:30dbcafc-47ad-4fe6-9ff9-862028c5fe3a
DTSTART:20181015T234000Z
DTEND:20181016T003000Z
LOCATION:Winchester 1
SUMMARY:How To Index Your Database (Baron Schwartz)
URL:https://pgconf.org/conferences/SiliconValley2018/program/proposals/821
END:VEVENT
BEGIN:VEVENT
DTSTAMP:20260423T115431Z
UID:ae7fb757-b481-4052-ad12-4a1c5e2625b9
DTSTART:20181016T160000Z
DTEND:20181016T190000Z
LOCATION:Winchester 1
SUMMARY:How YugaByte DB implements distributed PostgreSQL (Karthik Ranganat
 han)
URL:https://pgconf.org/conferences/SiliconValley2018/program/proposals/823
END:VEVENT
BEGIN:VEVENT
DTSTAMP:20260423T115431Z
UID:0200a331-b942-4488-b6b6-e6f1dff2ad7d
DTSTART:20181016T160000Z
DTEND:20181016T165000Z
LOCATION:Winchester 2
SUMMARY:Tips and Tricks with Amazon RDS for PostgreSQL (Jignesh Shah)
URL:https://pgconf.org/conferences/SiliconValley2018/program/proposals/827
END:VEVENT
BEGIN:VEVENT
DTSTAMP:20260423T115431Z
UID:f88519bb-5454-4e85-8781-d84300292905
DTSTART:20181016T160000Z
DTEND:20181016T165000Z
LOCATION:Market
SUMMARY:Performant time-series data management and analytics with Postgres 
 ( Matvey Arye)
URL:https://pgconf.org/conferences/SiliconValley2018/program/proposals/849
END:VEVENT
BEGIN:VEVENT
DTSTAMP:20260423T115431Z
UID:d9420e65-95a8-479a-9c0c-0950305f2009
DTSTART:20181016T170000Z
DTEND:20181016T175000Z
LOCATION:Winchester 2
SUMMARY:HOT - UNDERSTANDING THIS IMPORTANT UPDATE OPTIMIZATION (Grant McAli
 ster)
URL:https://pgconf.org/conferences/SiliconValley2018/program/proposals/868
END:VEVENT
BEGIN:VEVENT
DTSTAMP:20260423T115431Z
UID:9c8a30bc-6094-4a07-a4f8-b10680223efa
DTSTART:20181016T170000Z
DTEND:20181016T175000Z
LOCATION:Market
SUMMARY:Designing a data-access control architecture for GDPR (Pratik Verma
 )
URL:https://pgconf.org/conferences/SiliconValley2018/program/proposals/813
END:VEVENT
BEGIN:VEVENT
DTSTAMP:20260423T115431Z
UID:d6862ec8-34c1-4007-844f-85069ba95805
DTSTART:20181016T175000Z
DTEND:20181016T181000Z
LOCATION:Ballroom
SUMMARY:Tuesday Morning Break
URL:https://pgconf.org/conferences/SiliconValley2018/program/proposals/893
END:VEVENT
BEGIN:VEVENT
DTSTAMP:20260423T115431Z
UID:e5cdd740-f651-4abd-905b-3545024740f6
DTSTART:20181016T181000Z
DTEND:20181016T190000Z
LOCATION:Winchester 2
SUMMARY:Top 10 Mistakes When Migrating From Oracle to PostgreSQL (Jim Mlodg
 enski)
URL:https://pgconf.org/conferences/SiliconValley2018/program/proposals/873
END:VEVENT
BEGIN:VEVENT
DTSTAMP:20260423T115431Z
UID:b5fb3f6d-3d43-415e-9f7e-2b0a033ba64d
DTSTART:20181016T181000Z
DTEND:20181016T190000Z
LOCATION:Market
SUMMARY:Viewing data at the intersection between roles (Lloyd Albin)
URL:https://pgconf.org/conferences/SiliconValley2018/program/proposals/872
END:VEVENT
BEGIN:VEVENT
DTSTAMP:20260423T115431Z
UID:c6f22847-6fd6-46b0-82cf-3b27b3d60b52
DTSTART:20181016T190000Z
DTEND:20181016T200000Z
LOCATION:Ballroom
SUMMARY:Tuesday Lunch
URL:https://pgconf.org/conferences/SiliconValley2018/program/proposals/891
END:VEVENT
BEGIN:VEVENT
DTSTAMP:20260423T115431Z
UID:1c5d0c19-be31-4059-b192-0441ff71b569
DTSTART:20181016T200000Z
DTEND:20181016T205000Z
LOCATION:Winchester 2
SUMMARY:End-to-End Encryption in Modern Database Architectures (David Szabo
 )
URL:https://pgconf.org/conferences/SiliconValley2018/program/proposals/835
END:VEVENT
BEGIN:VEVENT
DTSTAMP:20260423T115431Z
UID:33fc4eda-d8ba-4c11-a802-ebbdb2f07bc0
DTSTART:20181016T200000Z
DTEND:20181016T202000Z
LOCATION:Winchester 1
SUMMARY: Using PostgreSQL in Gobalto  (savita pandey)
URL:https://pgconf.org/conferences/SiliconValley2018/program/proposals/861
END:VEVENT
BEGIN:VEVENT
DTSTAMP:20260423T115431Z
UID:a79f58f2-c2a3-416a-a41d-aadaef00b6d9
DTSTART:20181016T200000Z
DTEND:20181016T205000Z
LOCATION:Market
SUMMARY:Building A Serverless Database Using Postgres (Nicolae Rusan)
URL:https://pgconf.org/conferences/SiliconValley2018/program/proposals/817
END:VEVENT
BEGIN:VEVENT
DTSTAMP:20260423T115431Z
UID:2eabd040-a971-401f-ad3e-09f8db182f25
DTSTART:20181016T203000Z
DTEND:20181016T205000Z
LOCATION:Winchester 1
SUMMARY:Hardware acceleration of Postgres using FPGAs (HK Verma)
URL:https://pgconf.org/conferences/SiliconValley2018/program/proposals/831
END:VEVENT
BEGIN:VEVENT
DTSTAMP:20260423T115431Z
UID:557c62fb-fae6-40c0-8b80-45875868a3a0
DTSTART:20181016T210000Z
DTEND:20181016T215000Z
LOCATION:Market
SUMMARY:Managing PostgreSQL-as-a-Service at Large Scale in SAP Multi-Cloud 
 platform (Dinesh Kumar\, Vinayak Jadhav\, Abhijit Gharami\, SUBHRO BHATTAC
 HARYYA\, and Shashank Jain)
URL:https://pgconf.org/conferences/SiliconValley2018/program/proposals/863
END:VEVENT
BEGIN:VEVENT
DTSTAMP:20260423T115431Z
UID:bce0c7d3-2d0e-4873-a83f-95e4ff7c018d
DTSTART:20181016T210000Z
DTEND:20181016T215000Z
LOCATION:Winchester 1
SUMMARY:The Art of Database Experiments (Nikolay Samokhvalov)
URL:https://pgconf.org/conferences/SiliconValley2018/program/proposals/812
END:VEVENT
BEGIN:VEVENT
DTSTAMP:20260423T115431Z
UID:cf1c92a5-51c2-4295-81f5-0936c028fbb3
DTSTART:20181016T210000Z
DTEND:20181016T215000Z
LOCATION:Winchester 2
SUMMARY:Modernizing the PostgreSQL developer experience with GraphQL (Tanma
 i Gopal)
URL:https://pgconf.org/conferences/SiliconValley2018/program/proposals/833
END:VEVENT
BEGIN:VEVENT
DTSTAMP:20260423T115431Z
UID:22537110-8f16-44b2-ad1a-35b2f45e3c44
DTSTART:20181016T215000Z
DTEND:20181016T221000Z
LOCATION:Ballroom
SUMMARY:Conference Closing
URL:https://pgconf.org/conferences/SiliconValley2018/program/proposals/894
END:VEVENT
END:VCALENDAR
