BEGIN:VCALENDAR
VERSION:2.0
PRODID:PGConf Local: Seattle [PgConf.US]
CALSCALE:GREGORIAN
BEGIN:VEVENT
DTSTAMP:20260423T073356Z
UID:3dc74add-6d49-41f5-bbc7-f195ba22e721
DTSTART:20171113T133000Z
DTEND:20171113T163000Z
LOCATION:Ravenna
SUMMARY:Scaling PostgreSQL Using Linux Containers in the Enterprise (Robert
  Bernier)
URL:https://pgconf.org/conferences/Seattle2017/program/proposals/730
END:VEVENT
BEGIN:VEVENT
DTSTAMP:20260423T073356Z
UID:32d7ea1d-2f03-4f73-a0c7-b870ff47dc85
DTSTART:20171114T143000Z
DTEND:20171114T152000Z
LOCATION:Issaquah
SUMMARY:GRAKN.AI: the hyper-relational database for knowledge-oriented syst
 ems CANCELLED  (Haikal Pribadi)
URL:https://pgconf.org/conferences/Seattle2017/program/proposals/694
END:VEVENT
BEGIN:VEVENT
DTSTAMP:20260423T073356Z
UID:89e9861a-731c-4a60-aba6-4bc1279e5ca1
DTSTART:20171114T143000Z
DTEND:20171114T152000Z
LOCATION:Ravenna
SUMMARY:Under the hood: API integrations and more in an energy efficiency P
 ostgreSQL + Django application (Jennifer Scheuerell)
URL:https://pgconf.org/conferences/Seattle2017/program/proposals/731
END:VEVENT
BEGIN:VEVENT
DTSTAMP:20260423T073356Z
UID:99943eff-4311-414a-9ecf-9d41f17493bf
DTSTART:20171114T143000Z
DTEND:20171114T152000Z
LOCATION:Metropolitan B
SUMMARY:Enterprise Data Architecture with PostgreSQL (Kevin Kempter)
URL:https://pgconf.org/conferences/Seattle2017/program/proposals/721
END:VEVENT
BEGIN:VEVENT
DTSTAMP:20260423T073356Z
UID:59d2d2b2-863b-4cfc-a2f3-6de0982fffc4
DTSTART:20171114T154000Z
DTEND:20171114T163000Z
LOCATION:Issaquah
SUMMARY:Best Practices with Managed PostgreSQL in the Cloud (Jignesh Shah)
URL:https://pgconf.org/conferences/Seattle2017/program/proposals/716
END:VEVENT
BEGIN:VEVENT
DTSTAMP:20260423T073356Z
UID:d31a4d20-a81a-4376-9c5e-6c246a346c22
DTSTART:20171114T154000Z
DTEND:20171114T163000Z
LOCATION:Metropolitan B
SUMMARY:Building a scalable time-series database on PostgreSQL ( Matvey Ary
 e)
URL:https://pgconf.org/conferences/Seattle2017/program/proposals/729
END:VEVENT
BEGIN:VEVENT
DTSTAMP:20260423T073356Z
UID:eba8ec88-ad97-4200-bed4-fd51665cace2
DTSTART:20171114T154000Z
DTEND:20171114T163000Z
LOCATION:Ravenna
SUMMARY:Introduction to JavaScript Stored Procedures (Jim Mlodgenski)
URL:https://pgconf.org/conferences/Seattle2017/program/proposals/695
END:VEVENT
BEGIN:VEVENT
DTSTAMP:20260423T073356Z
UID:3e583864-ee5f-4c5c-b915-2079a471cae8
DTSTART:20171114T164000Z
DTEND:20171114T173000Z
LOCATION:Metropolitan B
SUMMARY:All the dirt on Vacuum (Jim Nasby)
URL:https://pgconf.org/conferences/Seattle2017/program/proposals/725
END:VEVENT
BEGIN:VEVENT
DTSTAMP:20260423T073356Z
UID:85673d44-dfa4-4f5d-879f-a0e48b64a544
DTSTART:20171114T164000Z
DTEND:20171114T173000Z
LOCATION:Issaquah
SUMMARY:Tuning PostgreSQL for High Write Workloads (David Wein)
URL:https://pgconf.org/conferences/Seattle2017/program/proposals/710
END:VEVENT
BEGIN:VEVENT
DTSTAMP:20260423T073356Z
UID:698c7422-ae67-40b9-b32c-ca9059897d86
DTSTART:20171114T164000Z
DTEND:20171114T173000Z
LOCATION:Ravenna
SUMMARY:Using GIS in PostgreSQL (Lloyd Albin)
URL:https://pgconf.org/conferences/Seattle2017/program/proposals/720
END:VEVENT
END:VCALENDAR
