BEGIN:VCALENDAR
VERSION:2.0
PRODID:Silicon Valley 2023
CALSCALE:GREGORIAN
BEGIN:VEVENT
DTSTAMP:20260423T115336Z
UID:0dac0bf8-c20a-464c-b16b-ca9128025ac7
DTSTART:20230420T164000Z
DTEND:20230420T170000Z
LOCATION:Almaden Ballroom\, Main Level
SUMMARY:AlloyDB: PostgreSQL in a way that only Google can deliver it
URL:https://pgconf.org/conferences/SV2023/program/proposals/2086
END:VEVENT
BEGIN:VEVENT
DTSTAMP:20260423T115336Z
UID:ab489e0e-811d-486f-8da7-7a30230b8340
DTSTART:20230420T171000Z
DTEND:20230420T173000Z
LOCATION:Almaden Ballroom\, Main Level
SUMMARY:The Growing Postgres Ecosystem
URL:https://pgconf.org/conferences/SV2023/program/proposals/2076
END:VEVENT
BEGIN:VEVENT
DTSTAMP:20260423T115336Z
UID:e8811189-7e5b-44dc-8eb4-f4c0aee6c15f
DTSTART:20230420T174000Z
DTEND:20230420T180000Z
LOCATION:Almaden Ballroom\, Main Level
SUMMARY:Bringing developers and Postgres closer together
URL:https://pgconf.org/conferences/SV2023/program/proposals/2079
END:VEVENT
BEGIN:VEVENT
DTSTAMP:20260423T115336Z
UID:8a7a5bbf-534a-4453-a0f5-6ebf64fb174a
DTSTART:20230420T181000Z
DTEND:20230420T183000Z
LOCATION:Almaden Ballroom\, Main Level
SUMMARY:How to Escape the Cult of Expertise
URL:https://pgconf.org/conferences/SV2023/program/proposals/2021
END:VEVENT
BEGIN:VEVENT
DTSTAMP:20260423T115336Z
UID:39db2783-faff-4edf-864b-38d8b45e65ce
DTSTART:20230420T184000Z
DTEND:20230420T190000Z
LOCATION:Almaden Ballroom\, Main Level
SUMMARY:Embrace\, Extend\, Evolve: Making PostgreSQL Work for Cloud Native 
 Applications (Karthik Ranganathan)
URL:https://pgconf.org/conferences/SV2023/program/proposals/2084
END:VEVENT
BEGIN:VEVENT
DTSTAMP:20260423T115336Z
UID:26a4ef31-5f4f-4ece-9dec-dde3f2320e78
DTSTART:20230420T190000Z
DTEND:20230420T200000Z
LOCATION:Almaden Ballroom\, Main Level
SUMMARY:Thursday Lunch
URL:https://pgconf.org/conferences/SV2023/program/proposals/2081
END:VEVENT
BEGIN:VEVENT
DTSTAMP:20260423T115336Z
UID:a4b2723b-6701-4603-8636-3cf2ca8fdc80
DTSTART:20230420T200000Z
DTEND:20230420T205000Z
LOCATION:Almaden Ballroom\, Main Level
SUMMARY:Evolution of Transactional Databases ( Kannan Muthukkaruppan)
URL:https://pgconf.org/conferences/SV2023/program/proposals/2072
END:VEVENT
BEGIN:VEVENT
DTSTAMP:20260423T115336Z
UID:b8fe9ebe-4e28-454d-b09c-63b841266a6e
DTSTART:20230420T200000Z
DTEND:20230420T205000Z
LOCATION:Santa Clara\, Lvl C
SUMMARY:Understanding Transaction Isolation and Serializability (Brian Hodg
 e)
URL:https://pgconf.org/conferences/SV2023/program/proposals/2052
END:VEVENT
BEGIN:VEVENT
DTSTAMP:20260423T115336Z
UID:58c44751-9038-445f-ba05-a731136e4fef
DTSTART:20230420T200000Z
DTEND:20230420T202000Z
LOCATION:Winchester\, Main Level
SUMMARY: PostgreSQL and NLP: How to build an ChatGPT application in minutes
  (Jorge Torres)
URL:https://pgconf.org/conferences/SV2023/program/proposals/2054
END:VEVENT
BEGIN:VEVENT
DTSTAMP:20260423T115336Z
UID:0838b03e-52b6-4099-a6ca-aa5a3451ab1f
DTSTART:20230420T200000Z
DTEND:20230420T205000Z
LOCATION:San Pedro\, Lvl C
SUMMARY:3 Techniques to Improve Postgres Response Times without Code Change
 s (Lee Roland)
URL:https://pgconf.org/conferences/SV2023/program/proposals/1991
END:VEVENT
BEGIN:VEVENT
DTSTAMP:20260423T115336Z
UID:fbf65896-9861-42bf-a5c3-680de6533c43
DTSTART:20230420T203000Z
DTEND:20230420T205000Z
LOCATION:Winchester\, Main Level
SUMMARY:Data Architecture and Modeling with DataWharf
URL:https://pgconf.org/conferences/SV2023/program/proposals/2040
END:VEVENT
BEGIN:VEVENT
DTSTAMP:20260423T115336Z
UID:fdacb165-4db4-4ba0-8164-da88f5196c64
DTSTART:20230420T211000Z
DTEND:20230420T220000Z
LOCATION:Almaden Ballroom\, Main Level
SUMMARY:Weathering the Cloud Storm: PostgreSQL High Availability Options (D
 enis Magda)
URL:https://pgconf.org/conferences/SV2023/program/proposals/2073
END:VEVENT
BEGIN:VEVENT
DTSTAMP:20260423T115336Z
UID:d14b7fce-748a-49fe-bfc8-d472c2e428a3
DTSTART:20230420T211000Z
DTEND:20230420T220000Z
LOCATION:San Pedro\, Lvl C
SUMMARY:Postgres Extension Lifecycle (Adam Hendel)
URL:https://pgconf.org/conferences/SV2023/program/proposals/2078
END:VEVENT
BEGIN:VEVENT
DTSTAMP:20260423T115336Z
UID:b3a4754b-90f5-47d3-9ece-28f9a0192227
DTSTART:20230420T211000Z
DTEND:20230420T220000Z
LOCATION:Winchester\, Main Level
SUMMARY:Taking anxiety out of PostgreSQL upgrades in Amazon RDS (Jignesh Sh
 ah)
URL:https://pgconf.org/conferences/SV2023/program/proposals/2016
END:VEVENT
BEGIN:VEVENT
DTSTAMP:20260423T115336Z
UID:782673c1-fc19-47f6-afc9-f93de463c552
DTSTART:20230420T211000Z
DTEND:20230420T220000Z
LOCATION:Santa Clara\, Lvl C
SUMMARY:Migrating Mainframe/VSAM applications to Linux/Postgres (Michael Po
 tter)
URL:https://pgconf.org/conferences/SV2023/program/proposals/2006
END:VEVENT
BEGIN:VEVENT
DTSTAMP:20260423T115336Z
UID:cb1850eb-bed3-4a08-a958-292875b566db
DTSTART:20230420T222000Z
DTEND:20230420T224000Z
LOCATION:Winchester\, Main Level
SUMMARY:Torturing Postgres: autonomous testing for distributed architecture
 s ( Mehboob Alam)
URL:https://pgconf.org/conferences/SV2023/program/proposals/2026
END:VEVENT
BEGIN:VEVENT
DTSTAMP:20260423T115336Z
UID:8b79ed8c-424c-4e2f-a17f-181f31aa69fe
DTSTART:20230420T222000Z
DTEND:20230420T231000Z
LOCATION:Santa Clara\, Lvl C
SUMMARY:Simplifying Data Replication with PostgreSQL (Chris Sean)
URL:https://pgconf.org/conferences/SV2023/program/proposals/2048
END:VEVENT
BEGIN:VEVENT
DTSTAMP:20260423T115336Z
UID:01c1329e-a415-4a9f-aee3-6053a93a8609
DTSTART:20230420T222000Z
DTEND:20230420T224000Z
LOCATION:San Pedro\, Lvl C
SUMMARY:Open Source in the Age of Cloud and Microservices (Michael Meskes)
URL:https://pgconf.org/conferences/SV2023/program/proposals/2008
END:VEVENT
BEGIN:VEVENT
DTSTAMP:20260423T115336Z
UID:06d5507c-c7fc-47e2-8cf1-2a2d8217fbec
DTSTART:20230420T222000Z
DTEND:20230420T224000Z
LOCATION:Almaden Ballroom\, Main Level
SUMMARY:Future of Distributed SQL: 3 Things I’m Most Excited About  (Kart
 hik Ranganathan)
URL:https://pgconf.org/conferences/SV2023/program/proposals/2074
END:VEVENT
BEGIN:VEVENT
DTSTAMP:20260423T115336Z
UID:68634cb4-4287-4fff-a02f-51881c575690
DTSTART:20230420T225000Z
DTEND:20230420T231000Z
LOCATION:Winchester\, Main Level
SUMMARY:Architecting for High Availability and Disaster Recovery with Amazo
 n RDS for PostgreSQL and Amazon Aurora PostgreSQL (Chris Riggin)
URL:https://pgconf.org/conferences/SV2023/program/proposals/2047
END:VEVENT
BEGIN:VEVENT
DTSTAMP:20260423T115336Z
UID:488b49e8-3dc3-4bb0-b11c-beb4e1ffe7ef
DTSTART:20230420T225000Z
DTEND:20230420T234000Z
LOCATION:Almaden Ballroom\, Main Level
SUMMARY:YSQL Development for PostgreSQL Developers (Seth Luersen)
URL:https://pgconf.org/conferences/SV2023/program/proposals/2075
END:VEVENT
BEGIN:VEVENT
DTSTAMP:20260423T115336Z
UID:485e3b1a-5e01-466e-ab91-960603af23f3
DTSTART:20230420T225000Z
DTEND:20230420T234000Z
LOCATION:San Pedro\, Lvl C
SUMMARY:Developing PostgreSQL extensions using Trusted Language Extensions 
 (Jignesh Shah)
URL:https://pgconf.org/conferences/SV2023/program/proposals/2015
END:VEVENT
BEGIN:VEVENT
DTSTAMP:20260423T115336Z
UID:6be7aa92-3381-44f8-a6dd-8af6bfc0d189
DTSTART:20230420T232000Z
DTEND:20230420T234000Z
LOCATION:Winchester\, Main Level
SUMMARY:Choosing the right storage for your RDS for PostgreSQL database (Wa
 nda  He)
URL:https://pgconf.org/conferences/SV2023/program/proposals/2033
END:VEVENT
BEGIN:VEVENT
DTSTAMP:20260423T115336Z
UID:3a645e94-774b-485b-b6c8-1125e8ab44fb
DTSTART:20230420T232000Z
DTEND:20230420T234000Z
LOCATION:Santa Clara\, Lvl C
SUMMARY:As the Inventor of Slony-I\, I present to you Spock (Jan Wieck)
URL:https://pgconf.org/conferences/SV2023/program/proposals/2044
END:VEVENT
BEGIN:VEVENT
DTSTAMP:20260423T115336Z
UID:b019c777-0e48-49f3-b31a-24ce136209fa
DTSTART:20230420T235000Z
DTEND:20230421T001000Z
LOCATION:Almaden Ballroom\, Main Level
SUMMARY:Distributed SQL Databases: The Whys and Hows (Denis Magda)
URL:https://pgconf.org/conferences/SV2023/program/proposals/2055
END:VEVENT
BEGIN:VEVENT
DTSTAMP:20260423T115336Z
UID:39c3f303-1735-4d9e-9f77-ef0e2bf2089e
DTSTART:20230420T235000Z
DTEND:20230421T004000Z
LOCATION:Santa Clara\, Lvl C
SUMMARY:The Machines Haven't Taken Over Yet: Incorporating Domain Knowledge
  into ML-driven Database Tuning Tools (Dana Van Aken)
URL:https://pgconf.org/conferences/SV2023/program/proposals/2013
END:VEVENT
BEGIN:VEVENT
DTSTAMP:20260423T115336Z
UID:7cba87cb-27e8-4f23-8c4c-cbd192eca183
DTSTART:20230420T235000Z
DTEND:20230421T001000Z
LOCATION:San Pedro\, Lvl C
SUMMARY:DBtune: Database tuning software as a service (Luigi Nardi)
URL:https://pgconf.org/conferences/SV2023/program/proposals/2085
END:VEVENT
BEGIN:VEVENT
DTSTAMP:20260423T115336Z
UID:6e2d9dc9-d818-4ab6-ae82-a90b30e53041
DTSTART:20230420T235000Z
DTEND:20230421T004000Z
LOCATION:Winchester\, Main Level
SUMMARY:10 Things I Learned Solving Advent of Code Puzzles with PostgreSQL 
 (Ryan Booz)
URL:https://pgconf.org/conferences/SV2023/program/proposals/1997
END:VEVENT
BEGIN:VEVENT
DTSTAMP:20260423T115336Z
UID:dbe85b37-85af-4652-a1e3-a742064fc11a
DTSTART:20230421T002000Z
DTEND:20230421T004000Z
LOCATION:San Pedro\, Lvl C
SUMMARY:PostgreSQL High Availability: The Considerations and the Candidates
  (Dave Stokes)
URL:https://pgconf.org/conferences/SV2023/program/proposals/2077
END:VEVENT
BEGIN:VEVENT
DTSTAMP:20260423T115336Z
UID:7bfb3739-d202-4e90-b38b-6dcaed17b44a
DTSTART:20230421T010000Z
DTEND:20230421T030000Z
LOCATION:Almaden Ballroom\, Main Level
SUMMARY:PostgresConf SV: Welcome Reception
URL:https://pgconf.org/conferences/SV2023/program/proposals/2083
END:VEVENT
BEGIN:VEVENT
DTSTAMP:20260423T115336Z
UID:e6b01a1f-0552-493c-a1a7-9a30dd41c4f7
DTSTART:20230421T163000Z
DTEND:20230421T180000Z
LOCATION:Santa Clara\, Lvl C
SUMMARY:How to configure a PostgreSQL cluster for multitenancy (Bryn Llewel
 lyn)
URL:https://pgconf.org/conferences/SV2023/program/proposals/2019
END:VEVENT
BEGIN:VEVENT
DTSTAMP:20260423T115336Z
UID:2fdc545e-c9d8-4b02-a713-7f5e1379d3f0
DTSTART:20230421T163000Z
DTEND:20230421T165000Z
LOCATION:Almaden Ballroom\, Main Level
SUMMARY:MERGE() - A Quick Introduction (Dave Stokes)
URL:https://pgconf.org/conferences/SV2023/program/proposals/2002
END:VEVENT
BEGIN:VEVENT
DTSTAMP:20260423T115336Z
UID:505afaba-0454-401f-a0ae-d980791f193d
DTSTART:20230421T163000Z
DTEND:20230421T165000Z
LOCATION:San Pedro\, Lvl C
SUMMARY:Full Stack Postgres on Kubernetes with StackGres (Jose Finotto)
URL:https://pgconf.org/conferences/SV2023/program/proposals/1995
END:VEVENT
BEGIN:VEVENT
DTSTAMP:20260423T115336Z
UID:1f428a4c-806a-4f2e-bb97-4a6125eedcf7
DTSTART:20230421T163000Z
DTEND:20230421T172000Z
LOCATION:Winchester\, Main Level
SUMMARY:All roads lead to Amazon Aurora (John Russell and Dustin Brown)
URL:https://pgconf.org/conferences/SV2023/program/proposals/2068
END:VEVENT
BEGIN:VEVENT
DTSTAMP:20260423T115336Z
UID:5c3cd205-dba0-4711-be5f-eda88d102d6b
DTSTART:20230421T170000Z
DTEND:20230421T175000Z
LOCATION:Almaden Ballroom\, Main Level
SUMMARY:Archiving Data (CJ Estel)
URL:https://pgconf.org/conferences/SV2023/program/proposals/2003
END:VEVENT
BEGIN:VEVENT
DTSTAMP:20260423T115336Z
UID:25ea198e-5111-41e8-846e-b82cc6371a58
DTSTART:20230421T170000Z
DTEND:20230421T183000Z
LOCATION:San Pedro\, Lvl C
SUMMARY:SEAL Team Six (Aaron Cutshall)
URL:https://pgconf.org/conferences/SV2023/program/proposals/2004
END:VEVENT
BEGIN:VEVENT
DTSTAMP:20260423T115336Z
UID:c4f3ee23-4af7-4d0d-8840-314384949e30
DTSTART:20230421T173000Z
DTEND:20230421T182000Z
LOCATION:Winchester\, Main Level
SUMMARY:Deploying Amazon RDS database for applications in Kubernetes (Chira
 g Dave)
URL:https://pgconf.org/conferences/SV2023/program/proposals/2069
END:VEVENT
BEGIN:VEVENT
DTSTAMP:20260423T115336Z
UID:1baabd0f-1f64-4284-8cb1-5096de269225
DTSTART:20230421T180000Z
DTEND:20230421T182000Z
LOCATION:Almaden Ballroom\, Main Level
SUMMARY:Enabling Secure and Scalable Open-Source in Finance (Marcos Figueir
 edo)
URL:https://pgconf.org/conferences/SV2023/program/proposals/2060
END:VEVENT
BEGIN:VEVENT
DTSTAMP:20260423T115336Z
UID:b622b954-87fa-4b5f-a7a9-5a3ae432e118
DTSTART:20230421T181000Z
DTEND:20230421T183000Z
LOCATION:Santa Clara\, Lvl C
SUMMARY: Efficient PostgreSQL Query Writing: Avoiding Common Anti-Patterns 
 and ORM Pitfalls
URL:https://pgconf.org/conferences/SV2023/program/proposals/2051
END:VEVENT
BEGIN:VEVENT
DTSTAMP:20260423T115336Z
UID:4179f596-06f2-45e2-bfb7-8dd03b0a3cc2
DTSTART:20230421T184000Z
DTEND:20230421T193000Z
LOCATION:Almaden Ballroom\, Main Level
SUMMARY:Let robots help with queries (Tatiana Krupenya)
URL:https://pgconf.org/conferences/SV2023/program/proposals/2036
END:VEVENT
BEGIN:VEVENT
DTSTAMP:20260423T115336Z
UID:d47fb83f-9a8e-4822-95ab-fda7ce2dc0aa
DTSTART:20230421T184000Z
DTEND:20230421T190000Z
LOCATION:San Pedro\, Lvl C
SUMMARY:The Part of PostgreSQL I Hate the Most (Bohan Zhang)
URL:https://pgconf.org/conferences/SV2023/program/proposals/2039
END:VEVENT
BEGIN:VEVENT
DTSTAMP:20260423T115336Z
UID:2dc1805b-37db-4936-a7c9-26c9abf864ce
DTSTART:20230421T184000Z
DTEND:20230421T193000Z
LOCATION:Winchester\, Main Level
SUMMARY:Top 10 Tips for migrating to Amazon Aurora and Amazon RDS (Sivasamy
  Subramaniam)
URL:https://pgconf.org/conferences/SV2023/program/proposals/2067
END:VEVENT
BEGIN:VEVENT
DTSTAMP:20260423T115336Z
UID:49030e8f-3250-47f9-bee7-f4f02e5001e9
DTSTART:20230421T184000Z
DTEND:20230421T193000Z
LOCATION:Santa Clara\, Lvl C
SUMMARY:Improving the Ergonomics of Writing SQL (Brian Hodge)
URL:https://pgconf.org/conferences/SV2023/program/proposals/2053
END:VEVENT
BEGIN:VEVENT
DTSTAMP:20260423T115336Z
UID:3eeb9f64-28a2-4bfb-b80b-f728f383789c
DTSTART:20230421T191000Z
DTEND:20230421T193000Z
LOCATION:San Pedro\, Lvl C
SUMMARY:10 Years of Automating Postgres (Julian Fischer)
URL:https://pgconf.org/conferences/SV2023/program/proposals/2007
END:VEVENT
BEGIN:VEVENT
DTSTAMP:20260423T115336Z
UID:dfa871a3-8581-4a98-a0f5-ce2152dc3179
DTSTART:20230421T193000Z
DTEND:20230421T203000Z
LOCATION:Almaden Ballroom\, Main Level
SUMMARY:Friday Lunch
URL:https://pgconf.org/conferences/SV2023/program/proposals/2082
END:VEVENT
BEGIN:VEVENT
DTSTAMP:20260423T115336Z
UID:3f51ea4b-1bf6-437a-85ae-fa62b3e7aa2c
DTSTART:20230421T203000Z
DTEND:20230421T212000Z
LOCATION:Almaden Ballroom\, Main Level
SUMMARY:Make Postgres Simple\, Reliable\, and Cost-Effective with Nutanix D
 atabase Service (Manish Pratap Singh and Jeremy Launier)
URL:https://pgconf.org/conferences/SV2023/program/proposals/2050
END:VEVENT
BEGIN:VEVENT
DTSTAMP:20260423T115336Z
UID:621a2b08-f667-47ad-a869-b3dbf24aa5d0
DTSTART:20230421T203000Z
DTEND:20230421T212000Z
LOCATION:San Pedro\, Lvl C
SUMMARY:Citus: Orange You Glad It's Postgres (Zak Tedder)
URL:https://pgconf.org/conferences/SV2023/program/proposals/2071
END:VEVENT
BEGIN:VEVENT
DTSTAMP:20260423T115336Z
UID:bcf0b2bc-f0da-4efe-9dcd-e76ba9f9f102
DTSTART:20230421T203000Z
DTEND:20230421T220000Z
LOCATION:Winchester\, Main Level
SUMMARY:Running PostgreSQL on AWS for SQL Server DBAs (Chandra Pathivada an
 d Ramesh Kumar Venkatraman)
URL:https://pgconf.org/conferences/SV2023/program/proposals/2035
END:VEVENT
BEGIN:VEVENT
DTSTAMP:20260423T115336Z
UID:6b84437a-abc2-4937-950a-cfe26f5b3a20
DTSTART:20230421T203000Z
DTEND:20230421T212000Z
LOCATION:Santa Clara\, Lvl C
SUMMARY:Discover the Power of Window Functions (Aaron Cutshall)
URL:https://pgconf.org/conferences/SV2023/program/proposals/2058
END:VEVENT
BEGIN:VEVENT
DTSTAMP:20260423T115336Z
UID:ba6b649d-8ff7-4049-8ba9-8ca84fb1c935
DTSTART:20230421T214000Z
DTEND:20230421T223000Z
LOCATION:San Pedro\, Lvl C
SUMMARY:Full Page Writes in PostgreSQL - Critical\, Evil or Both - Why you 
 should care and how to optimize (Grant McAlister)
URL:https://pgconf.org/conferences/SV2023/program/proposals/2032
END:VEVENT
BEGIN:VEVENT
DTSTAMP:20260423T115336Z
UID:0ce03105-370c-428d-9600-420e694afe6c
DTSTART:20230421T214000Z
DTEND:20230421T223000Z
LOCATION:Almaden Ballroom\, Main Level
SUMMARY:Postgres for Oracle DBAs - A Comparison Study (Srinivasa  Inaganti)
URL:https://pgconf.org/conferences/SV2023/program/proposals/2042
END:VEVENT
BEGIN:VEVENT
DTSTAMP:20260423T115336Z
UID:73636fe7-4237-4a53-a853-c3740bd89a3b
DTSTART:20230421T214000Z
DTEND:20230421T223000Z
LOCATION:Santa Clara\, Lvl C
SUMMARY:Message Stores and Event Sourcing with Message DB (Scott Bellware)
URL:https://pgconf.org/conferences/SV2023/program/proposals/2012
END:VEVENT
BEGIN:VEVENT
DTSTAMP:20260423T115337Z
UID:c26d9447-1e12-41fc-b201-08b1be8a06d0
DTSTART:20230421T221000Z
DTEND:20230421T223000Z
LOCATION:Winchester\, Main Level
SUMMARY:Optimize Costs using Babelfish for Aurora PostgreSQL (Chandra Pathi
 vada and Ramesh Kumar Venkatraman)
URL:https://pgconf.org/conferences/SV2023/program/proposals/2034
END:VEVENT
BEGIN:VEVENT
DTSTAMP:20260423T115337Z
UID:c61be39d-5df5-4d0f-87ff-998a35475807
DTSTART:20230421T225000Z
DTEND:20230421T234000Z
LOCATION:San Pedro\, Lvl C
SUMMARY:Building a Serverless PostgreSQL with Neon Tech OpenSource and Perc
 ona Builds (Vadim Tkachenko)
URL:https://pgconf.org/conferences/SV2023/program/proposals/2024
END:VEVENT
BEGIN:VEVENT
DTSTAMP:20260423T115337Z
UID:b515f485-72ae-43b3-a63f-4b04b6b0a9e1
DTSTART:20230421T225000Z
DTEND:20230421T234000Z
LOCATION:Almaden Ballroom\, Main Level
SUMMARY:Moving MongoDB Workloads to Postgres with FerretDB (Peter Farkas)
URL:https://pgconf.org/conferences/SV2023/program/proposals/2045
END:VEVENT
BEGIN:VEVENT
DTSTAMP:20260423T115337Z
UID:e387fe26-737c-4037-a697-3257808baa84
DTSTART:20230421T225000Z
DTEND:20230421T234000Z
LOCATION:Winchester\, Main Level
SUMMARY:Improving the security of your PostgreSQL databases using Amazon Au
 rora and Amazon RDS (Chirag Dave)
URL:https://pgconf.org/conferences/SV2023/program/proposals/2070
END:VEVENT
BEGIN:VEVENT
DTSTAMP:20260423T115337Z
UID:111c7ec0-256a-4fae-999f-0f30dc367bf0
DTSTART:20230421T225000Z
DTEND:20230421T231000Z
LOCATION:Santa Clara\, Lvl C
SUMMARY:Features for Scalable PostgreSQL in Cloud Spanner (Kesiena Owho-Ovu
 akporie)
URL:https://pgconf.org/conferences/SV2023/program/proposals/2046
END:VEVENT
BEGIN:VEVENT
DTSTAMP:20260423T115337Z
UID:da0064ff-6f72-4103-93f4-b460b3aa5041
DTSTART:20230421T232000Z
DTEND:20230421T234000Z
LOCATION:Santa Clara\, Lvl C
SUMMARY:Serverless Postgres Study and Practice (Grant Zhou)
URL:https://pgconf.org/conferences/SV2023/program/proposals/2022
END:VEVENT
END:VCALENDAR
