BEGIN:VCALENDAR
VERSION:2.0
PRODID:Silicon Valley 2022
CALSCALE:GREGORIAN
BEGIN:VEVENT
DTSTAMP:20260423T075551Z
UID:91171066-643b-42b3-9593-efd64aad9427
DTSTART:20220407T164000Z
DTEND:20220407T170000Z
LOCATION:Ballroom
SUMMARY:Digital Rights and Privacy: Concerns for the 21st century ( Andres 
 Arrieta)
URL:https://pgconf.org/conferences/SV2022/program/proposals/1955
END:VEVENT
BEGIN:VEVENT
DTSTAMP:20260423T075551Z
UID:bc0e4bec-0c92-4635-b68d-e8d33503eac2
DTSTART:20220407T171000Z
DTEND:20220407T173000Z
LOCATION:Ballroom
SUMMARY:Managing growth and career development for software companies (Chad
  Berkley)
URL:https://pgconf.org/conferences/SV2022/program/proposals/1953
END:VEVENT
BEGIN:VEVENT
DTSTAMP:20260423T075551Z
UID:e0b2dde4-75e5-4ce4-ae3b-b4ea31c6f18e
DTSTART:20220407T174000Z
DTEND:20220407T180000Z
LOCATION:Ballroom
SUMMARY:Postgres: Through the lens of Cloud Platform (Nitish Korla)
URL:https://pgconf.org/conferences/SV2022/program/proposals/1930
END:VEVENT
BEGIN:VEVENT
DTSTAMP:20260423T075551Z
UID:7d20cff4-c769-4f5e-9f50-efd9d7a99954
DTSTART:20220407T181000Z
DTEND:20220407T183000Z
LOCATION:Ballroom
SUMMARY:PostgreSQL and Managed Hosting Services (Kirk Roybal)
URL:https://pgconf.org/conferences/SV2022/program/proposals/1954
END:VEVENT
BEGIN:VEVENT
DTSTAMP:20260423T075551Z
UID:88bdd419-5c75-4371-b10c-0396270e743e
DTSTART:20220407T184000Z
DTEND:20220407T190000Z
LOCATION:Ballroom
SUMMARY:The Biography of a Modern Cloud Native Application (Alexandra Elchi
 noff and Karthik Ranganathan)
URL:https://pgconf.org/conferences/SV2022/program/proposals/1964
END:VEVENT
BEGIN:VEVENT
DTSTAMP:20260423T075551Z
UID:c4a44701-0f77-48ae-83de-6adfcfb2f862
DTSTART:20220407T190000Z
DTEND:20220407T200000Z
LOCATION:Ballroom
SUMMARY:Thursday Lunch
URL:https://pgconf.org/conferences/SV2022/program/proposals/1959
END:VEVENT
BEGIN:VEVENT
DTSTAMP:20260423T075551Z
UID:aee7168e-b29a-4d74-a658-3bf175a7bab7
DTSTART:20220407T200000Z
DTEND:20220407T202000Z
LOCATION:Ballroom
SUMMARY:Lessons Learned: Moving a PostgreSQL Application From On-Premise to
  a Cloud Native Architecture (Alexandra Elchinoff and Denis Magda)
URL:https://pgconf.org/conferences/SV2022/program/proposals/1966
END:VEVENT
BEGIN:VEVENT
DTSTAMP:20260423T075551Z
UID:cf9fa964-bb82-455c-8860-f430fdca4beb
DTSTART:20220407T200000Z
DTEND:20220407T205000Z
LOCATION:Santa Clara
SUMMARY:Past\, Present\, and Future of Logical Replication (Amit Kapila)
URL:https://pgconf.org/conferences/SV2022/program/proposals/1940
END:VEVENT
BEGIN:VEVENT
DTSTAMP:20260423T075551Z
UID:eac35d93-1fd8-44d5-8253-deabe8459b66
DTSTART:20220407T200000Z
DTEND:20220407T205000Z
LOCATION:Winchester
SUMMARY:TDE: State of Encryption in Postgres (Mehboob Alam and Everett Berr
 y)
URL:https://pgconf.org/conferences/SV2022/program/proposals/1920
END:VEVENT
BEGIN:VEVENT
DTSTAMP:20260423T075551Z
UID:146d394e-3d2e-474f-b2f7-803e20a3be8a
DTSTART:20220407T203000Z
DTEND:20220407T205000Z
LOCATION:Ballroom
SUMMARY:Driving 150K warehouses on TPC-C (Alexandra Elchinoff and Mihnea Ia
 ncu)
URL:https://pgconf.org/conferences/SV2022/program/proposals/1967
END:VEVENT
BEGIN:VEVENT
DTSTAMP:20260423T075551Z
UID:695e49d6-9b9e-47f9-8cf9-b34875a0e6c1
DTSTART:20220407T210000Z
DTEND:20220407T215000Z
LOCATION:Santa Clara
SUMMARY:When it all GOes right (Pavlo Golub)
URL:https://pgconf.org/conferences/SV2022/program/proposals/1817
END:VEVENT
BEGIN:VEVENT
DTSTAMP:20260423T075551Z
UID:687286c6-cac4-4248-905c-baeed8e7b4b4
DTSTART:20220407T210000Z
DTEND:20220407T215000Z
LOCATION:Ballroom
SUMMARY:Demo Hour (Alexandra Elchinoff and Amit Chauhan)
URL:https://pgconf.org/conferences/SV2022/program/proposals/1968
END:VEVENT
BEGIN:VEVENT
DTSTAMP:20260423T075551Z
UID:21388ca4-1bee-42d0-88b6-4a62faa62f9b
DTSTART:20220407T210000Z
DTEND:20220407T212000Z
LOCATION:Winchester
SUMMARY:Scaling Beyond PgBouncer & Pgpool-II:  Advanced Traffic Management 
 (Lee Roland)
URL:https://pgconf.org/conferences/SV2022/program/proposals/1814
END:VEVENT
BEGIN:VEVENT
DTSTAMP:20260423T075551Z
UID:5f0abd1c-5712-41a7-813e-5b6f932b70a5
DTSTART:20220407T213000Z
DTEND:20220407T222000Z
LOCATION:Winchester
SUMMARY:Are databases on cloud DBaaS platforms really faster and cheaper as
  they are claimed ? (Avinash Vallarapu)
URL:https://pgconf.org/conferences/SV2022/program/proposals/1927
END:VEVENT
BEGIN:VEVENT
DTSTAMP:20260423T075551Z
UID:795e3da5-dec2-4154-8a8e-1bd0fb68e6da
DTSTART:20220407T220000Z
DTEND:20220407T222000Z
LOCATION:Santa Clara
SUMMARY:Scaling PostgreSQL to New Heights (Ivan Novick and Jacque Istok)
URL:https://pgconf.org/conferences/SV2022/program/proposals/1963
END:VEVENT
BEGIN:VEVENT
DTSTAMP:20260423T075551Z
UID:2bc9f054-0e6b-4b49-95f1-91d7340c826b
DTSTART:20220407T220000Z
DTEND:20220407T222000Z
LOCATION:Ballroom
SUMMARY:Analyzing PostgreSQL Compatibility: Amazon Aurora\, Spanner\, Yugab
 yteDB and CockroachDB (Alexandra Elchinoff and Yogesh Mahajan)
URL:https://pgconf.org/conferences/SV2022/program/proposals/1965
END:VEVENT
BEGIN:VEVENT
DTSTAMP:20260423T075551Z
UID:8ee3bd6a-2491-4347-b050-7217a3650b93
DTSTART:20220407T224000Z
DTEND:20220407T230000Z
LOCATION:Ballroom
SUMMARY:The Scalable\, Resilient Data Layer at the Heart of Modern Retail  
 (Alexandra Elchinoff)
URL:https://pgconf.org/conferences/SV2022/program/proposals/1969
END:VEVENT
BEGIN:VEVENT
DTSTAMP:20260423T075551Z
UID:19aa56eb-593c-4cd8-a670-24abadb074eb
DTSTART:20220407T224000Z
DTEND:20220407T233000Z
LOCATION:Santa Clara
SUMMARY:Protect Purdue: Data Driven University Operations in a Pandemic (Ia
 n Pytlarz)
URL:https://pgconf.org/conferences/SV2022/program/proposals/1867
END:VEVENT
BEGIN:VEVENT
DTSTAMP:20260423T075551Z
UID:497262cd-258e-4fa3-bdd4-5ee8cfdb96d8
DTSTART:20220407T224000Z
DTEND:20220407T233000Z
LOCATION:Winchester
SUMMARY:Professional PostgreSQL scheduling made easy (Pavlo Golub)
URL:https://pgconf.org/conferences/SV2022/program/proposals/1813
END:VEVENT
BEGIN:VEVENT
DTSTAMP:20260423T075551Z
UID:6648ac69-ceb3-4467-8ff5-e1496f4cf8fe
DTSTART:20220407T231000Z
DTEND:20220407T233000Z
LOCATION:Ballroom
SUMMARY:Fireside chat: Building Postgres w/Bruce Momjian & Greg Kemnitz (Br
 uce Momjian)
URL:https://pgconf.org/conferences/SV2022/program/proposals/1947
END:VEVENT
BEGIN:VEVENT
DTSTAMP:20260423T075551Z
UID:ca7d5f7f-7264-4415-8fab-7413931b815b
DTSTART:20220407T234000Z
DTEND:20220408T000000Z
LOCATION:Ballroom
SUMMARY:IvorySQL (GRANT ZHOU)
URL:https://pgconf.org/conferences/SV2022/program/proposals/1957
END:VEVENT
BEGIN:VEVENT
DTSTAMP:20260423T075551Z
UID:a63f49ab-67e8-4eff-bf68-932b38f88256
DTSTART:20220407T234000Z
DTEND:20220408T000000Z
LOCATION:Winchester
SUMMARY:Do you vacuum everyday ? (Hannu Krosing)
URL:https://pgconf.org/conferences/SV2022/program/proposals/1973
END:VEVENT
BEGIN:VEVENT
DTSTAMP:20260423T075551Z
UID:f5dbabdc-443b-467b-9ed8-e23f3d1e66c7
DTSTART:20220407T234000Z
DTEND:20220408T000000Z
LOCATION:Santa Clara
SUMMARY:P_______SQL: Engine behind a de-identified medical data platform (W
 ojciech Koszek)
URL:https://pgconf.org/conferences/SV2022/program/proposals/1924
END:VEVENT
BEGIN:VEVENT
DTSTAMP:20260423T075551Z
UID:6e683658-9ab7-47d6-a856-93e31cd42f4c
DTSTART:20220408T000000Z
DTEND:20220408T002000Z
LOCATION:Winchester
SUMMARY:Google Journey: Bringing a PostgreSQL Interface to Cloud Spanner (B
 en Vandiver)
URL:https://pgconf.org/conferences/SV2022/program/proposals/1974
END:VEVENT
BEGIN:VEVENT
DTSTAMP:20260423T075551Z
UID:e7b7e28c-f4ad-4ce1-a3ea-f354c3ab11a6
DTSTART:20220408T160000Z
DTEND:20220408T162000Z
LOCATION:Winchester
SUMMARY:Simplifying System Architecture by Rethinking the Role of the Datab
 ase (David Benoit)
URL:https://pgconf.org/conferences/SV2022/program/proposals/1900
END:VEVENT
BEGIN:VEVENT
DTSTAMP:20260423T075552Z
UID:05a3bb11-5c1d-4270-80aa-34d1c0456d21
DTSTART:20220408T160000Z
DTEND:20220408T165000Z
LOCATION:Santa Clara
SUMMARY:Solving PostgreSQL wicked problems (Alexander Korotkov)
URL:https://pgconf.org/conferences/SV2022/program/proposals/1917
END:VEVENT
BEGIN:VEVENT
DTSTAMP:20260423T075552Z
UID:3a9a2bb9-c40f-407a-8660-06972223efbf
DTSTART:20220408T160000Z
DTEND:20220408T165000Z
LOCATION:Ballroom
SUMMARY:Managing extensions in RDS/Aurora (Chirag Dave)
URL:https://pgconf.org/conferences/SV2022/program/proposals/1942
END:VEVENT
BEGIN:VEVENT
DTSTAMP:20260423T075552Z
UID:b12cf894-07cc-4981-a976-22c24b142c63
DTSTART:20220408T163000Z
DTEND:20220408T165000Z
LOCATION:Winchester
SUMMARY:Introducing SPQR: Stateless Postgres Query Router (Andrey Borodin)
URL:https://pgconf.org/conferences/SV2022/program/proposals/1933
END:VEVENT
BEGIN:VEVENT
DTSTAMP:20260423T075552Z
UID:b1db0726-5518-4375-a347-88617454dfd9
DTSTART:20220408T170000Z
DTEND:20220408T175000Z
LOCATION:Ballroom
SUMMARY:Using aws_ml/aws_comprehend in Aurora PostgreSQL (Sundar Raghavan a
 nd Sukhpreet Bedi)
URL:https://pgconf.org/conferences/SV2022/program/proposals/1941
END:VEVENT
BEGIN:VEVENT
DTSTAMP:20260423T075552Z
UID:8dc77190-d1d5-456b-925a-d924acda0b43
DTSTART:20220408T170000Z
DTEND:20220408T175000Z
LOCATION:Santa Clara
SUMMARY:PL/Java - Extend the power of your database (Charly Batista)
URL:https://pgconf.org/conferences/SV2022/program/proposals/1822
END:VEVENT
BEGIN:VEVENT
DTSTAMP:20260423T075552Z
UID:558ee9eb-c3ed-4d9b-aad7-9db43fbe6a30
DTSTART:20220408T170000Z
DTEND:20220408T175000Z
LOCATION:Winchester
SUMMARY:ADVANCED INT->BIGINT CONVERSIONS (Robert Treat)
URL:https://pgconf.org/conferences/SV2022/program/proposals/1847
END:VEVENT
BEGIN:VEVENT
DTSTAMP:20260423T075552Z
UID:43c1fbcc-0b5f-41a3-abf9-aa62be8ed1c8
DTSTART:20220408T175000Z
DTEND:20220408T181000Z
LOCATION:Ballroom
SUMMARY:Friday Morning Break
URL:https://pgconf.org/conferences/SV2022/program/proposals/1962
END:VEVENT
BEGIN:VEVENT
DTSTAMP:20260423T075552Z
UID:2c428488-cd4c-41b2-b163-d2f624acf7dd
DTSTART:20220408T181000Z
DTEND:20220408T190000Z
LOCATION:Santa Clara
SUMMARY:EdgeDB - A graph-relational database (Yury Selivanov)
URL:https://pgconf.org/conferences/SV2022/program/proposals/1970
END:VEVENT
BEGIN:VEVENT
DTSTAMP:20260423T075552Z
UID:b6bf8c8f-42a8-4f62-9fdd-3bb9ba4df5e2
DTSTART:20220408T181000Z
DTEND:20220408T190000Z
LOCATION:Winchester
SUMMARY:Future Postgres Challenges (Bruce Momjian)
URL:https://pgconf.org/conferences/SV2022/program/proposals/1895
END:VEVENT
BEGIN:VEVENT
DTSTAMP:20260423T075552Z
UID:ad92e1ae-e231-4ff7-a343-675e4d058228
DTSTART:20220408T181000Z
DTEND:20220408T190000Z
LOCATION:Ballroom
SUMMARY:5 Tips for Building Scalable Application with ORM and Amazon RDS Po
 stgreSQL (Wanda  He)
URL:https://pgconf.org/conferences/SV2022/program/proposals/1932
END:VEVENT
BEGIN:VEVENT
DTSTAMP:20260423T075552Z
UID:d3c53f81-412e-4ef0-9a84-7d390d6fa098
DTSTART:20220408T190000Z
DTEND:20220408T200000Z
LOCATION:Ballroom
SUMMARY:Friday Lunch
URL:https://pgconf.org/conferences/SV2022/program/proposals/1960
END:VEVENT
BEGIN:VEVENT
DTSTAMP:20260423T075552Z
UID:745dce33-7627-495c-b2dd-7d9a2bc1777c
DTSTART:20220408T201000Z
DTEND:20220408T210000Z
LOCATION:Santa Clara
SUMMARY:Non-Relational Postgres (Bruce Momjian)
URL:https://pgconf.org/conferences/SV2022/program/proposals/1883
END:VEVENT
BEGIN:VEVENT
DTSTAMP:20260423T075552Z
UID:dae67d1e-a109-48bd-99c9-7b1fe916aa65
DTSTART:20220408T201000Z
DTEND:20220408T210000Z
LOCATION:Winchester
SUMMARY:Tune PostgreSQL for Read/Write Scalability. (Dr. Ibrar Ahmed)
URL:https://pgconf.org/conferences/SV2022/program/proposals/1868
END:VEVENT
BEGIN:VEVENT
DTSTAMP:20260423T075552Z
UID:77dfb3c5-e5a7-4758-bb58-b782fc8b573a
DTSTART:20220408T201000Z
DTEND:20220408T210000Z
LOCATION:Ballroom
SUMMARY:Using Global database in Amazon Aurora PostgreSQL (Shayon Sanyal an
 d Sukhpreet Bedi)
URL:https://pgconf.org/conferences/SV2022/program/proposals/1939
END:VEVENT
BEGIN:VEVENT
DTSTAMP:20260423T075552Z
UID:c4f22b31-0a36-49e7-b4f0-02ae70487e8d
DTSTART:20220408T211000Z
DTEND:20220408T220000Z
LOCATION:Santa Clara
SUMMARY:How to navigate the “interval” minefield (Bryn Llewellyn)
URL:https://pgconf.org/conferences/SV2022/program/proposals/1906
END:VEVENT
BEGIN:VEVENT
DTSTAMP:20260423T075552Z
UID:f0e7cea9-bd79-4bc0-a2f5-fd185aa916d9
DTSTART:20220408T211000Z
DTEND:20220408T220000Z
LOCATION:Ballroom
SUMMARY:Amazon Babelfish for Aurora (chandra pathivada)
URL:https://pgconf.org/conferences/SV2022/program/proposals/1931
END:VEVENT
BEGIN:VEVENT
DTSTAMP:20260423T075552Z
UID:7c5198e9-95c7-4c65-942d-e198a9488492
DTSTART:20220408T211000Z
DTEND:20220408T220000Z
LOCATION:Winchester
SUMMARY:A Deep Dive into PostgreSQL Indexing (Dr. Ibrar Ahmed)
URL:https://pgconf.org/conferences/SV2022/program/proposals/1826
END:VEVENT
BEGIN:VEVENT
DTSTAMP:20260423T075552Z
UID:32a50155-555b-4098-b217-27c7354e365f
DTSTART:20220408T222000Z
DTEND:20220408T224000Z
LOCATION:Winchester
SUMMARY:POSTGRESQL REPLICATION CONFLICTS: AVOIDING PITFALLS (Hamid Akhtar)
URL:https://pgconf.org/conferences/SV2022/program/proposals/1862
END:VEVENT
BEGIN:VEVENT
DTSTAMP:20260423T075552Z
UID:a788145a-713f-4b2f-a944-bbe4ffce84e4
DTSTART:20220408T222000Z
DTEND:20220408T231000Z
LOCATION:Ballroom
SUMMARY:Developing Event Driven Serverless applications using RDS/Aurora Po
 stgreSQL (Krishna Sarabu and Sundar Raghavan)
URL:https://pgconf.org/conferences/SV2022/program/proposals/1938
END:VEVENT
BEGIN:VEVENT
DTSTAMP:20260423T075552Z
UID:428c7958-ae3c-4c9e-aa71-607de960439d
DTSTART:20220408T222000Z
DTEND:20220408T224000Z
LOCATION:Santa Clara
SUMMARY:How Users Will Dictate and Change the Next 20 Years of PostgreSQL (
 Matt Yonkovit)
URL:https://pgconf.org/conferences/SV2022/program/proposals/1899
END:VEVENT
BEGIN:VEVENT
DTSTAMP:20260423T075552Z
UID:dbe7e3af-82b5-4cb6-9271-6c51b938a77f
DTSTART:20220408T225000Z
DTEND:20220408T231000Z
LOCATION:Santa Clara
SUMMARY:How to measure query performance (Alvaro Hernandez)
URL:https://pgconf.org/conferences/SV2022/program/proposals/1972
END:VEVENT
BEGIN:VEVENT
DTSTAMP:20260423T075552Z
UID:1e71ae7e-a41f-450b-bac8-fd0457b54679
DTSTART:20220408T225000Z
DTEND:20220408T231000Z
LOCATION:Winchester
SUMMARY:Beyond Off-the-Shelf Consensus (Rebecca Bilbro)
URL:https://pgconf.org/conferences/SV2022/program/proposals/1851
END:VEVENT
BEGIN:VEVENT
DTSTAMP:20260423T075552Z
UID:b9c4679a-04ed-48db-9673-e6d08a87b5b7
DTSTART:20220408T232000Z
DTEND:20220409T001000Z
LOCATION:Winchester
SUMMARY:Babelfish for PostgreSQL (Jim Nasby\, Debra Cerda\, and Gopinath Pa
 i)
URL:https://pgconf.org/conferences/SV2022/program/proposals/1958
END:VEVENT
BEGIN:VEVENT
DTSTAMP:20260423T075552Z
UID:3cd82dc3-ac26-450d-9ca4-dcff827135a9
DTSTART:20220408T232000Z
DTEND:20220409T001000Z
LOCATION:Ballroom
SUMMARY:Connection scalability for Enterprise Applications (Scott Mead)
URL:https://pgconf.org/conferences/SV2022/program/proposals/1937
END:VEVENT
BEGIN:VEVENT
DTSTAMP:20260423T075552Z
UID:baa66b4b-fb39-42af-8073-cd7b4a697e9a
DTSTART:20220408T232000Z
DTEND:20220409T001000Z
LOCATION:Santa Clara
SUMMARY:Common DB Schema Change Mistakes (Nikolay Samokhvalov)
URL:https://pgconf.org/conferences/SV2022/program/proposals/1910
END:VEVENT
BEGIN:VEVENT
DTSTAMP:20260423T075552Z
UID:48219f08-d7a4-4c29-bd63-a49e856b8684
DTSTART:20220409T002000Z
DTEND:20220409T004000Z
LOCATION:Ballroom
SUMMARY:Amazon Aurora Global Database Design Patterns for HA and DR (Shayon
  Sanyal)
URL:https://pgconf.org/conferences/SV2022/program/proposals/1936
END:VEVENT
END:VCALENDAR
