BEGIN:VCALENDAR
VERSION:2.0
PRODID:Silicon Valley 2019
CALSCALE:GREGORIAN
BEGIN:VEVENT
DTSTAMP:20260423T075444Z
UID:089e3abe-a06e-4a2a-81fa-3c143f28f56d
DTSTART:20190918T160000Z
DTEND:20190918T190000Z
LOCATION:Winchester (2)
SUMMARY:Building scalable\, real-time analytics applications with Azure Dat
 abase for PostgreSQL (Samay Sharma)
URL:https://pgconf.org/conferences/SV2019/program/proposals/1137
END:VEVENT
BEGIN:VEVENT
DTSTAMP:20260423T075444Z
UID:a4b43ade-b073-4c6d-b37a-33d122f37749
DTSTART:20190918T160000Z
DTEND:20190918T190000Z
LOCATION:Winchester (1)
SUMMARY:Postgresql performance tuning - a crash course (Malcolm McLean)
URL:https://pgconf.org/conferences/SV2019/program/proposals/1248
END:VEVENT
BEGIN:VEVENT
DTSTAMP:20260423T075444Z
UID:a3c573fa-f5e8-495a-9624-43bb1fd6352c
DTSTART:20190918T190000Z
DTEND:20190918T200000Z
LOCATION:Patio
SUMMARY:Wed Lunch
URL:https://pgconf.org/conferences/SV2019/program/proposals/1354
END:VEVENT
BEGIN:VEVENT
DTSTAMP:20260423T075444Z
UID:3a669e59-f751-4df8-b7ac-f532d61ef453
DTSTART:20190918T200000Z
DTEND:20190918T230000Z
LOCATION:Winchester (2)
SUMMARY:Finding and fixing slow queries (Hans-Jürgen Schönig)
URL:https://pgconf.org/conferences/SV2019/program/proposals/1149
END:VEVENT
BEGIN:VEVENT
DTSTAMP:20260423T075444Z
UID:d81537fb-2f80-4bb3-ba7e-70d0ea165ea9
DTSTART:20190918T200000Z
DTEND:20190918T230000Z
LOCATION:Winchester (1)
SUMMARY:Oracle to PostgreSQL Migration Tutorial  (Alvaro Hernandez)
URL:https://pgconf.org/conferences/SV2019/program/proposals/1171
END:VEVENT
BEGIN:VEVENT
DTSTAMP:20260423T075444Z
UID:8294a4a9-255f-4336-aa38-0a1b94b314db
DTSTART:20190919T003000Z
DTEND:20190919T023000Z
LOCATION:Winchester (1)
SUMMARY:Silicon Valley Postgres Meetup
URL:https://pgconf.org/conferences/SV2019/program/proposals/1352
END:VEVENT
BEGIN:VEVENT
DTSTAMP:20260423T075444Z
UID:047adc27-0bfe-4550-b27a-ccc73c9bd38b
DTSTART:20190919T160000Z
DTEND:20190919T170000Z
LOCATION:Winchester (1)
SUMMARY:Thursday Registration
URL:https://pgconf.org/conferences/SV2019/program/proposals/1350
END:VEVENT
BEGIN:VEVENT
DTSTAMP:20260423T075444Z
UID:e30fff80-cbc8-434b-a15b-10e030f6f1a7
DTSTART:20190919T170000Z
DTEND:20190919T173000Z
LOCATION:Ballroom
SUMMARY:Conference Launch
URL:https://pgconf.org/conferences/SV2019/program/proposals/1349
END:VEVENT
BEGIN:VEVENT
DTSTAMP:20260423T075444Z
UID:cb9a961e-69f8-438e-997f-9345e26bb39a
DTSTART:20190919T180000Z
DTEND:20190919T185000Z
LOCATION:Winchester (2)
SUMMARY:How the Heimdall Proxy Improved SQL Scale for the World's #1 Coffee
  Retailer  (Lee Roland)
URL:https://pgconf.org/conferences/SV2019/program/proposals/1121
END:VEVENT
BEGIN:VEVENT
DTSTAMP:20260423T075444Z
UID:ba85b096-9f15-4bea-b9d0-f33decbfd11f
DTSTART:20190919T180000Z
DTEND:20190919T185000Z
LOCATION:Market
SUMMARY:Using PostgreSQL for Data Privacy and Security (Mason Sharp)
URL:https://pgconf.org/conferences/SV2019/program/proposals/1208
END:VEVENT
BEGIN:VEVENT
DTSTAMP:20260423T075444Z
UID:6b4bd93f-a516-4851-bb67-4662023b16aa
DTSTART:20190919T180000Z
DTEND:20190919T185000Z
LOCATION:Winchester (1)
SUMMARY:PostgreSQL as a Graph Database (Greg Spiegelberg)
URL:https://pgconf.org/conferences/SV2019/program/proposals/1176
END:VEVENT
BEGIN:VEVENT
DTSTAMP:20260423T075444Z
UID:4a436036-cec9-4a13-80f4-ff8557236f81
DTSTART:20190919T190000Z
DTEND:20190919T195000Z
LOCATION:Winchester (1)
SUMMARY:The PostgreSQL optimizer: What it really does (Hans-Jürgen Schöni
 g)
URL:https://pgconf.org/conferences/SV2019/program/proposals/1146
END:VEVENT
BEGIN:VEVENT
DTSTAMP:20260423T075444Z
UID:ba5861c7-0bed-4fd5-84ea-c5389b6ee26f
DTSTART:20190919T190000Z
DTEND:20190919T195000Z
LOCATION:Market
SUMMARY:Creating Continuously Up to Date Materialized Aggregates (David Koh
 n)
URL:https://pgconf.org/conferences/SV2019/program/proposals/1181
END:VEVENT
BEGIN:VEVENT
DTSTAMP:20260423T075444Z
UID:03e92526-313c-4926-8ee4-fd162c12de1d
DTSTART:20190919T190000Z
DTEND:20190919T195000Z
LOCATION:Winchester (2)
SUMMARY:The NoSQL store everyone ignored (Zohaib Sibte Hassan)
URL:https://pgconf.org/conferences/SV2019/program/proposals/1119
END:VEVENT
BEGIN:VEVENT
DTSTAMP:20260423T075444Z
UID:2214a8a2-487b-4efd-87ab-9aebe44a46f8
DTSTART:20190919T193000Z
DTEND:20190919T195000Z
LOCATION:Ballroom
SUMMARY:6 Technical Challenges Developing a Distributed SQL Database (Karth
 ik Ranganathan)
URL:https://pgconf.org/conferences/SV2019/program/proposals/1323
END:VEVENT
BEGIN:VEVENT
DTSTAMP:20260423T075444Z
UID:092103f0-7b20-4b0b-9df3-d3a1fd040941
DTSTART:20190919T195000Z
DTEND:20190919T205000Z
LOCATION:Patio
SUMMARY:Thursday Lunch
URL:https://pgconf.org/conferences/SV2019/program/proposals/1355
END:VEVENT
BEGIN:VEVENT
DTSTAMP:20260423T075444Z
UID:599e55fd-9f2b-495f-b55c-26cc701e421d
DTSTART:20190919T210000Z
DTEND:20190919T215000Z
LOCATION:Winchester (1)
SUMMARY:PostgreSQL Extensions:  (Jignesh Shah)
URL:https://pgconf.org/conferences/SV2019/program/proposals/1158
END:VEVENT
BEGIN:VEVENT
DTSTAMP:20260423T075444Z
UID:d7c1a89e-ed9d-4f36-b9d5-b84c4c8f96cc
DTSTART:20190919T210000Z
DTEND:20190919T215000Z
LOCATION:Market
SUMMARY:Wait! What's going on inside my database? Understanding PostgreSQL 
 wait events (Jeremy Schneider)
URL:https://pgconf.org/conferences/SV2019/program/proposals/1169
END:VEVENT
BEGIN:VEVENT
DTSTAMP:20260423T075444Z
UID:a0a106cb-02a5-4e75-a985-6d5b82c48f99
DTSTART:20190919T210000Z
DTEND:20190919T215000Z
LOCATION:Winchester (2)
SUMMARY:PostgreSQL as a Big Data Platform (Christopher Travers)
URL:https://pgconf.org/conferences/SV2019/program/proposals/1154
END:VEVENT
BEGIN:VEVENT
DTSTAMP:20260423T075444Z
UID:03bf47e8-412c-4112-8344-ef4db009d325
DTSTART:20190919T210000Z
DTEND:20190919T215000Z
LOCATION:Ballroom
SUMMARY:The Architecture of a Geo-DistributedSQL Database (Andrew Woods)
URL:https://pgconf.org/conferences/SV2019/program/proposals/1333
END:VEVENT
BEGIN:VEVENT
DTSTAMP:20260423T075444Z
UID:aa1d1172-bbaf-4d67-a314-058378866b89
DTSTART:20190919T220000Z
DTEND:20190919T225000Z
LOCATION:Winchester (2)
SUMMARY:The Great Escape: On Prem to the Cloud with Postgres (Morgan Howes)
URL:https://pgconf.org/conferences/SV2019/program/proposals/1172
END:VEVENT
BEGIN:VEVENT
DTSTAMP:20260423T075444Z
UID:04f550f5-ff35-4ad8-962e-9bc565a83671
DTSTART:20190919T220000Z
DTEND:20190919T225000Z
LOCATION:Winchester (1)
SUMMARY:PostgreSQL with In-Memory Computing: Faster Transactions and Analyt
 ics (Denis Magda)
URL:https://pgconf.org/conferences/SV2019/program/proposals/1123
END:VEVENT
BEGIN:VEVENT
DTSTAMP:20260423T075444Z
UID:660cf698-d324-468d-937c-7cc59aa88b4c
DTSTART:20190919T220000Z
DTEND:20190919T225000Z
LOCATION:Market
SUMMARY: 10 Steps to good PostgreSQL Performance  (Hans-Jürgen Schönig)
URL:https://pgconf.org/conferences/SV2019/program/proposals/1148
END:VEVENT
BEGIN:VEVENT
DTSTAMP:20260423T075444Z
UID:760b10cf-7c41-46b7-afdb-94ac90523d00
DTSTART:20190919T231000Z
DTEND:20190920T000000Z
LOCATION:Winchester (1)
SUMMARY:Unleashing the the power of PostgresSql with kubernetes on Diamanti
  (arvind gupta)
URL:https://pgconf.org/conferences/SV2019/program/proposals/1170
END:VEVENT
BEGIN:VEVENT
DTSTAMP:20260423T075444Z
UID:fa303e5a-53c6-4c2a-8d67-808172e5b795
DTSTART:20190919T231000Z
DTEND:20190920T000000Z
LOCATION:Market
SUMMARY:PostgreSQL V12: Features and migration considerations (Joshua D. Dr
 ake)
URL:https://pgconf.org/conferences/SV2019/program/proposals/1303
END:VEVENT
BEGIN:VEVENT
DTSTAMP:20260423T075444Z
UID:6f8d5870-155f-4a08-ae83-0e2945423c49
DTSTART:20190919T231000Z
DTEND:20190920T000000Z
LOCATION:Winchester (2)
SUMMARY:Advanced compression in TimescaleDB with hybrid row/columnar storag
 e (David Kohn)
URL:https://pgconf.org/conferences/SV2019/program/proposals/1206
END:VEVENT
BEGIN:VEVENT
DTSTAMP:20260423T075444Z
UID:f15e05f6-5a25-4ab2-9a51-d454d72e6c38
DTSTART:20190920T003000Z
DTEND:20190920T023000Z
LOCATION:Market
SUMMARY:Probability Management – A Cure for the Flaw of Averages
URL:https://pgconf.org/conferences/SV2019/program/proposals/1357
END:VEVENT
BEGIN:VEVENT
DTSTAMP:20260423T075444Z
UID:cde90b45-faa2-4627-9d2a-15f88eee75b4
DTSTART:20190920T003000Z
DTEND:20190920T023000Z
LOCATION:Patio
SUMMARY:AWS: Networking and Cocktail Hour
URL:https://pgconf.org/conferences/SV2019/program/proposals/1353
END:VEVENT
BEGIN:VEVENT
DTSTAMP:20260423T075444Z
UID:a26c0def-386d-4165-ae4d-dbf414f236c8
DTSTART:20190920T160000Z
DTEND:20190920T162000Z
LOCATION:Ballroom
SUMMARY:The Past\, Present and Future of Enterprise IT in a Cloud-Native Wo
 rld (James Watters)
URL:https://pgconf.org/conferences/SV2019/program/proposals/1359
END:VEVENT
BEGIN:VEVENT
DTSTAMP:20260423T075444Z
UID:bac60bb1-7d81-4dba-b9a7-deb638646219
DTSTART:20190920T160000Z
DTEND:20190920T170000Z
LOCATION:Winchester (1)
SUMMARY:Friday Registration
URL:https://pgconf.org/conferences/SV2019/program/proposals/1351
END:VEVENT
BEGIN:VEVENT
DTSTAMP:20260423T075444Z
UID:5de1fe7f-7062-45b3-8e6a-923585c619d3
DTSTART:20190920T163000Z
DTEND:20190920T165000Z
LOCATION:Ballroom
SUMMARY:Building Planet-Scale\, Cloud-Native Apps with GraphQL and Distribu
 ted SQL (Tanmai Gopal)
URL:https://pgconf.org/conferences/SV2019/program/proposals/1342
END:VEVENT
BEGIN:VEVENT
DTSTAMP:20260423T075444Z
UID:e860141b-7fac-4dfd-8c7f-c4ebe1f7d794
DTSTART:20190920T170000Z
DTEND:20190920T175000Z
LOCATION:Ballroom
SUMMARY:The Evolution of Distributed Databases at Facebook ( Jeff Rothschil
 d\,  Vishal Kathuria\,  Dhruba  Borthakur\,  Harrison Fisk\, and  Victoria
  Dudin)
URL:https://pgconf.org/conferences/SV2019/program/proposals/1325
END:VEVENT
BEGIN:VEVENT
DTSTAMP:20260423T075444Z
UID:dd7f06cf-8db1-4ee2-88df-b71eebca7645
DTSTART:20190920T170000Z
DTEND:20190920T175000Z
LOCATION:Winchester (2)
SUMMARY:What you learn in the first six months on a high performance Postgr
 es team (Micah Gates)
URL:https://pgconf.org/conferences/SV2019/program/proposals/1120
END:VEVENT
BEGIN:VEVENT
DTSTAMP:20260423T075444Z
UID:c9791d0b-bb3d-4c5c-b235-7fc95e0b288e
DTSTART:20190920T170000Z
DTEND:20190920T175000Z
LOCATION:Market
SUMMARY:Vacuuming through pictures ( Tom Kincaid and Andrew Dunstan)
URL:https://pgconf.org/conferences/SV2019/program/proposals/1302
END:VEVENT
BEGIN:VEVENT
DTSTAMP:20260423T075444Z
UID:d0b6d8a8-e625-42a0-8dd5-e6b1774c08be
DTSTART:20190920T170000Z
DTEND:20190920T175000Z
LOCATION:Winchester (1)
SUMMARY:Postgresql in Kubernetes  (Armin Nesiren)
URL:https://pgconf.org/conferences/SV2019/program/proposals/1205
END:VEVENT
BEGIN:VEVENT
DTSTAMP:20260423T075444Z
UID:23365e8e-c192-4dac-a4e3-ae2faedcb1be
DTSTART:20190920T180000Z
DTEND:20190920T182000Z
LOCATION:Ballroom
SUMMARY:Google Spanner's SQL Evolution ( Campbell Fraser)
URL:https://pgconf.org/conferences/SV2019/program/proposals/1308
END:VEVENT
BEGIN:VEVENT
DTSTAMP:20260423T075444Z
UID:fef8a4c0-9d7b-413e-aa14-1fb58697cbaa
DTSTART:20190920T181000Z
DTEND:20190920T190000Z
LOCATION:Winchester (1)
SUMMARY:High Availability and Automatic Failover in PostgreSQL (Avinash Val
 larapu)
URL:https://pgconf.org/conferences/SV2019/program/proposals/1268
END:VEVENT
BEGIN:VEVENT
DTSTAMP:20260423T075444Z
UID:5e26275b-3733-45aa-b80a-86c2365329dd
DTSTART:20190920T181000Z
DTEND:20190920T190000Z
LOCATION:Market
SUMMARY:AutoVacuum - Tuning and Monitoring (Lloyd Albin)
URL:https://pgconf.org/conferences/SV2019/program/proposals/1187
END:VEVENT
BEGIN:VEVENT
DTSTAMP:20260423T075444Z
UID:579a94b8-c55b-4825-bfb9-5f766a950046
DTSTART:20190920T181000Z
DTEND:20190920T190000Z
LOCATION:Winchester (2)
SUMMARY:From SQL Server DBA to Postgres DBA (Victoria McCormick)
URL:https://pgconf.org/conferences/SV2019/program/proposals/1278
END:VEVENT
BEGIN:VEVENT
DTSTAMP:20260423T075444Z
UID:5a10d1b4-8d43-4429-be7f-afef30255b95
DTSTART:20190920T183000Z
DTEND:20190920T185000Z
LOCATION:Ballroom
SUMMARY:Strongly Consistent Global Indexes for Apache Phoenix (Kadir Ozdemi
 r)
URL:https://pgconf.org/conferences/SV2019/program/proposals/1347
END:VEVENT
BEGIN:VEVENT
DTSTAMP:20260423T075444Z
UID:6cf527a6-8421-4a10-bd97-3c0d01729aac
DTSTART:20190920T190000Z
DTEND:20190920T192000Z
LOCATION:Ballroom
SUMMARY:Benchmarking Distributed SQL Databases ( Robert Winslow)
URL:https://pgconf.org/conferences/SV2019/program/proposals/1310
END:VEVENT
BEGIN:VEVENT
DTSTAMP:20260423T075444Z
UID:2107e2df-7fbd-4c58-8789-51418e84a844
DTSTART:20190920T191000Z
DTEND:20190920T200000Z
LOCATION:Winchester (2)
SUMMARY:PostgreSQL Managed Services at Amazon RDS: Best Practices (Jim Mlod
 genski)
URL:https://pgconf.org/conferences/SV2019/program/proposals/1257
END:VEVENT
BEGIN:VEVENT
DTSTAMP:20260423T075444Z
UID:a18707f7-62d4-4dbc-abce-da61ac242f7d
DTSTART:20190920T191000Z
DTEND:20190920T200000Z
LOCATION:Market
SUMMARY:Effectively securing your PostgreSQL database (Malcolm McLean)
URL:https://pgconf.org/conferences/SV2019/program/proposals/1245
END:VEVENT
BEGIN:VEVENT
DTSTAMP:20260423T075444Z
UID:8437fb31-8b01-4eb4-b04a-e0c73a84e5ea
DTSTART:20190920T191000Z
DTEND:20190920T200000Z
LOCATION:Winchester (1)
SUMMARY:Professional PostgreSQL monitoring made easy (Pavlo Golub)
URL:https://pgconf.org/conferences/SV2019/program/proposals/1168
END:VEVENT
BEGIN:VEVENT
DTSTAMP:20260423T075444Z
UID:59527db5-46ee-455e-9bb6-806c44aad7f9
DTSTART:20190920T193000Z
DTEND:20190920T195000Z
LOCATION:Ballroom
SUMMARY:Distributed MySQL Architectures\, Past\, Present and Future ( Peter
  Zaitsev)
URL:https://pgconf.org/conferences/SV2019/program/proposals/1309
END:VEVENT
BEGIN:VEVENT
DTSTAMP:20260423T075444Z
UID:6026dbfd-6573-4b64-8d10-b216e68e6f1b
DTSTART:20190920T200000Z
DTEND:20190920T210000Z
LOCATION:Patio
SUMMARY:Friday Lunch
URL:https://pgconf.org/conferences/SV2019/program/proposals/1356
END:VEVENT
BEGIN:VEVENT
DTSTAMP:20260423T075444Z
UID:bba4bee1-7c28-4cff-a957-5c71687c14bd
DTSTART:20190920T210000Z
DTEND:20190920T215000Z
LOCATION:Winchester (2)
SUMMARY:How to Reduce Your Time-Consuming PostgreSQL Operational Tasks by 9
 0% with ScaleGrid (dharshan rangegowda)
URL:https://pgconf.org/conferences/SV2019/program/proposals/1254
END:VEVENT
BEGIN:VEVENT
DTSTAMP:20260423T075444Z
UID:00e8c584-4745-40c3-a559-c47752990052
DTSTART:20190920T210000Z
DTEND:20190920T215000Z
LOCATION:Market
SUMMARY:Using SSL with PostgreSQL and pgbouncer (Andrew Dunstan)
URL:https://pgconf.org/conferences/SV2019/program/proposals/1285
END:VEVENT
BEGIN:VEVENT
DTSTAMP:20260423T075444Z
UID:e0c29ee9-1a51-4466-934b-d56f141c8b1c
DTSTART:20190920T210000Z
DTEND:20190920T215000Z
LOCATION:Winchester (1)
SUMMARY:Mostly mistaken and ignored PostgreSQL parameters while optimizing 
 a PostgreSQL database (Avinash Vallarapu)
URL:https://pgconf.org/conferences/SV2019/program/proposals/1262
END:VEVENT
BEGIN:VEVENT
DTSTAMP:20260423T075444Z
UID:710abcbc-1f91-4501-a869-b47b218b0eb1
DTSTART:20190920T210000Z
DTEND:20190920T212000Z
LOCATION:Ballroom
SUMMARY:Building Microservices in a Cloud-Native World with Distributed SQL
  ( Ryan Scheidter)
URL:https://pgconf.org/conferences/SV2019/program/proposals/1317
END:VEVENT
BEGIN:VEVENT
DTSTAMP:20260423T075444Z
UID:7195cc1b-e872-47d2-984f-634367cf0a8b
DTSTART:20190920T213000Z
DTEND:20190920T215000Z
LOCATION:Ballroom
SUMMARY:How-To: Zero Downtime Migrations from Oracle to a Cloud-Native Post
 greSQL (Rajkumar Sen)
URL:https://pgconf.org/conferences/SV2019/program/proposals/1312
END:VEVENT
BEGIN:VEVENT
DTSTAMP:20260423T075444Z
UID:5e5c9220-9ec4-4264-8dc7-831b36752662
DTSTART:20190920T220000Z
DTEND:20190920T222000Z
LOCATION:Winchester (2)
SUMMARY:Implementing Temporal Tables in PostgreSQL (Alexey Solovtsov)
URL:https://pgconf.org/conferences/SV2019/program/proposals/1180
END:VEVENT
BEGIN:VEVENT
DTSTAMP:20260423T075444Z
UID:7cc02822-4baf-4934-a761-a6e205231dc3
DTSTART:20190920T220000Z
DTEND:20190920T222000Z
LOCATION:Ballroom
SUMMARY:Spring Forward to a Cloud-Native PostgreSQL (Nikhil Chandrappa and 
 Guillermo Tantachuco)
URL:https://pgconf.org/conferences/SV2019/program/proposals/1311
END:VEVENT
BEGIN:VEVENT
DTSTAMP:20260423T075444Z
UID:151d928f-2cdb-4d48-a40c-8554f619b88d
DTSTART:20190920T220000Z
DTEND:20190920T225000Z
LOCATION:Market
SUMMARY: Implementation and Coding Issues with building tiered architecture
 s and microservices (Daniil Treshchin)
URL:https://pgconf.org/conferences/SV2019/program/proposals/1329
END:VEVENT
BEGIN:VEVENT
DTSTAMP:20260423T075445Z
UID:0fc03d1d-f477-4938-91e7-993dffa576aa
DTSTART:20190920T220000Z
DTEND:20190920T225000Z
LOCATION:Winchester (1)
SUMMARY:Eeny\, Meeny\, Miny\, Moe (Richard Yen)
URL:https://pgconf.org/conferences/SV2019/program/proposals/1184
END:VEVENT
BEGIN:VEVENT
DTSTAMP:20260423T075445Z
UID:7744e730-72de-4d32-8fa1-67673edba0ec
DTSTART:20190920T223000Z
DTEND:20190920T225000Z
LOCATION:Ballroom
SUMMARY:An Introduction to Amazon Aurora (Jim Mlodgenski)
URL:https://pgconf.org/conferences/SV2019/program/proposals/1320
END:VEVENT
BEGIN:VEVENT
DTSTAMP:20260423T075445Z
UID:1e8fbfa9-b824-4893-87a6-19e4d670b632
DTSTART:20190920T230000Z
DTEND:20190920T235000Z
LOCATION:Market
SUMMARY:Taming Performance Variability in PostgreSQL (Sangwook Kim)
URL:https://pgconf.org/conferences/SV2019/program/proposals/1286
END:VEVENT
BEGIN:VEVENT
DTSTAMP:20260423T075445Z
UID:bf556721-c4d0-4b25-a7f3-c883d5291093
DTSTART:20190920T230000Z
DTEND:20190920T232000Z
LOCATION:Ballroom
SUMMARY:Scaling Microservices and Distributed Databases in a Multi-Cloud Wo
 rld ( Ram Ravichandran)
URL:https://pgconf.org/conferences/SV2019/program/proposals/1328
END:VEVENT
BEGIN:VEVENT
DTSTAMP:20260423T075445Z
UID:3f48e870-734e-4c16-92e2-ee359df937da
DTSTART:20190920T233000Z
DTEND:20190920T235000Z
LOCATION:Ballroom
SUMMARY:Powering Millions of Smart Homes with Near Real-Time and Cloud-Agno
 stic Distributed SQL (Murugesan Guruswamy)
URL:https://pgconf.org/conferences/SV2019/program/proposals/1343
END:VEVENT
END:VCALENDAR
