BEGIN:VCALENDAR
VERSION:2.0
PRODID:Seattle 2024
CALSCALE:GREGORIAN
BEGIN:VEVENT
DTSTAMP:20260423T075446Z
UID:2cd3831c-58d7-46b2-ba8c-1f18b66fa176
DTSTART:20241106T152000Z
DTEND:20241106T232000Z
LOCATION:Level 1 - Summit Lobby
SUMMARY:Registration
URL:https://pgconf.org/conferences/SEA2024/program/proposals/2350
END:VEVENT
BEGIN:VEVENT
DTSTAMP:20260423T075447Z
UID:41a0bff5-24ea-4c02-b2d8-c75cbd3276d1
DTSTART:20241106T161000Z
DTEND:20241106T173000Z
LOCATION:Microsoft Keynote Room: Level 5 - Ballroom 1
SUMMARY:Keynote
URL:https://pgconf.org/conferences/SEA2024/program/proposals/2349
END:VEVENT
BEGIN:VEVENT
DTSTAMP:20260423T075447Z
UID:4e3b6cae-ef0e-4a2c-b61b-746386ebba93
DTSTART:20241106T173000Z
DTEND:20241107T020000Z
LOCATION:Level 3 - Garden Lounge
SUMMARY:Community Zone
URL:https://pgconf.org/conferences/SEA2024/program/proposals/2355
END:VEVENT
BEGIN:VEVENT
DTSTAMP:20260423T075447Z
UID:d1abd596-d748-43b7-b418-2f8dab97dc05
DTSTART:20241106T174000Z
DTEND:20241106T183000Z
LOCATION:Essentials: 420
SUMMARY:Journey Through Postgres (Zak Tedder)
URL:https://pgconf.org/conferences/SEA2024/program/proposals/2391
END:VEVENT
BEGIN:VEVENT
DTSTAMP:20260423T075447Z
UID:bbadbddb-51cb-4bf7-8ec5-6f7b854c12dc
DTSTART:20241106T174000Z
DTEND:20241106T180000Z
LOCATION:Ops: 421
SUMMARY:Understanding Database Statistics in Postgres (Anita Singh and Raj 
 Jayakrishnan)
URL:https://pgconf.org/conferences/SEA2024/program/proposals/2377
END:VEVENT
BEGIN:VEVENT
DTSTAMP:20260423T075447Z
UID:5541b3ef-8d4e-455e-91cb-7f8db8c7c9e5
DTSTART:20241106T174000Z
DTEND:20241106T183000Z
LOCATION:Dev: 422
SUMMARY:Tips and Tricks for developers moving to PostgreSQL (Eric Lendvai)
URL:https://pgconf.org/conferences/SEA2024/program/proposals/2389
END:VEVENT
BEGIN:VEVENT
DTSTAMP:20260423T075447Z
UID:8b7f763c-6e90-47b6-8351-8c1d47b3ceb1
DTSTART:20241106T181000Z
DTEND:20241106T183000Z
LOCATION:Ops: 421
SUMMARY:Does machine learning for database optimization work in the real wo
 rld? (Bohan Zhang)
URL:https://pgconf.org/conferences/SEA2024/program/proposals/2316
END:VEVENT
BEGIN:VEVENT
DTSTAMP:20260423T075447Z
UID:a66ef5e0-12fb-49bf-8615-b32e7482dbc3
DTSTART:20241106T183000Z
DTEND:20241107T000000Z
LOCATION:Exhibit Hall: Level 2
SUMMARY:Exhibit Hall
URL:https://pgconf.org/conferences/SEA2024/program/proposals/2356
END:VEVENT
BEGIN:VEVENT
DTSTAMP:20260423T075447Z
UID:a4beedf9-174c-4013-8bd7-92208de7fc73
DTSTART:20241106T184000Z
DTEND:20241106T193000Z
LOCATION:Ops: 421
SUMMARY:Leveraging Patroni's synchronous replication feature to achieve hig
 h availability while running PostgreSQL on Kubernetes. (Shree Vidhya Sampa
 th)
URL:https://pgconf.org/conferences/SEA2024/program/proposals/2339
END:VEVENT
BEGIN:VEVENT
DTSTAMP:20260423T075447Z
UID:3e6a48e5-8347-4ea7-81c2-a74cb043d70f
DTSTART:20241106T184000Z
DTEND:20241106T193000Z
LOCATION:Dev: 422
SUMMARY:A technical overview to unlock Seamless Logical Replication from He
 terogeneous Databases (MySQL\, Oracle\, SQL Server\, and More) to PostgreS
 QL (Cary Huang)
URL:https://pgconf.org/conferences/SEA2024/program/proposals/2374
END:VEVENT
BEGIN:VEVENT
DTSTAMP:20260423T075447Z
UID:62e78427-aa2b-48e1-a29f-457db6cc2081
DTSTART:20241106T191000Z
DTEND:20241106T193000Z
LOCATION:Essentials: 420
SUMMARY:FerretDB: Bringing MongoDB workloads to PostgreSQL (Peter Farkas)
URL:https://pgconf.org/conferences/SEA2024/program/proposals/2308
END:VEVENT
BEGIN:VEVENT
DTSTAMP:20260423T075447Z
UID:256fb34e-6e09-408d-9c19-fe18ed573715
DTSTART:20241106T194000Z
DTEND:20241106T200000Z
LOCATION:Dev: 422
SUMMARY:Converting your schema from Oracle\, MSSQL\, MySQL to PostgreSQL in
  minutes with DataWharf (Eric Lendvai)
URL:https://pgconf.org/conferences/SEA2024/program/proposals/2388
END:VEVENT
BEGIN:VEVENT
DTSTAMP:20260423T075447Z
UID:d9a50fdf-e5d8-48c3-a1ae-5e25f6f0b0e4
DTSTART:20241106T194000Z
DTEND:20241106T200000Z
LOCATION:Essentials: 420
SUMMARY:Leveling Up Your PostgreSQL Game using Extensions (Anita Singh and 
 Rajeev Thottathil)
URL:https://pgconf.org/conferences/SEA2024/program/proposals/2342
END:VEVENT
BEGIN:VEVENT
DTSTAMP:20260423T075447Z
UID:671dfc3f-2bb6-41ee-a24f-c8d80442e45c
DTSTART:20241106T194000Z
DTEND:20241106T200000Z
LOCATION:Ops: 421
SUMMARY:Introducing SynchDB: Open-Source Synchronization Across Heterogeneo
 us Databases with PostgreSQL (Grant Zhou)
URL:https://pgconf.org/conferences/SEA2024/program/proposals/2372
END:VEVENT
BEGIN:VEVENT
DTSTAMP:20260423T075447Z
UID:2c4338db-1bb3-4f65-8687-5213de43d009
DTSTART:20241106T201000Z
DTEND:20241106T210000Z
LOCATION:Dev: 422
SUMMARY:Beyond the Basics: Exploring PostgreSQL Catalogs and Extensions (Sw
 anand Kshirsagar and Venkataramanan Govindarajan)
URL:https://pgconf.org/conferences/SEA2024/program/proposals/2345
END:VEVENT
BEGIN:VEVENT
DTSTAMP:20260423T075447Z
UID:726863bb-21c6-4aff-bf0d-e798ded29411
DTSTART:20241106T201000Z
DTEND:20241106T210000Z
LOCATION:Essentials: 420
SUMMARY:Practical Memory Tuning for PostgreSQL (Grant McAlister)
URL:https://pgconf.org/conferences/SEA2024/program/proposals/2380
END:VEVENT
BEGIN:VEVENT
DTSTAMP:20260423T075447Z
UID:cedbec14-69a1-4164-9342-ecf7fa10c98a
DTSTART:20241106T201000Z
DTEND:20241106T210000Z
LOCATION:Ops: 421
SUMMARY:What makes PostgreSQL on Kubernetes interesting\, even if it is may
 be not for you? (Fernando  Laudares Camargos)
URL:https://pgconf.org/conferences/SEA2024/program/proposals/2382
END:VEVENT
BEGIN:VEVENT
DTSTAMP:20260423T075447Z
UID:dcea6f94-be96-49df-8323-0b2234cac3a2
DTSTART:20241106T202000Z
DTEND:20241106T220000Z
LOCATION:AWS Dining Hall Level 2 - Flex C
SUMMARY:Lunch
URL:https://pgconf.org/conferences/SEA2024/program/proposals/2352
END:VEVENT
BEGIN:VEVENT
DTSTAMP:20260423T075447Z
UID:910ff4ed-3145-4891-81d4-57986b81e82a
DTSTART:20241106T220000Z
DTEND:20241106T222000Z
LOCATION:Dev: 422
SUMMARY:Top 5 PostgreSQL Query Tuning Tips (Janis Griffin)
URL:https://pgconf.org/conferences/SEA2024/program/proposals/2306
END:VEVENT
BEGIN:VEVENT
DTSTAMP:20260423T075447Z
UID:e6285d2e-a368-4cc2-91ee-a921ca2a2611
DTSTART:20241106T220000Z
DTEND:20241106T225000Z
LOCATION:Ops: 421
SUMMARY:Database DevOps (Stephen Atwell and Christopher Crow)
URL:https://pgconf.org/conferences/SEA2024/program/proposals/2309
END:VEVENT
BEGIN:VEVENT
DTSTAMP:20260423T075447Z
UID:a0d6df39-19b1-4323-a6e3-534ca7afc151
DTSTART:20241106T220000Z
DTEND:20241106T225000Z
LOCATION:Essentials: 420
SUMMARY:PostgreSQL for Oracle DBAs (Thuymy Tran and chandra pathivada)
URL:https://pgconf.org/conferences/SEA2024/program/proposals/2361
END:VEVENT
BEGIN:VEVENT
DTSTAMP:20260423T075447Z
UID:a658ef7a-d84a-4de2-835a-79236e572798
DTSTART:20241106T230000Z
DTEND:20241106T235000Z
LOCATION:Essentials: 420
SUMMARY:Professional PostgreSQL monitoring made easy (Pavlo Golub)
URL:https://pgconf.org/conferences/SEA2024/program/proposals/2301
END:VEVENT
BEGIN:VEVENT
DTSTAMP:20260423T075447Z
UID:6496aec8-7c86-48d6-b3dc-2d8e3ce0aa81
DTSTART:20241106T230000Z
DTEND:20241106T235000Z
LOCATION:Ops: 421
SUMMARY:Collation Surprises: Did Postgres Lose My Data? (2024) (Jeremy Schn
 eider)
URL:https://pgconf.org/conferences/SEA2024/program/proposals/2317
END:VEVENT
BEGIN:VEVENT
DTSTAMP:20260423T075447Z
UID:b7d9e4db-82fa-4feb-9f5d-21a8fa1be981
DTSTART:20241106T230000Z
DTEND:20241106T235000Z
LOCATION:Dev: 422
SUMMARY:DDL Schema Migrations: Navigating the High-Scale Seas (Saraj Munjal
 )
URL:https://pgconf.org/conferences/SEA2024/program/proposals/2390
END:VEVENT
BEGIN:VEVENT
DTSTAMP:20260423T075447Z
UID:1da1281e-095f-4654-a172-d24da2a4f244
DTSTART:20241107T000000Z
DTEND:20241107T002000Z
LOCATION:Essentials: 420
SUMMARY:Bridging the Gap: Transition from SQL Server to Babelfish for Auror
 a PostgreSQL (Suraj Talreja)
URL:https://pgconf.org/conferences/SEA2024/program/proposals/2319
END:VEVENT
BEGIN:VEVENT
DTSTAMP:20260423T075447Z
UID:1379b26d-e201-4854-b999-057ab54052a8
DTSTART:20241107T000000Z
DTEND:20241107T005000Z
LOCATION:Ops: 421
SUMMARY:Bridging the Gap: Smooth Data Migration from Oracle to PostgreSQL (
 Clay  Jackson)
URL:https://pgconf.org/conferences/SEA2024/program/proposals/2307
END:VEVENT
BEGIN:VEVENT
DTSTAMP:20260423T075447Z
UID:35c56b0c-4f9d-45fa-b169-93239228afaf
DTSTART:20241107T000000Z
DTEND:20241107T005000Z
LOCATION:Dev: 422
SUMMARY:Architectural Considerations When Building Out Multi-Master Replica
 tion Clusters (Robert Bernier)
URL:https://pgconf.org/conferences/SEA2024/program/proposals/2367
END:VEVENT
BEGIN:VEVENT
DTSTAMP:20260423T075447Z
UID:fe07ce96-fb95-45a8-85cf-a94798dd9c1f
DTSTART:20241107T003000Z
DTEND:20241107T012000Z
LOCATION:Essentials: 420
SUMMARY:Why PostgreSQL Isn't Utilizing Indexes: Diagnosing and Solving Perf
 ormance Issues" (Chandra Pathivada)
URL:https://pgconf.org/conferences/SEA2024/program/proposals/2313
END:VEVENT
BEGIN:VEVENT
DTSTAMP:20260423T075447Z
UID:42a70f2d-c669-47b1-813e-fe62f7ee0918
DTSTART:20241107T010000Z
DTEND:20241107T015000Z
LOCATION:Ops: 421
SUMMARY:Overcoming Migration Challenges: From Oracle to PostgreSQL (BAJI SH
 AIK and Sameer Malik)
URL:https://pgconf.org/conferences/SEA2024/program/proposals/2346
END:VEVENT
BEGIN:VEVENT
DTSTAMP:20260423T075447Z
UID:4835f75b-3fae-4553-aad9-c6a702b5c1e2
DTSTART:20241107T010000Z
DTEND:20241107T012000Z
LOCATION:Dev: 422
SUMMARY:What's our Vector\, Victor? (Shaun Thomas)
URL:https://pgconf.org/conferences/SEA2024/program/proposals/2304
END:VEVENT
BEGIN:VEVENT
DTSTAMP:20260423T075447Z
UID:7c9715bd-aba3-476b-9200-aa5d65990247
DTSTART:20241107T013000Z
DTEND:20241107T015000Z
LOCATION:Dev: 422
SUMMARY:Don't Stop Retrievin': Building lightning-fast search in Postgres (
 Neil Hansen)
URL:https://pgconf.org/conferences/SEA2024/program/proposals/2381
END:VEVENT
BEGIN:VEVENT
DTSTAMP:20260423T075447Z
UID:521370e8-f6df-42b1-9638-1db01fd4127c
DTSTART:20241107T013000Z
DTEND:20241107T015000Z
LOCATION:Essentials: 420
SUMMARY:Mastering PostgreSQL Partitioning: Supercharge Performance and Simp
 lify Maintenance   (Ryan Booz)
URL:https://pgconf.org/conferences/SEA2024/program/proposals/2392
END:VEVENT
BEGIN:VEVENT
DTSTAMP:20260423T075447Z
UID:170a019e-bf43-423d-97c6-9b58ed26ae68
DTSTART:20241107T020000Z
DTEND:20241107T040000Z
LOCATION:Exhibit Hall: Level 2
SUMMARY:Exhibitor Reception
URL:https://pgconf.org/conferences/SEA2024/program/proposals/2359
END:VEVENT
BEGIN:VEVENT
DTSTAMP:20260423T075447Z
UID:f9a6ac7d-2245-4db4-9a68-ca27949a8622
DTSTART:20241107T155000Z
DTEND:20241107T235000Z
LOCATION:Level 1 - Summit Lobby
SUMMARY:Registration
URL:https://pgconf.org/conferences/SEA2024/program/proposals/2351
END:VEVENT
BEGIN:VEVENT
DTSTAMP:20260423T075448Z
UID:8e383110-ae5c-4948-a429-3a05a164a5c3
DTSTART:20241107T161000Z
DTEND:20241107T173000Z
LOCATION:Microsoft Keynote Room: Level 5 - Ballroom 1
SUMMARY:Keynote
URL:https://pgconf.org/conferences/SEA2024/program/proposals/2358
END:VEVENT
BEGIN:VEVENT
DTSTAMP:20260423T075448Z
UID:2e61c751-b414-415d-92fd-daf375070ca7
DTSTART:20241107T173000Z
DTEND:20241108T020000Z
LOCATION:Level 3 - Garden Lounge
SUMMARY:Community Zone
URL:https://pgconf.org/conferences/SEA2024/program/proposals/2354
END:VEVENT
BEGIN:VEVENT
DTSTAMP:20260423T075448Z
UID:20ebd9d4-d924-4a79-ae6e-9d2d626f5846
DTSTART:20241107T174000Z
DTEND:20241107T183000Z
LOCATION:Ops: 421
SUMMARY:PostgreSQL 17: Performance and Efficiency - A Live Demo Showcase (K
 umar Ramamurthy and Adarsha Kuthuru)
URL:https://pgconf.org/conferences/SEA2024/program/proposals/2376
END:VEVENT
BEGIN:VEVENT
DTSTAMP:20260423T075448Z
UID:09d0704d-f4ba-4b8b-9f58-9772bdcc71c0
DTSTART:20241107T174000Z
DTEND:20241107T183000Z
LOCATION:Essentials: 420
SUMMARY:SQL Team Six: How to Build Effective Teams (Aaron Cutshall)
URL:https://pgconf.org/conferences/SEA2024/program/proposals/2341
END:VEVENT
BEGIN:VEVENT
DTSTAMP:20260423T075448Z
UID:048c80d0-dcce-4d45-962a-38698831b675
DTSTART:20241107T174000Z
DTEND:20241107T183000Z
LOCATION:Dev: 422
SUMMARY:Time Travel Queries with Postgres (Harry Pierson)
URL:https://pgconf.org/conferences/SEA2024/program/proposals/2399
END:VEVENT
BEGIN:VEVENT
DTSTAMP:20260423T075448Z
UID:6526cf65-a21f-438c-8549-16b07a0d2c2a
DTSTART:20241107T183000Z
DTEND:20241108T000000Z
LOCATION:Exhibit Hall: Level 2
SUMMARY:Exhibit Hall
URL:https://pgconf.org/conferences/SEA2024/program/proposals/2357
END:VEVENT
BEGIN:VEVENT
DTSTAMP:20260423T075448Z
UID:c00caab5-8221-42c1-a3cc-691417e2934c
DTSTART:20241107T184000Z
DTEND:20241107T193000Z
LOCATION:Dev: 422
SUMMARY:Designing a check-in system for a space cruise line with PostgreSQL
 's new bidirectional replication (Fernando  Laudares Camargos)
URL:https://pgconf.org/conferences/SEA2024/program/proposals/2383
END:VEVENT
BEGIN:VEVENT
DTSTAMP:20260423T075448Z
UID:eb99b49b-7321-4c5c-bdb9-44a01820b7d1
DTSTART:20241107T184000Z
DTEND:20241107T193000Z
LOCATION:Essentials: 420
SUMMARY:Collation Challenges (Joe Conway)
URL:https://pgconf.org/conferences/SEA2024/program/proposals/2312
END:VEVENT
BEGIN:VEVENT
DTSTAMP:20260423T075448Z
UID:618fd0d8-59c3-4178-96b6-056e871194b8
DTSTART:20241107T184000Z
DTEND:20241107T193000Z
LOCATION:Ops: 421
SUMMARY:Tackling Scheduling Challenges with pg_cron and pg_dbms_job (BAJI S
 HAIK and Rajeshkumar Sabankar)
URL:https://pgconf.org/conferences/SEA2024/program/proposals/2347
END:VEVENT
BEGIN:VEVENT
DTSTAMP:20260423T075448Z
UID:e50fd5ae-c126-42e7-a3b2-840f9984e60b
DTSTART:20241107T194000Z
DTEND:20241107T200000Z
LOCATION:Ops: 421
SUMMARY:Klutch (Julian Fischer)
URL:https://pgconf.org/conferences/SEA2024/program/proposals/2373
END:VEVENT
BEGIN:VEVENT
DTSTAMP:20260423T075448Z
UID:828d045f-7258-4cde-bfc2-4c1594ce518c
DTSTART:20241107T194000Z
DTEND:20241107T203000Z
LOCATION:Essentials: 420
SUMMARY:Aurora PostgreSQL for SQL Server DBAs (Thuymy Tran and chandra path
 ivada)
URL:https://pgconf.org/conferences/SEA2024/program/proposals/2362
END:VEVENT
BEGIN:VEVENT
DTSTAMP:20260423T075448Z
UID:856955e3-fe9e-4863-b401-9a188989ff18
DTSTART:20241107T201000Z
DTEND:20241107T203000Z
LOCATION:Ops: 421
SUMMARY:Mastering RDS Maintenance: Strategies for Patching and Version Upgr
 ades (Arnab Saha and Krishna Sarabu)
URL:https://pgconf.org/conferences/SEA2024/program/proposals/2330
END:VEVENT
BEGIN:VEVENT
DTSTAMP:20260423T075448Z
UID:71b68c8e-a66b-4ae3-b379-19e9b8fe07b6
DTSTART:20241107T202000Z
DTEND:20241107T220000Z
LOCATION:AWS Dining Hall Level 2 - Flex C
SUMMARY:Lunch
URL:https://pgconf.org/conferences/SEA2024/program/proposals/2353
END:VEVENT
BEGIN:VEVENT
DTSTAMP:20260423T075448Z
UID:aa12f986-fd3e-4cf9-a487-b21f0d6266f9
DTSTART:20241107T213000Z
DTEND:20241107T215000Z
LOCATION:Dev: 422
SUMMARY:Innovating Customer Experience with Postgres: Transforming Health a
 nd Wellness at HERE Spa (Bill Tang)
URL:https://pgconf.org/conferences/SEA2024/program/proposals/2386
END:VEVENT
BEGIN:VEVENT
DTSTAMP:20260423T075448Z
UID:824fef0e-011c-4467-baa4-fa4d8dc1fd8e
DTSTART:20241107T213000Z
DTEND:20241107T222000Z
LOCATION:Ops: 421
SUMMARY:Designing Scalable Multi-Tenant Architectures with PostgreSQL for S
 aaS Solutions (Raj Jayakrishnan and Rajeev Thottathil)
URL:https://pgconf.org/conferences/SEA2024/program/proposals/2321
END:VEVENT
BEGIN:VEVENT
DTSTAMP:20260423T075448Z
UID:fe316408-75bd-4b50-8fbb-6b88896fe336
DTSTART:20241107T220000Z
DTEND:20241107T222000Z
LOCATION:Dev: 422
SUMMARY:Efficient Row Level Security in Different Database Platforms (Shail
 esh Doshi)
URL:https://pgconf.org/conferences/SEA2024/program/proposals/2379
END:VEVENT
BEGIN:VEVENT
DTSTAMP:20260423T075448Z
UID:63182916-a599-4bcf-883b-a8dd60159845
DTSTART:20241107T220000Z
DTEND:20241107T222000Z
LOCATION:Essentials: 420
SUMMARY:Customizing the Wordle Game Experience with PostgreSQL (Pavlo Golub
 )
URL:https://pgconf.org/conferences/SEA2024/program/proposals/2302
END:VEVENT
BEGIN:VEVENT
DTSTAMP:20260423T075448Z
UID:cdb7504b-a5ef-4b6d-990c-64840488565a
DTSTART:20241107T223000Z
DTEND:20241107T225000Z
LOCATION:Ops: 421
SUMMARY:Kubernetes Killed the High Availability Star (Shaun Thomas)
URL:https://pgconf.org/conferences/SEA2024/program/proposals/2303
END:VEVENT
BEGIN:VEVENT
DTSTAMP:20260423T075448Z
UID:a0660089-ba4e-40f8-92a8-2b21632c9a29
DTSTART:20241107T223000Z
DTEND:20241107T225000Z
LOCATION:Dev: 422
SUMMARY:Overcoming Common Pitfalls of Postgres Logical Decoding (Sai Sriram
 pur)
URL:https://pgconf.org/conferences/SEA2024/program/proposals/2384
END:VEVENT
BEGIN:VEVENT
DTSTAMP:20260423T075448Z
UID:b2863499-bdf4-49f9-ac26-e8c386ea578b
DTSTART:20241107T223000Z
DTEND:20241107T232000Z
LOCATION:Essentials: 420
SUMMARY:Query Optimizations and Where to Find Them: A Beginners Guide (Ryan
  Booz)
URL:https://pgconf.org/conferences/SEA2024/program/proposals/2393
END:VEVENT
BEGIN:VEVENT
DTSTAMP:20260423T075448Z
UID:23ccf712-aa97-4d4f-8f18-2d43fb8ff1b2
DTSTART:20241107T230000Z
DTEND:20241107T235000Z
LOCATION:Dev: 422
SUMMARY:Seamless Transition: Migrating from Commercial to Open Source Datab
 ases (Alvaro Costa-Neto and Minesh Chande)
URL:https://pgconf.org/conferences/SEA2024/program/proposals/2322
END:VEVENT
BEGIN:VEVENT
DTSTAMP:20260423T075448Z
UID:dee745a1-aa95-4f43-adbd-465ca639ea63
DTSTART:20241107T233000Z
DTEND:20241108T002000Z
LOCATION:Essentials: 420
SUMMARY:Responsible AI in generative AI era  (Neelam Koshiya)
URL:https://pgconf.org/conferences/SEA2024/program/proposals/2325
END:VEVENT
BEGIN:VEVENT
DTSTAMP:20260423T075448Z
UID:4c0212a3-daa8-465e-85a1-4cfdd84c61ab
DTSTART:20241108T000000Z
DTEND:20241108T005000Z
LOCATION:Ops: 421
SUMMARY:Managing A CitusDB Replication Cluster With Patroni (Robert Bernier
 )
URL:https://pgconf.org/conferences/SEA2024/program/proposals/2369
END:VEVENT
END:VCALENDAR
