BEGIN:VCALENDAR
VERSION:2.0
PRODID:Postgres World Webinar Series 2024
CALSCALE:GREGORIAN
BEGIN:VEVENT
DTSTAMP:20260423T115034Z
UID:971c5c0e-b94b-4cc4-a0fe-38c4e636a7cc
DTSTART:20240207T230000Z
DTEND:20240208T000000Z
LOCATION:PostgresWorld Zoom
SUMMARY:[Meetup Livestream] Better materialized views in 1 million LOC: Ins
 ide Materialize's PostgresSQL src (Sean Loiselle)
URL:https://pgconf.org/conferences/PostgresWorld_Webinars_2024/program/prop
 osals/2193
END:VEVENT
BEGIN:VEVENT
DTSTAMP:20260423T115034Z
UID:93c51895-4d83-4e96-8242-f0272f2b2833
DTSTART:20240522T170000Z
DTEND:20240522T180000Z
LOCATION:PostgresWorld Zoom
SUMMARY:Using Postgres in a Multi-Tenant SaaS - Securing Everyone’s Data 
 (Rajan Palanivel)
URL:https://pgconf.org/conferences/PostgresWorld_Webinars_2024/program/prop
 osals/2288
END:VEVENT
BEGIN:VEVENT
DTSTAMP:20260423T115034Z
UID:9459694e-ddf8-416f-a09b-a6992b89d6fd
DTSTART:20240612T170000Z
DTEND:20240612T180000Z
LOCATION:PostgresWorld Zoom
SUMMARY:Advanced Strategies for PostgreSQL Lock Management (Greg Dostatni)
URL:https://pgconf.org/conferences/PostgresWorld_Webinars_2024/program/prop
 osals/2289
END:VEVENT
BEGIN:VEVENT
DTSTAMP:20260423T115034Z
UID:f8247c8a-9330-44d1-b9e6-9184d1702c49
DTSTART:20240625T220000Z
DTEND:20240625T233000Z
LOCATION:PostgresWorld Zoom
SUMMARY:NYC Postgres Meetup Livestream: Postgres Automation and Hyperscalin
 g (Luigi Nardi)
URL:https://pgconf.org/conferences/PostgresWorld_Webinars_2024/program/prop
 osals/2290
END:VEVENT
BEGIN:VEVENT
DTSTAMP:20260423T115034Z
UID:bcdeca5f-1526-448d-bb59-4c38007c609b
DTSTART:20240626T170000Z
DTEND:20240626T180000Z
LOCATION:PostgresWorld Zoom
SUMMARY:Build Gen AI Apps on PostgreSQL that Run Anywhere (Randall Rhea)
URL:https://pgconf.org/conferences/PostgresWorld_Webinars_2024/program/prop
 osals/2291
END:VEVENT
BEGIN:VEVENT
DTSTAMP:20260423T115034Z
UID:96b77b25-f8fb-4edd-ad49-0edca059a27c
DTSTART:20240710T170000Z
DTEND:20240710T180000Z
LOCATION:PostgresWorld Zoom
SUMMARY:Learning PostgreSQL (Dave Stokes)
URL:https://pgconf.org/conferences/PostgresWorld_Webinars_2024/program/prop
 osals/2292
END:VEVENT
BEGIN:VEVENT
DTSTAMP:20260423T115034Z
UID:9e03397e-d6b0-4a0c-87e4-0994aa63d8a6
DTSTART:20241002T220000Z
DTEND:20241002T233000Z
LOCATION:PostgresWorld Zoom
SUMMARY:[Meetup Livestream] Leveraging a PL/RUST extension to protect sensi
 tive data in PostgreSQL (Rajan Palanivel)
URL:https://pgconf.org/conferences/PostgresWorld_Webinars_2024/program/prop
 osals/2293
END:VEVENT
BEGIN:VEVENT
DTSTAMP:20260423T115034Z
UID:c2085ab0-b6dc-4ffe-8c7b-c5f843332e1d
DTSTART:20241210T180000Z
DTEND:20241210T190000Z
LOCATION:PostgresWorld Zoom
SUMMARY:Apache Cloudberry™ (Incubating): The Latest Database for SQL at S
 cale  (Jacque Istok\, Louis Mugnano\, Antonio Petrole\, and Ed Espino)
URL:https://pgconf.org/conferences/PostgresWorld_Webinars_2024/program/prop
 osals/2405
END:VEVENT
END:VCALENDAR
