BEGIN:VCALENDAR
VERSION:2.0
PRODID:Philly 2019
CALSCALE:GREGORIAN
BEGIN:VEVENT
DTSTAMP:20260423T075443Z
UID:e26c87eb-9bfc-4464-97a3-c76b2847a371
DTSTART:20190719T080000Z
DTEND:20190719T090000Z
LOCATION:Room
SUMMARY:Coffee and Networking
URL:https://pgconf.org/conferences/Philly2019/program/proposals/1288
END:VEVENT
BEGIN:VEVENT
DTSTAMP:20260423T075443Z
UID:59d40057-8c60-47f5-a6b3-254d2cf16a57
DTSTART:20190719T091000Z
DTEND:20190719T095000Z
LOCATION:Room
SUMMARY:Postgres - Ten Great Features\, Ten Great Years ( Mehboob Alam)
URL:https://pgconf.org/conferences/Philly2019/program/proposals/1256
END:VEVENT
BEGIN:VEVENT
DTSTAMP:20260423T075443Z
UID:10de83c0-5236-46fa-8393-74e35816055c
DTSTART:20190719T095000Z
DTEND:20190719T103000Z
LOCATION:Room
SUMMARY:Introducing the Quill Framework (Alexander Ioffe)
URL:https://pgconf.org/conferences/Philly2019/program/proposals/1275
END:VEVENT
BEGIN:VEVENT
DTSTAMP:20260423T075443Z
UID:e9470201-2dbe-4f1b-a343-bc4d1d3411aa
DTSTART:20190719T104000Z
DTEND:20190719T112000Z
LOCATION:Room
SUMMARY:Shape Shifting -  Moving the DBA function from SQL Server to Postgr
 es (Victoria McCormick)
URL:https://pgconf.org/conferences/Philly2019/program/proposals/1282
END:VEVENT
BEGIN:VEVENT
DTSTAMP:20260423T075443Z
UID:c28fd968-a466-4d63-a352-5075e353b402
DTSTART:20190719T112000Z
DTEND:20190719T120000Z
LOCATION:Room
SUMMARY:Debugging with Postgres (John Ashmead)
URL:https://pgconf.org/conferences/Philly2019/program/proposals/1274
END:VEVENT
BEGIN:VEVENT
DTSTAMP:20260423T075443Z
UID:f193f6fd-112b-42e7-993b-14925a7d7210
DTSTART:20190719T120000Z
DTEND:20190719T133000Z
LOCATION:Room
SUMMARY:Lunch
URL:https://pgconf.org/conferences/Philly2019/program/proposals/1289
END:VEVENT
BEGIN:VEVENT
DTSTAMP:20260423T075443Z
UID:350b202a-d39c-499c-9f2b-8409ee3ba82f
DTSTART:20190719T133000Z
DTEND:20190719T141000Z
LOCATION:Room
SUMMARY:Performant Time-Series Storage and Continuously Up to Date Material
 ized Aggregates ( Matvey Arye)
URL:https://pgconf.org/conferences/Philly2019/program/proposals/1301
END:VEVENT
BEGIN:VEVENT
DTSTAMP:20260423T075443Z
UID:6ab5b963-5ac8-4ddd-9ad5-3af33189d693
DTSTART:20190719T141000Z
DTEND:20190719T145000Z
LOCATION:Room
SUMMARY:Breaking dysfunction in Metadata:  An application of Design Thinkin
 g to Data Governance (Tom Hirata)
URL:https://pgconf.org/conferences/Philly2019/program/proposals/1281
END:VEVENT
BEGIN:VEVENT
DTSTAMP:20260423T075443Z
UID:256eab8a-4dba-48f2-8472-7cb8bb4fe0dd
DTSTART:20190719T145000Z
DTEND:20190719T151000Z
LOCATION:Room
SUMMARY:Break
URL:https://pgconf.org/conferences/Philly2019/program/proposals/1290
END:VEVENT
BEGIN:VEVENT
DTSTAMP:20260423T075443Z
UID:d309c44d-717d-45e7-a611-5228331f6c8b
DTSTART:20190719T151000Z
DTEND:20190719T155000Z
LOCATION:Room
SUMMARY:I Didn't Know Postgres Could Do That! (Robert Treat)
URL:https://pgconf.org/conferences/Philly2019/program/proposals/1284
END:VEVENT
BEGIN:VEVENT
DTSTAMP:20260423T075443Z
UID:d84564b6-245b-4c78-9177-6d2eb86207d5
DTSTART:20190719T155000Z
DTEND:20190719T163000Z
LOCATION:Room
SUMMARY:Making Use of the Turing Completeness of SQL (Michael Malis)
URL:https://pgconf.org/conferences/Philly2019/program/proposals/1255
END:VEVENT
BEGIN:VEVENT
DTSTAMP:20260423T075443Z
UID:f02838d5-aa91-4f9c-913d-69b1e19a9ab7
DTSTART:20190719T163000Z
DTEND:20190719T173000Z
LOCATION:Room
SUMMARY:Lightning Talks
URL:https://pgconf.org/conferences/Philly2019/program/proposals/1300
END:VEVENT
END:VCALENDAR
