BEGIN:VCALENDAR
VERSION:2.0
PRODID:PGConf Local: Philly 2017 [PgConf.US]
CALSCALE:GREGORIAN
BEGIN:VEVENT
DTSTAMP:20260423T075408Z
UID:10a4b64d-d35d-4164-8b5a-c5715e8d9e9a
DTSTART:20170714T222000Z
DTEND:20170715T022000Z
LOCATION:370
SUMMARY:Postgres Party
URL:https://pgconf.org/conferences/Philly2017/program/proposals/750
END:VEVENT
END:VCALENDAR
