BEGIN:VCALENDAR
VERSION:2.0
PRODID:PgConf US Local: Ohio [PgConf.US]
CALSCALE:GREGORIAN
BEGIN:VEVENT
DTSTAMP:20260423T075406Z
UID:c20727d5-eb76-427d-bb79-aa142b06e34b
DTSTART:20170929T130000Z
DTEND:20170929T160000Z
LOCATION:Fairfield
SUMMARY:Postgres Performance and Maintenance (Joshua D. Drake)
URL:https://pgconf.org/conferences/Ohio2017/program/proposals/734
END:VEVENT
BEGIN:VEVENT
DTSTAMP:20260423T075406Z
UID:16d81d45-6618-4a21-a858-420a79c727f5
DTSTART:20170930T130000Z
DTEND:20170930T135000Z
LOCATION:Fairfield
SUMMARY:Postgres v10: An Amplified version of PostgreSQL (Joshua D. Drake)
URL:https://pgconf.org/conferences/Ohio2017/program/proposals/737
END:VEVENT
BEGIN:VEVENT
DTSTAMP:20260423T075406Z
UID:965e3263-e3af-4bf1-9d5b-35d99ed9ff68
DTSTART:20170930T140000Z
DTEND:20170930T145000Z
LOCATION:Fairfield
SUMMARY:MVCC in PostgreSQL (Douglas Hunley)
URL:https://pgconf.org/conferences/Ohio2017/program/proposals/735
END:VEVENT
BEGIN:VEVENT
DTSTAMP:20260423T075406Z
UID:d16b3127-9d67-4a6e-91a5-d20c5fbfe0af
DTSTART:20170930T150000Z
DTEND:20170930T155000Z
LOCATION:Fairfield
SUMMARY:Cloudy With A Chance of Elephants (Phil Vacca)
URL:https://pgconf.org/conferences/Ohio2017/program/proposals/741
END:VEVENT
BEGIN:VEVENT
DTSTAMP:20260423T075406Z
UID:e517c05e-0e82-4e42-b3ae-82d17b039d3d
DTSTART:20170930T160000Z
DTEND:20170930T165000Z
LOCATION:Fairfield
SUMMARY:A MySQL DBA's journey to support and implement PostgreSQL (CJ Estel
 )
URL:https://pgconf.org/conferences/Ohio2017/program/proposals/732
END:VEVENT
END:VCALENDAR
