BEGIN:VCALENDAR
VERSION:2.0
PRODID:Beijing 2019
CALSCALE:GREGORIAN
BEGIN:VEVENT
DTSTAMP:20260423T073415Z
UID:3c7a630c-f934-40d0-8fe5-d465b11da1cd
DTSTART:20190703T051000Z
DTEND:20190703T054000Z
LOCATION:Meeting Room 1
SUMMARY:Registration (PostgresConf Organizers)
URL:https://pgconf.org/conferences/Beijing/program/proposals/1191
END:VEVENT
BEGIN:VEVENT
DTSTAMP:20260423T073415Z
UID:ed188bea-4a67-4bbc-b997-71633e562770
DTSTART:20190703T060000Z
DTEND:20190703T061000Z
LOCATION:Meeting Room 1
SUMMARY:PostgreSQL Association Meeting (Jian Miao)
URL:https://pgconf.org/conferences/Beijing/program/proposals/1192
END:VEVENT
BEGIN:VEVENT
DTSTAMP:20260423T073415Z
UID:57cfba95-2436-4c7d-809a-d0294dcfe843
DTSTART:20190703T061000Z
DTEND:20190703T062000Z
LOCATION:Meeting Room 1
SUMMARY:Awarding new members of the International Consultant Committee (Jos
 hua Drake)
URL:https://pgconf.org/conferences/Beijing/program/proposals/1193
END:VEVENT
BEGIN:VEVENT
DTSTAMP:20260423T073415Z
UID:c6e4231f-fc30-44dc-8836-24f458d73580
DTSTART:20190703T062000Z
DTEND:20190703T074000Z
LOCATION:Meeting Room 1
SUMMARY:International Consultant Committee Annual Meeting
URL:https://pgconf.org/conferences/Beijing/program/proposals/1194
END:VEVENT
BEGIN:VEVENT
DTSTAMP:20260423T073415Z
UID:00df084e-1c38-4ef4-bbd8-255c163d73c1
DTSTART:20190703T074000Z
DTEND:20190703T090000Z
LOCATION:Meeting Room 1
SUMMARY:China PostgreSQL Association Internal Meeting
URL:https://pgconf.org/conferences/Beijing/program/proposals/1195
END:VEVENT
BEGIN:VEVENT
DTSTAMP:20260423T073415Z
UID:c0d5065d-84bb-41fb-99b2-7c7c19207205
DTSTART:20190704T010000Z
DTEND:20190704T011000Z
LOCATION:Main JINGGE HALL
SUMMARY:PostgresConf Beijing Opening Ceremony (PostgresConf Organizers)
URL:https://pgconf.org/conferences/Beijing/program/proposals/1196
END:VEVENT
BEGIN:VEVENT
DTSTAMP:20260423T073415Z
UID:39437907-a209-4551-b104-7debd92a695d
DTSTART:20190704T011000Z
DTEND:20190704T012000Z
LOCATION:Main JINGGE HALL
SUMMARY:Speech by the officer of the Ministry of Industry and Information T
 echnology (Officer Representative)
URL:https://pgconf.org/conferences/Beijing/program/proposals/1197
END:VEVENT
BEGIN:VEVENT
DTSTAMP:20260423T073416Z
UID:d9f77f73-5596-44cd-80fa-6e092d8a5874
DTSTART:20190704T012000Z
DTEND:20190704T014000Z
LOCATION:Main JINGGE HALL
SUMMARY:Open Source Topic (Guangnan Ni)
URL:https://pgconf.org/conferences/Beijing/program/proposals/1199
END:VEVENT
BEGIN:VEVENT
DTSTAMP:20260423T073416Z
UID:cef8966b-a016-4095-aff4-a65c95c1a6d6
DTSTART:20190704T015000Z
DTEND:20190704T023000Z
LOCATION:Main JINGGE HALL
SUMMARY:PG Annual Technology Awards Ceremony (PostgresConf Organizers)
URL:https://pgconf.org/conferences/Beijing/program/proposals/1200
END:VEVENT
BEGIN:VEVENT
DTSTAMP:20260423T073416Z
UID:af105ca4-3c15-4419-bd02-6540d487d112
DTSTART:20190704T023000Z
DTEND:20190704T031000Z
LOCATION:Main JINGGE HALL
SUMMARY: Postgres: The World's Database (Joshua D. Drake)
URL:https://pgconf.org/conferences/Beijing/program/proposals/1201
END:VEVENT
BEGIN:VEVENT
DTSTAMP:20260423T073416Z
UID:c5032ceb-0bdb-4685-8c48-3dd88138a53c
DTSTART:20190704T032000Z
DTEND:20190704T040000Z
LOCATION:Main JINGGE HALL
SUMMARY:Alibaba Cloud  & Database (Fei Fei Li)
URL:https://pgconf.org/conferences/Beijing/program/proposals/1202
END:VEVENT
BEGIN:VEVENT
DTSTAMP:20260423T073416Z
UID:bf059853-8432-4752-9870-a88c62c72c9e
DTSTART:20190704T041000Z
DTEND:20190704T045000Z
LOCATION:Main JINGGE HALL
SUMMARY:Lunch Break (PostgresConf Organizers)
URL:https://pgconf.org/conferences/Beijing/program/proposals/1203
END:VEVENT
BEGIN:VEVENT
DTSTAMP:20260423T073416Z
UID:7bb1eafe-1b77-44a5-83e9-0472c5f94add
DTSTART:20190704T053000Z
DTEND:20190704T061000Z
LOCATION:Main JINGGE HALL
SUMMARY:PostgreSQL Technology (Xiao Jun Zheng)
URL:https://pgconf.org/conferences/Beijing/program/proposals/1210
END:VEVENT
BEGIN:VEVENT
DTSTAMP:20260423T073416Z
UID:36cc8526-c9bf-4752-85f6-c6ba09595c05
DTSTART:20190704T061000Z
DTEND:20190704T065000Z
LOCATION:Main JINGGE HALL
SUMMARY:PostgreSQL in Inspur (Lei Jun Hu)
URL:https://pgconf.org/conferences/Beijing/program/proposals/1211
END:VEVENT
BEGIN:VEVENT
DTSTAMP:20260423T073416Z
UID:1f22d2f4-edf4-42ad-b732-0bb5fcba87fc
DTSTART:20190704T065000Z
DTEND:20190704T071000Z
LOCATION:Main JINGGE HALL
SUMMARY:Coffee Break (PostgresConf Organizers)
URL:https://pgconf.org/conferences/Beijing/program/proposals/1212
END:VEVENT
BEGIN:VEVENT
DTSTAMP:20260423T073416Z
UID:fe7b81d0-436d-4d15-a40b-074f39e9c480
DTSTART:20190704T071000Z
DTEND:20190704T075000Z
LOCATION:Main JINGGE HALL
SUMMARY:PostgreSQL User Group (Shao Cong Xiao)
URL:https://pgconf.org/conferences/Beijing/program/proposals/1213
END:VEVENT
BEGIN:VEVENT
DTSTAMP:20260423T073416Z
UID:93ee760a-7945-4fd9-9b2c-b1ea8a81247d
DTSTART:20190704T075000Z
DTEND:20190704T083000Z
LOCATION:Main JINGGE HALL
SUMMARY:Database in Pingan (Yang Wang)
URL:https://pgconf.org/conferences/Beijing/program/proposals/1214
END:VEVENT
BEGIN:VEVENT
DTSTAMP:20260423T073416Z
UID:fb549417-44c9-4f2c-b140-11d1b3327106
DTSTART:20190704T083000Z
DTEND:20190704T091000Z
LOCATION:Main JINGGE HALL
SUMMARY:Scalable PostgreSQL in Tantan (Wen Sheng Zhang)
URL:https://pgconf.org/conferences/Beijing/program/proposals/1215
END:VEVENT
BEGIN:VEVENT
DTSTAMP:20260423T073416Z
UID:4a68a1df-60d3-40fa-92f2-51f43ed3f7fe
DTSTART:20190704T091000Z
DTEND:20190704T095000Z
LOCATION:Main JINGGE HALL
SUMMARY:Dialogue program (Joshua Drake\, Oleg Bartunov\, Xiao Jun Zheng\, G
 rant Zhou\, and Michael Meskes)
URL:https://pgconf.org/conferences/Beijing/program/proposals/1217
END:VEVENT
BEGIN:VEVENT
DTSTAMP:20260423T073416Z
UID:6812782d-91e0-46cd-bf8e-d1cac207e204
DTSTART:20190704T103000Z
DTEND:20190704T115000Z
LOCATION:Main JINGGE HALL
SUMMARY:Social Event
URL:https://pgconf.org/conferences/Beijing/program/proposals/1249
END:VEVENT
BEGIN:VEVENT
DTSTAMP:20260423T073416Z
UID:acfae220-2aec-455e-95b5-6e6b7c6bc037
DTSTART:20190705T010000Z
DTEND:20190705T014000Z
LOCATION:JINGGE HALL TRACK 2 - PG Best Practices
SUMMARY:Kernel Analysis of PostgreSQL Parser (daming shao)
URL:https://pgconf.org/conferences/Beijing/program/proposals/1216
END:VEVENT
BEGIN:VEVENT
DTSTAMP:20260423T073416Z
UID:69de17ec-baea-4d02-91f4-43da5d81d9f2
DTSTART:20190705T010000Z
DTEND:20190705T014000Z
LOCATION:JINGGE HALL TRACK1 - English Track
SUMMARY:PostgreSQL v12: New feature and migration considerations (Joshua Dr
 ake)
URL:https://pgconf.org/conferences/Beijing/program/proposals/1218
END:VEVENT
BEGIN:VEVENT
DTSTAMP:20260423T073416Z
UID:82861828-5639-42c2-b9ad-d8ccee8d994b
DTSTART:20190705T010000Z
DTEND:20190705T014000Z
LOCATION:JINGGE HALL TRACK 3 - Ecological development of PG and its commerc
 ial
SUMMARY:Open source software compliance discussion (Ning Zhen Li)
URL:https://pgconf.org/conferences/Beijing/program/proposals/1229
END:VEVENT
BEGIN:VEVENT
DTSTAMP:20260423T073416Z
UID:948d76a8-286c-4451-9070-db5a5e1f4761
DTSTART:20190705T014000Z
DTEND:20190705T021000Z
LOCATION:JINGGE HALL TRACK1 - English Track
SUMMARY:Open Source - The Next Step  (Michael Meskes)
URL:https://pgconf.org/conferences/Beijing/program/proposals/1219
END:VEVENT
BEGIN:VEVENT
DTSTAMP:20260423T073416Z
UID:8cf861c0-a5e8-49fb-b525-aeb35b28628f
DTSTART:20190705T014000Z
DTEND:20190705T022000Z
LOCATION:JINGGE HALL TRACK 2 - PG Best Practices
SUMMARY:Time machine for backup on PG Cloud (Yong Hui Shi)
URL:https://pgconf.org/conferences/Beijing/program/proposals/1220
END:VEVENT
BEGIN:VEVENT
DTSTAMP:20260423T073416Z
UID:9fca02b7-2320-4380-aa28-224dcdf43bb9
DTSTART:20190705T021000Z
DTEND:20190705T025000Z
LOCATION:JINGGE HALL TRACK1 - English Track
SUMMARY:JSON PATH (Oleg Bartunov)
URL:https://pgconf.org/conferences/Beijing/program/proposals/1198
END:VEVENT
BEGIN:VEVENT
DTSTAMP:20260423T073416Z
UID:385ffe90-3618-47aa-8d0f-cea9b8e08dcf
DTSTART:20190705T023000Z
DTEND:20190705T031000Z
LOCATION:JINGGE HALL TRACK 3 - Ecological development of PG and its commerc
 ial
SUMMARY:Financial Industry Distributed Database Test Observation (Peng Wei 
 Ma)
URL:https://pgconf.org/conferences/Beijing/program/proposals/1230
END:VEVENT
BEGIN:VEVENT
DTSTAMP:20260423T073416Z
UID:fe3dadc8-b7cc-4a0f-ad15-a8965321a5b4
DTSTART:20190705T023000Z
DTEND:20190705T031000Z
LOCATION:JINGGE HALL TRACK 2 - PG Best Practices
SUMMARY:Oracle migration to PostgreSQL case sharing (Xian Wen Zhu)
URL:https://pgconf.org/conferences/Beijing/program/proposals/1222
END:VEVENT
BEGIN:VEVENT
DTSTAMP:20260423T073416Z
UID:4e86ba92-7f92-4d5c-b57a-e44801dfc1b5
DTSTART:20190705T025000Z
DTEND:20190705T033000Z
LOCATION:JINGGE HALL TRACK1 - English Track
SUMMARY:A Deep Dive into PostgreSQL Indexing (Dr. Ibrar Ahmed)
URL:https://pgconf.org/conferences/Beijing/program/proposals/1128
END:VEVENT
BEGIN:VEVENT
DTSTAMP:20260423T073416Z
UID:632a5a65-3f0e-46f6-bf0e-f722fa942272
DTSTART:20190705T031000Z
DTEND:20190705T035000Z
LOCATION:JINGGE HALL TRACK 2 - PG Best Practices
SUMMARY:HugeGraph graph database technology and PostgreSQL as its storage (
 Zhang Mei Li)
URL:https://pgconf.org/conferences/Beijing/program/proposals/1223
END:VEVENT
BEGIN:VEVENT
DTSTAMP:20260423T073416Z
UID:852f8bcc-5f0c-4806-936a-c34890776bed
DTSTART:20190705T032000Z
DTEND:20190705T040000Z
LOCATION:JINGGE HALL TRACK1 - English Track
SUMMARY:Tune your Linux Box\, not just PostgreSQL (Dr. Ibrar Ahmed)
URL:https://pgconf.org/conferences/Beijing/program/proposals/1129
END:VEVENT
BEGIN:VEVENT
DTSTAMP:20260423T073416Z
UID:0e97ac5b-4291-4cc3-8d17-7b4226b3835b
DTSTART:20190705T035000Z
DTEND:20190705T043000Z
LOCATION:JINGGE HALL TRACK1 - English Track
SUMMARY:Join Heterogeneous Databases using PostgreSQL Foreign Data Wrappers
  (Dr. Ibrar Ahmed)
URL:https://pgconf.org/conferences/Beijing/program/proposals/1127
END:VEVENT
BEGIN:VEVENT
DTSTAMP:20260423T073416Z
UID:222bb33b-94f8-4cf5-8379-f8e88e5f64e3
DTSTART:20190705T053000Z
DTEND:20190705T061000Z
LOCATION:JINGGE HALL TRACK 3 - Ecological development of PG and its commerc
 ial
SUMMARY:AsiaInfo AISWare AntDB enables enterprise digitization (Ming Jun Ji
 ang)
URL:https://pgconf.org/conferences/Beijing/program/proposals/1231
END:VEVENT
BEGIN:VEVENT
DTSTAMP:20260423T073416Z
UID:050b6e0f-0d56-4417-b64c-8b0338c3bbad
DTSTART:20190705T053000Z
DTEND:20190705T061000Z
LOCATION:JINGGE HALL TRACK 2 - PG Best Practices
SUMMARY:Implementation of distributed aggregation in Greenplum (Chen Jinbao
 )
URL:https://pgconf.org/conferences/Beijing/program/proposals/1142
END:VEVENT
BEGIN:VEVENT
DTSTAMP:20260423T073416Z
UID:486c2853-318b-4ac2-92a2-69da8248bfc2
DTSTART:20190705T054000Z
DTEND:20190705T062000Z
LOCATION:JINGGE HALL TRACK1 - English Track
SUMMARY:The future of Postgres Sharding (Ahsan Hadi)
URL:https://pgconf.org/conferences/Beijing/program/proposals/1241
END:VEVENT
BEGIN:VEVENT
DTSTAMP:20260423T073416Z
UID:b76b2830-e89f-4b97-bddd-ef360b8bd619
DTSTART:20190705T061000Z
DTEND:20190705T065000Z
LOCATION:JINGGE HALL TRACK 3 - Ecological development of PG and its commerc
 ial
SUMMARY:Dancing with Elephants: Data Security Audit (Peng Li)
URL:https://pgconf.org/conferences/Beijing/program/proposals/1234
END:VEVENT
BEGIN:VEVENT
DTSTAMP:20260423T073416Z
UID:d63f5e31-f171-47f5-b792-b7aca76a022b
DTSTART:20190705T061000Z
DTEND:20190705T065000Z
LOCATION:JINGGE HALL TRACK 2 - PG Best Practices
SUMMARY:PostgreSQL Application in IBM Cognitive Computing and Data Science 
 Services (Yong Ming Wei)
URL:https://pgconf.org/conferences/Beijing/program/proposals/1224
END:VEVENT
BEGIN:VEVENT
DTSTAMP:20260423T073416Z
UID:8d55144a-1b6c-47f4-8764-b4ce5739787f
DTSTART:20190705T062000Z
DTEND:20190705T070000Z
LOCATION:JINGGE HALL TRACK1 - English Track
SUMMARY:All about PostgreSQL Replication (Asif Rehman)
URL:https://pgconf.org/conferences/Beijing/program/proposals/1139
END:VEVENT
BEGIN:VEVENT
DTSTAMP:20260423T073416Z
UID:51a19dae-186a-40f7-9fdc-4183b68e1c0e
DTSTART:20190705T065000Z
DTEND:20190705T073000Z
LOCATION:JINGGE HALL TRACK 3 - Ecological development of PG and its commerc
 ial
SUMMARY:PG application practice in e-government industry (Sheng Xi Zhang)
URL:https://pgconf.org/conferences/Beijing/program/proposals/1232
END:VEVENT
BEGIN:VEVENT
DTSTAMP:20260423T073416Z
UID:2a378bbb-767c-4d42-9a09-b92a841eda15
DTSTART:20190705T065000Z
DTEND:20190705T073000Z
LOCATION:JINGGE HALL TRACK 2 - PG Best Practices
SUMMARY:GIS - PostgreSQL  Applications in SuperMap System (Shao Jun Li)
URL:https://pgconf.org/conferences/Beijing/program/proposals/1225
END:VEVENT
BEGIN:VEVENT
DTSTAMP:20260423T073416Z
UID:3304b1ae-7b7b-463b-a01c-d110c2278ce8
DTSTART:20190705T065000Z
DTEND:20190705T073000Z
LOCATION:JINGGE HALL TRACK1 - English Track
SUMMARY:PostgreSQL HA with Pgpool-II  and whats been happening in Pgpool-II
  lately.... (Muhammad Usama and Ahsan Hadi)
URL:https://pgconf.org/conferences/Beijing/program/proposals/1138
END:VEVENT
BEGIN:VEVENT
DTSTAMP:20260423T073416Z
UID:3206883a-2919-49b0-aaf2-f44fd8842ebc
DTSTART:20190705T074000Z
DTEND:20190705T082000Z
LOCATION:JINGGE HALL TRACK1 - English Track
SUMMARY:Deep dive on SQL codes while migrating from enterprise databases to
  PostgreSQL (John Jeevakumar)
URL:https://pgconf.org/conferences/Beijing/program/proposals/1156
END:VEVENT
BEGIN:VEVENT
DTSTAMP:20260423T073416Z
UID:a8f37f41-9896-4164-8979-2df5763de96c
DTSTART:20190705T074000Z
DTEND:20190705T082000Z
LOCATION:JINGGE HALL TRACK 2 - PG Best Practices
SUMMARY:Oracle Database and Application Migration pg Best Practices (Xiu Ta
 ng)
URL:https://pgconf.org/conferences/Beijing/program/proposals/1226
END:VEVENT
BEGIN:VEVENT
DTSTAMP:20260423T073416Z
UID:d0855ce3-3ce1-45b6-a8ea-c593dabe19af
DTSTART:20190705T074000Z
DTEND:20190705T082000Z
LOCATION:JINGGE HALL TRACK 3 - Ecological development of PG and its commerc
 ial
SUMMARY:Build Greenplum's low latency data pipeline (Yang Li)
URL:https://pgconf.org/conferences/Beijing/program/proposals/1235
END:VEVENT
BEGIN:VEVENT
DTSTAMP:20260423T073416Z
UID:99c3cd79-6ed5-47ae-b7c6-ef208dc8b9cd
DTSTART:20190705T082000Z
DTEND:20190705T090000Z
LOCATION:JINGGE HALL TRACK 2 - PG Best Practices
SUMMARY:PostgreSQL execution plan exploration (Yun Jiang)
URL:https://pgconf.org/conferences/Beijing/program/proposals/1227
END:VEVENT
BEGIN:VEVENT
DTSTAMP:20260423T073416Z
UID:ed4b6763-915f-4491-b39a-d923b4e40eeb
DTSTART:20190705T083000Z
DTEND:20190705T091000Z
LOCATION:JINGGE HALL TRACK1 - English Track
SUMMARY:Transparent data encryption in PostgreSQL and Integration with Key 
 management service (Insung Moon and Masahiko Sawada)
URL:https://pgconf.org/conferences/Beijing/program/proposals/1221
END:VEVENT
BEGIN:VEVENT
DTSTAMP:20260423T073416Z
UID:b0ad8c7f-2301-41ee-9c1a-6325dd8dd9ff
DTSTART:20190705T085000Z
DTEND:20190705T093000Z
LOCATION:JINGGE HALL TRACK 3 - Ecological development of PG and its commerc
 ial
SUMMARY:POLARDB DBA Magic - Performance Insight (Yi Lin)
URL:https://pgconf.org/conferences/Beijing/program/proposals/1233
END:VEVENT
BEGIN:VEVENT
DTSTAMP:20260423T073416Z
UID:f91a1f9e-a182-4a01-b79a-3bb600578ca9
DTSTART:20190705T090000Z
DTEND:20190705T094000Z
LOCATION:JINGGE HALL TRACK 2 - PG Best Practices
SUMMARY:Application of Agricultural Insurance Big Data Technology Based on 
 Postgis (Yang Lu)
URL:https://pgconf.org/conferences/Beijing/program/proposals/1228
END:VEVENT
BEGIN:VEVENT
DTSTAMP:20260423T073416Z
UID:fa69f13e-9d25-44ec-9c64-e6783b2c482c
DTSTART:20190705T100000Z
DTEND:20190705T103000Z
LOCATION:JINGGE HALL TRACK 3 - Ecological development of PG and its commerc
 ial
SUMMARY:Closing sessions (PostgresConf Organizers)
URL:https://pgconf.org/conferences/Beijing/program/proposals/1251
END:VEVENT
BEGIN:VEVENT
DTSTAMP:20260423T073416Z
UID:20a98719-1d99-4720-bbba-3ff3c93c98c1
DTSTART:20190706T010000Z
DTEND:20190706T110000Z
LOCATION:TRAINING ROOM A
SUMMARY: Deep PostgreSQL 11 System Training Day1 (Zheng Zhong Zhou)
URL:https://pgconf.org/conferences/Beijing/program/proposals/1236
END:VEVENT
BEGIN:VEVENT
DTSTAMP:20260423T073416Z
UID:0b33f90d-d888-4117-b2ac-284663c09b69
DTSTART:20190706T010000Z
DTEND:20190706T110000Z
LOCATION:TRAINING ROOM C
SUMMARY:PG High Availability Training (Bo Wei and Bin Tian)
URL:https://pgconf.org/conferences/Beijing/program/proposals/1240
END:VEVENT
BEGIN:VEVENT
DTSTAMP:20260423T073416Z
UID:65601ec4-97ea-4b81-b58a-138c4456548c
DTSTART:20190706T010000Z
DTEND:20190706T110000Z
LOCATION:TRAINING ROOM B
SUMMARY:PG Systematic Basic Training Day1 (Xian Wen Zhu)
URL:https://pgconf.org/conferences/Beijing/program/proposals/1238
END:VEVENT
BEGIN:VEVENT
DTSTAMP:20260423T073416Z
UID:179a7f2a-f93f-41ff-89e1-6de15e8bc0d3
DTSTART:20190707T010000Z
DTEND:20190707T110000Z
LOCATION:TRAINING ROOM B
SUMMARY:PG Systematic Basic Training Day2 (Xian Wen Zhu)
URL:https://pgconf.org/conferences/Beijing/program/proposals/1239
END:VEVENT
BEGIN:VEVENT
DTSTAMP:20260423T073416Z
UID:1244e0b4-c337-418d-aae7-0f9a741c5cbc
DTSTART:20190707T010000Z
DTEND:20190707T110000Z
LOCATION:TRAINING ROOM A
SUMMARY: Deep PostgreSQL 11 System Training Day2 (Zheng Zhong Zhou)
URL:https://pgconf.org/conferences/Beijing/program/proposals/1237
END:VEVENT
END:VCALENDAR
