BEGIN:VCALENDAR
VERSION:2.0
PRODID:PGConf Local: Austin [PgConf.US]
CALSCALE:GREGORIAN
BEGIN:VEVENT
DTSTAMP:20260423T075327Z
UID:805d7f76-f027-440c-925b-05ec028dbd20
DTSTART:20171204T150000Z
DTEND:20171204T180000Z
LOCATION:Cypress
SUMMARY:PostgreSQL Administration (Jim Mlodgenski)
URL:https://pgconf.org/conferences/Austin2017/program/proposals/671
END:VEVENT
BEGIN:VEVENT
DTSTAMP:20260423T075327Z
UID:fcba8f51-a95a-4f24-bc15-682092d69f6d
DTSTART:20171205T153000Z
DTEND:20171205T155000Z
LOCATION:Cypress
SUMMARY:Launch (Debra Cerda)
URL:https://pgconf.org/conferences/Austin2017/program/proposals/675
END:VEVENT
BEGIN:VEVENT
DTSTAMP:20260423T075327Z
UID:b6f71427-677f-4677-9fb5-85cea7bd86ef
DTSTART:20171205T155000Z
DTEND:20171205T161000Z
LOCATION:Cypress
SUMMARY:OpenSCG Keynote (Jim Mlodgenski)
URL:https://pgconf.org/conferences/Austin2017/program/proposals/664
END:VEVENT
BEGIN:VEVENT
DTSTAMP:20260423T075327Z
UID:89aa1db7-1061-48fc-a76e-b14400bfadf1
DTSTART:20171205T162000Z
DTEND:20171205T171000Z
LOCATION:Cypress
SUMMARY:Amazon Aurora with PostgreSQL compatibility (James Finnerty)
URL:https://pgconf.org/conferences/Austin2017/program/proposals/662
END:VEVENT
BEGIN:VEVENT
DTSTAMP:20260423T075327Z
UID:073e1a3f-d9c2-41ed-a462-e65a635e83bc
DTSTART:20171205T162000Z
DTEND:20171205T171000Z
LOCATION:Magnolia B
SUMMARY:Event Sourcing with a Postgres Event Store (Scott Bellware)
URL:https://pgconf.org/conferences/Austin2017/program/proposals/665
END:VEVENT
END:VCALENDAR
