BEGIN:VCALENDAR
VERSION:2.0
PRODID:2025 Postgres World Webinar Series
CALSCALE:GREGORIAN
BEGIN:VEVENT
DTSTAMP:20260423T155837Z
UID:a2870770-9ece-43e7-8fb4-d669bae58b0c
DTSTART:20250311T170000Z
DTEND:20250311T175000Z
LOCATION:Online
SUMMARY:Navigating PostgreSQL End of Life: Upgrade Strategies and Best Prac
 tices (Vivek Singh)
URL:https://pgconf.org/conferences/2025_PostgresWorld_WebinarSeries/program
 /proposals/2507
END:VEVENT
BEGIN:VEVENT
DTSTAMP:20260423T155837Z
UID:7c0deb9d-da81-4bbe-a6d9-7d7ca3040cae
DTSTART:20250311T220000Z
DTEND:20250311T225000Z
LOCATION:Online
SUMMARY:[NYC Meetup Livestream]: Choosing Between Open and Closed Source Da
 ta Products: A Fireside Chat (Greg Dostatni and Kevin Jernigan)
URL:https://pgconf.org/conferences/2025_PostgresWorld_WebinarSeries/program
 /proposals/2590
END:VEVENT
BEGIN:VEVENT
DTSTAMP:20260423T155837Z
UID:949cac7f-74d8-40cb-a8ea-409822152783
DTSTART:20250410T170000Z
DTEND:20250410T175000Z
LOCATION:Online
SUMMARY:PostgreSQL for MSSQL Server DBAs (Chandra Pathivada)
URL:https://pgconf.org/conferences/2025_PostgresWorld_WebinarSeries/program
 /proposals/2467
END:VEVENT
BEGIN:VEVENT
DTSTAMP:20260423T155837Z
UID:93f91689-15fd-4573-b6ea-849368e62747
DTSTART:20250416T170000Z
DTEND:20250416T175000Z
LOCATION:Online
SUMMARY:From Solo Struggle to Team Triumph: Harnessing New Tech As A Mob (S
 usan Fung)
URL:https://pgconf.org/conferences/2025_PostgresWorld_WebinarSeries/program
 /proposals/2605
END:VEVENT
BEGIN:VEVENT
DTSTAMP:20260423T155837Z
UID:caa134fe-d678-4a83-b99c-a19eb568fe9d
DTSTART:20250429T170000Z
DTEND:20250429T175000Z
LOCATION:Online
SUMMARY:How to Give a Technical Presentation (Aaron Cutshall)
URL:https://pgconf.org/conferences/2025_PostgresWorld_WebinarSeries/program
 /proposals/2495
END:VEVENT
BEGIN:VEVENT
DTSTAMP:20260423T155837Z
UID:8e9466f9-83e7-48a8-9c4a-4d5ee4242171
DTSTART:20250522T170000Z
DTEND:20250522T175000Z
LOCATION:Online
SUMMARY:Top 10 PostgreSQL Myths and Misconceptions – Debunked (Chandra Pa
 thivada)
URL:https://pgconf.org/conferences/2025_PostgresWorld_WebinarSeries/program
 /proposals/2608
END:VEVENT
BEGIN:VEVENT
DTSTAMP:20260423T155837Z
UID:1ccfd2f3-f0b1-40a1-a227-dfbc9515d220
DTSTART:20250527T170000Z
DTEND:20250527T175000Z
LOCATION:Online
SUMMARY:Defining What’s Normal — The Basics of Database Normalization (
 Aaron Cutshall)
URL:https://pgconf.org/conferences/2025_PostgresWorld_WebinarSeries/program
 /proposals/2497
END:VEVENT
BEGIN:VEVENT
DTSTAMP:20260423T155837Z
UID:970438b5-906e-4175-b6f1-59ae81f74739
DTSTART:20250603T170000Z
DTEND:20250603T175000Z
LOCATION:Online
SUMMARY:SQL Team Six: How to Build Effective Teams (Aaron Cutshall)
URL:https://pgconf.org/conferences/2025_PostgresWorld_WebinarSeries/program
 /proposals/2496
END:VEVENT
END:VCALENDAR
