BEGIN:VCALENDAR
VERSION:2.0
PRODID:Postgres Conference 2024
CALSCALE:GREGORIAN
BEGIN:VEVENT
DTSTAMP:20260423T075406Z
UID:1cbe18c7-4eaa-4b56-bbcd-55fcba07b6cf
DTSTART:20240417T160000Z
DTEND:20240417T163000Z
LOCATION:Almaden
SUMMARY:Conference Launch + Keynote (Zak Tedder)
URL:https://pgconf.org/conferences/2024/program/proposals/2148
END:VEVENT
BEGIN:VEVENT
DTSTAMP:20260423T075406Z
UID:d76d963c-4220-4af9-a69c-50b8185f4a56
DTSTART:20240417T164000Z
DTEND:20240417T170000Z
LOCATION:Almaden
SUMMARY:Why We Put GPUs in the Database (Montana Low)
URL:https://pgconf.org/conferences/2024/program/proposals/2260
END:VEVENT
BEGIN:VEVENT
DTSTAMP:20260423T075406Z
UID:576bedc2-3bce-4a39-8052-aa42b253de94
DTSTART:20240417T171000Z
DTEND:20240417T173000Z
LOCATION:Almaden
SUMMARY:Enabling New Operational Use Cases with PostgreSQL (Frank McSherry)
URL:https://pgconf.org/conferences/2024/program/proposals/2262
END:VEVENT
BEGIN:VEVENT
DTSTAMP:20260423T075406Z
UID:9f370dd9-32f7-4b31-a43a-d2dc2ca8ad22
DTSTART:20240417T174000Z
DTEND:20240417T180000Z
LOCATION:Almaden
SUMMARY:Innovating for all with PostgreSQL at AWS (Jignesh Shah)
URL:https://pgconf.org/conferences/2024/program/proposals/2263
END:VEVENT
BEGIN:VEVENT
DTSTAMP:20260423T075406Z
UID:f54db0fd-a073-4b78-9bb0-fde3fd170656
DTSTART:20240417T181000Z
DTEND:20240417T183000Z
LOCATION:San Pedro
SUMMARY:Managing at scale Postgres version upgrades with minimum downtime (
 Jignesh Shah)
URL:https://pgconf.org/conferences/2024/program/proposals/2111
END:VEVENT
BEGIN:VEVENT
DTSTAMP:20260423T075406Z
UID:909ac7cd-632b-4458-9099-a6d5925b04a4
DTSTART:20240417T181000Z
DTEND:20240417T190000Z
LOCATION:Winchester
SUMMARY:PgCompute: Creating Stored Procedures the Developer Way (Denis Magd
 a)
URL:https://pgconf.org/conferences/2024/program/proposals/2119
END:VEVENT
BEGIN:VEVENT
DTSTAMP:20260423T075406Z
UID:62cd2a07-783b-453d-90f6-af1069043b8a
DTSTART:20240417T181000Z
DTEND:20240417T190000Z
LOCATION:Almaden
SUMMARY:Better materialized views in 1 million LOC: Inside Materialize's Po
 stgreSQL source (Frank McSherry)
URL:https://pgconf.org/conferences/2024/program/proposals/2240
END:VEVENT
BEGIN:VEVENT
DTSTAMP:20260423T075406Z
UID:44723029-0ec0-41e3-b911-825ab606fc2e
DTSTART:20240417T181000Z
DTEND:20240417T190000Z
LOCATION:Santa Clara
SUMMARY:Cloud-native Postgres observability: from client apps to underlying
  cloud resources (Nikolay Sivko)
URL:https://pgconf.org/conferences/2024/program/proposals/2203
END:VEVENT
BEGIN:VEVENT
DTSTAMP:20260423T075406Z
UID:7749d687-9e67-419b-b523-31367534f53e
DTSTART:20240417T184000Z
DTEND:20240417T190000Z
LOCATION:San Pedro
SUMMARY:Looking for the differences in your data. (Tatiana Krupenya)
URL:https://pgconf.org/conferences/2024/program/proposals/2255
END:VEVENT
BEGIN:VEVENT
DTSTAMP:20260423T075406Z
UID:3e62c676-31d3-4acb-ad10-fd239c00f4aa
DTSTART:20240417T191000Z
DTEND:20240417T193000Z
LOCATION:San Pedro
SUMMARY:Postgres in Dockers on ZFS (Kobus Wolvaardt)
URL:https://pgconf.org/conferences/2024/program/proposals/2138
END:VEVENT
BEGIN:VEVENT
DTSTAMP:20260423T075406Z
UID:24aff5eb-b23c-4782-ad8f-48240223ef7f
DTSTART:20240417T191000Z
DTEND:20240417T200000Z
LOCATION:Almaden
SUMMARY:Deep Dive into Amazon Aurora Limitless Database and its innovations
  (David Wein)
URL:https://pgconf.org/conferences/2024/program/proposals/2269
END:VEVENT
BEGIN:VEVENT
DTSTAMP:20260423T075406Z
UID:2e39583a-b3dc-4979-9a1e-a6d9d97d3df6
DTSTART:20240417T191000Z
DTEND:20240417T200000Z
LOCATION:Winchester
SUMMARY:pg_hint_plan – get the right plan without surprises (Amit Chauhan
 )
URL:https://pgconf.org/conferences/2024/program/proposals/2091
END:VEVENT
BEGIN:VEVENT
DTSTAMP:20260423T075406Z
UID:af822cd1-d032-45f7-9e6d-535eebf585b3
DTSTART:20240417T191000Z
DTEND:20240417T200000Z
LOCATION:Santa Clara
SUMMARY:Troubleshoot PostgreSQL performance by use case (Wanda  He and Thuy
 my Tran)
URL:https://pgconf.org/conferences/2024/program/proposals/2232
END:VEVENT
BEGIN:VEVENT
DTSTAMP:20260423T075406Z
UID:8b7624c3-06c7-44ed-a5d2-a6a3d977175f
DTSTART:20240417T194000Z
DTEND:20240417T200000Z
LOCATION:San Pedro
SUMMARY:Good bye sequences\, hello Snowflakes (Jan Wieck)
URL:https://pgconf.org/conferences/2024/program/proposals/2147
END:VEVENT
BEGIN:VEVENT
DTSTAMP:20260423T075406Z
UID:ed286646-f496-41be-81c7-eaba896d54cb
DTSTART:20240417T200000Z
DTEND:20240417T210000Z
LOCATION:Almaden
SUMMARY:Wednesday Lunch (PostgresConf Organizers)
URL:https://pgconf.org/conferences/2024/program/proposals/2279
END:VEVENT
BEGIN:VEVENT
DTSTAMP:20260423T075406Z
UID:7b2ad3af-8768-4c37-be86-11136d1392b4
DTSTART:20240417T210000Z
DTEND:20240417T215000Z
LOCATION:San Pedro
SUMMARY:Zero-downtime Postgres Major Version Upgrades (Biren Shah)
URL:https://pgconf.org/conferences/2024/program/proposals/2180
END:VEVENT
BEGIN:VEVENT
DTSTAMP:20260423T075406Z
UID:cd1c5b9c-c800-4e15-91e4-153856065c60
DTSTART:20240417T210000Z
DTEND:20240417T215000Z
LOCATION:Winchester
SUMMARY:"Behind the Scenes: Demystifying Transaction Isolation in App Devel
 opment" (Chandra Pathivada)
URL:https://pgconf.org/conferences/2024/program/proposals/2127
END:VEVENT
BEGIN:VEVENT
DTSTAMP:20260423T075406Z
UID:561ac035-835c-4567-a976-69088c7b7061
DTSTART:20240417T210000Z
DTEND:20240417T215000Z
LOCATION:Santa Clara
SUMMARY:Do You Know A CID From An OID Or An XID? A beginners guide to the a
 lphabet soup found in and around PostgreSQL touples.  (Dave Stokes)
URL:https://pgconf.org/conferences/2024/program/proposals/2131
END:VEVENT
BEGIN:VEVENT
DTSTAMP:20260423T075406Z
UID:b1f85645-6664-4f8c-8f95-a9f9bdef0a63
DTSTART:20240417T210000Z
DTEND:20240417T212000Z
LOCATION:Almaden
SUMMARY:Use Cases for Multi-Master Distributed Postgres (Phillip Merrick)
URL:https://pgconf.org/conferences/2024/program/proposals/2265
END:VEVENT
BEGIN:VEVENT
DTSTAMP:20260423T075406Z
UID:75865589-8627-4645-a170-c246596285bb
DTSTART:20240417T213000Z
DTEND:20240417T215000Z
LOCATION:Almaden
SUMMARY:How can you measure PostgreSQL portability? (Drew Stevens)
URL:https://pgconf.org/conferences/2024/program/proposals/2229
END:VEVENT
BEGIN:VEVENT
DTSTAMP:20260423T075407Z
UID:39b7ba8f-608b-456c-9036-a30de94f164e
DTSTART:20240417T221000Z
DTEND:20240417T230000Z
LOCATION:Winchester
SUMMARY:Schema Evolution - The Hard Parts (Gwen Shapira)
URL:https://pgconf.org/conferences/2024/program/proposals/2181
END:VEVENT
BEGIN:VEVENT
DTSTAMP:20260423T075407Z
UID:72e38789-a814-4f88-998b-92ecafb18607
DTSTART:20240417T221000Z
DTEND:20240417T230000Z
LOCATION:Santa Clara
SUMMARY:Reducing Costs and Improving Performance With Data Modeling in Post
 gres (Charly Batista)
URL:https://pgconf.org/conferences/2024/program/proposals/2135
END:VEVENT
BEGIN:VEVENT
DTSTAMP:20260423T075407Z
UID:e53ec199-e7ec-471e-a78e-80e1b33f5909
DTSTART:20240417T221000Z
DTEND:20240417T230000Z
LOCATION:San Pedro
SUMMARY:Cloud Native PostgreSQL - Running PostgreSQL on Kubernetes  (Peter 
 Zaitsev)
URL:https://pgconf.org/conferences/2024/program/proposals/2247
END:VEVENT
BEGIN:VEVENT
DTSTAMP:20260423T075407Z
UID:1d961f40-f43e-4930-956d-e8f2ec30242c
DTSTART:20240417T221000Z
DTEND:20240417T230000Z
LOCATION:Almaden
SUMMARY:Zero Trust database access with DBHawk (Manish Shah)
URL:https://pgconf.org/conferences/2024/program/proposals/2266
END:VEVENT
BEGIN:VEVENT
DTSTAMP:20260423T075407Z
UID:69bcb705-e52f-4552-996e-8b13e2eddbdf
DTSTART:20240417T231000Z
DTEND:20240418T000000Z
LOCATION:Winchester
SUMMARY:Pushing boundaries with extensions\, for extensions (Yurii Rashkovs
 kii)
URL:https://pgconf.org/conferences/2024/program/proposals/2188
END:VEVENT
BEGIN:VEVENT
DTSTAMP:20260423T075407Z
UID:8d964d3d-4bd5-4c70-bc04-1e9269db1d08
DTSTART:20240417T231000Z
DTEND:20240418T000000Z
LOCATION:San Pedro
SUMMARY:Achieving High Availability (HA) in PostgreSQL: Strategies\, Tools\
 , and Best Practices (Dr. Ibrar Ahmed)
URL:https://pgconf.org/conferences/2024/program/proposals/2151
END:VEVENT
BEGIN:VEVENT
DTSTAMP:20260423T075407Z
UID:f0639936-c3ee-4c68-b66f-f97197235634
DTSTART:20240417T231000Z
DTEND:20240418T000000Z
LOCATION:Santa Clara
SUMMARY:Why PostgreSQL Isn't Utilizing Indexes: Diagnosing and Solving Perf
 ormance Issues" (Chandra Pathivada)
URL:https://pgconf.org/conferences/2024/program/proposals/2126
END:VEVENT
BEGIN:VEVENT
DTSTAMP:20260423T075407Z
UID:6e062e9a-b155-4a5e-a1d8-554bebbfc761
DTSTART:20240417T231000Z
DTEND:20240418T000000Z
LOCATION:Almaden
SUMMARY:A high-level introduction to the query planner in PostgreSQL (Richa
 rd Guo)
URL:https://pgconf.org/conferences/2024/program/proposals/2268
END:VEVENT
BEGIN:VEVENT
DTSTAMP:20260423T075407Z
UID:207313be-9984-44f3-8a25-11237393610d
DTSTART:20240418T000000Z
DTEND:20240418T020000Z
LOCATION:Almaden
SUMMARY:Welcome Reception (PostgresConf Organizers)
URL:https://pgconf.org/conferences/2024/program/proposals/2278
END:VEVENT
BEGIN:VEVENT
DTSTAMP:20260423T075407Z
UID:5a51c026-69ab-4f2e-a3f8-9f121d40d2bb
DTSTART:20240418T160000Z
DTEND:20240418T162000Z
LOCATION:Almaden
SUMMARY:I implemented the first Vacuum Cleaner Daemon (the most "hated" thi
 ng about Postgres) (Curt Kolovson)
URL:https://pgconf.org/conferences/2024/program/proposals/2225
END:VEVENT
BEGIN:VEVENT
DTSTAMP:20260423T075407Z
UID:c82be28b-ee13-40f5-b6a6-6400984e92db
DTSTART:20240418T163000Z
DTEND:20240418T165000Z
LOCATION:Almaden
SUMMARY:The future of databases and Generative AI (Ravi Murthy)
URL:https://pgconf.org/conferences/2024/program/proposals/2264
END:VEVENT
BEGIN:VEVENT
DTSTAMP:20260423T075407Z
UID:987314d8-5287-4976-bf37-934f31764905
DTSTART:20240418T170000Z
DTEND:20240418T175000Z
LOCATION:Almaden
SUMMARY:Making PostgreSQL your strategic database for AI (Bjoern Rost)
URL:https://pgconf.org/conferences/2024/program/proposals/2267
END:VEVENT
BEGIN:VEVENT
DTSTAMP:20260423T075407Z
UID:62a8e6fe-2cdf-47f6-9554-4580c932be0f
DTSTART:20240418T170000Z
DTEND:20240418T175000Z
LOCATION:San Pedro
SUMMARY:RAG Masterclass: Simplify your data infrastructure with in-database
  NLP using pgml and pgvector for Retrieval Augmented Generation (Silas Mar
 vin)
URL:https://pgconf.org/conferences/2024/program/proposals/2261
END:VEVENT
BEGIN:VEVENT
DTSTAMP:20260423T075407Z
UID:aee4aeb5-1284-420d-868b-7ee8d7172ce2
DTSTART:20240418T170000Z
DTEND:20240418T172000Z
LOCATION:Santa Clara
SUMMARY:The Accidental DBA (Clay  Jackson)
URL:https://pgconf.org/conferences/2024/program/proposals/2244
END:VEVENT
BEGIN:VEVENT
DTSTAMP:20260423T075407Z
UID:76adfe97-1112-4c17-8d74-c4f03658bdb1
DTSTART:20240418T170000Z
DTEND:20240418T175000Z
LOCATION:Winchester
SUMMARY:JSON and analytics in Postgres using index and columnar. (Gleb Otoc
 hkin)
URL:https://pgconf.org/conferences/2024/program/proposals/2099
END:VEVENT
BEGIN:VEVENT
DTSTAMP:20260423T075407Z
UID:63bd5acc-b0f3-4c2f-b2c0-3630b7a0449c
DTSTART:20240418T173000Z
DTEND:20240418T175000Z
LOCATION:Santa Clara
SUMMARY:Optimizing for Excellence: Advanced Performance Tuning Techniques f
 or Aurora Postgres (Dane Falkner)
URL:https://pgconf.org/conferences/2024/program/proposals/2223
END:VEVENT
BEGIN:VEVENT
DTSTAMP:20260423T075407Z
UID:70db2f97-02a4-4c6a-bb02-5ef6c081baaa
DTSTART:20240418T181000Z
DTEND:20240418T190000Z
LOCATION:Almaden
SUMMARY:Database operations in the AI era (Nimesh Bhagat and Nilesh Junnark
 ar)
URL:https://pgconf.org/conferences/2024/program/proposals/2273
END:VEVENT
BEGIN:VEVENT
DTSTAMP:20260423T075407Z
UID:764d8395-032a-48f9-a07c-debe92a51091
DTSTART:20240418T181000Z
DTEND:20240418T190000Z
LOCATION:Winchester
SUMMARY:Harnessing the power of Postgres for GIS (Avinash Dalvi)
URL:https://pgconf.org/conferences/2024/program/proposals/2096
END:VEVENT
BEGIN:VEVENT
DTSTAMP:20260423T075407Z
UID:d4b1ee23-174a-4399-b3fd-ce01212e7a15
DTSTART:20240418T181000Z
DTEND:20240418T183000Z
LOCATION:Santa Clara
SUMMARY:MERGE() - A Quick Introduction (Dave Stokes)
URL:https://pgconf.org/conferences/2024/program/proposals/2130
END:VEVENT
BEGIN:VEVENT
DTSTAMP:20260423T075407Z
UID:2590361d-2f8a-41e5-9ef7-cb27feae119d
DTSTART:20240418T181000Z
DTEND:20240418T190000Z
LOCATION:San Pedro
SUMMARY:Unraveling Multi-Master Replication in PostgreSQL: Architectures an
 d Solutions (Dr. Ibrar Ahmed)
URL:https://pgconf.org/conferences/2024/program/proposals/2150
END:VEVENT
BEGIN:VEVENT
DTSTAMP:20260423T075407Z
UID:8ff40035-06c4-4162-8daa-9e49d3f611b5
DTSTART:20240418T184000Z
DTEND:20240418T190000Z
LOCATION:Santa Clara
SUMMARY:Everything you want to know about Postgres autovacuum (Bohan Zhang)
URL:https://pgconf.org/conferences/2024/program/proposals/2155
END:VEVENT
BEGIN:VEVENT
DTSTAMP:20260423T075407Z
UID:7646a28e-8e1f-4d44-a93c-e1717c33ff9c
DTSTART:20240418T191000Z
DTEND:20240418T200000Z
LOCATION:San Pedro
SUMMARY:Becoming a PG_STAT_* (star) (Chirag Dave and Sami Imseih)
URL:https://pgconf.org/conferences/2024/program/proposals/2185
END:VEVENT
BEGIN:VEVENT
DTSTAMP:20260423T075407Z
UID:0880e13c-030c-4f0a-afad-dea5476c1bf4
DTSTART:20240418T191000Z
DTEND:20240418T200000Z
LOCATION:Almaden
SUMMARY:Building GenAI applications on PostgreSQL (Gleb Otochkin)
URL:https://pgconf.org/conferences/2024/program/proposals/2274
END:VEVENT
BEGIN:VEVENT
DTSTAMP:20260423T075407Z
UID:f31fcf3d-720d-4b26-9523-7b2b3dbbd01d
DTSTART:20240418T191000Z
DTEND:20240418T200000Z
LOCATION:Winchester
SUMMARY: Enhancing OLTP Systems with pgvector: Best Practices in Database D
 esign (Sundar Raghavan and Shayon Sanyal)
URL:https://pgconf.org/conferences/2024/program/proposals/2098
END:VEVENT
BEGIN:VEVENT
DTSTAMP:20260423T075407Z
UID:4e48a307-f273-4c73-9586-5863804d8029
DTSTART:20240418T191000Z
DTEND:20240418T200000Z
LOCATION:Santa Clara
SUMMARY:Postgres’s Type System (Guyren Howe)
URL:https://pgconf.org/conferences/2024/program/proposals/2199
END:VEVENT
BEGIN:VEVENT
DTSTAMP:20260423T075407Z
UID:22a342d0-0fbb-40b5-882e-cfc963290a52
DTSTART:20240418T200000Z
DTEND:20240418T210000Z
LOCATION:Almaden
SUMMARY:Thursday Lunch (PostgresConf Organizers)
URL:https://pgconf.org/conferences/2024/program/proposals/2280
END:VEVENT
BEGIN:VEVENT
DTSTAMP:20260423T075407Z
UID:d2b03237-f299-47b1-95d1-e18e6fb38fa3
DTSTART:20240418T210000Z
DTEND:20240418T215000Z
LOCATION:San Pedro
SUMMARY:Advanced strategies for PostgreSQL Lock Management (Greg Dostatni)
URL:https://pgconf.org/conferences/2024/program/proposals/2163
END:VEVENT
BEGIN:VEVENT
DTSTAMP:20260423T075407Z
UID:4b2be817-37eb-4c14-9555-c6ed389380ed
DTSTART:20240418T210000Z
DTEND:20240418T215000Z
LOCATION:Winchester
SUMMARY:Transparent Application-level Encryption with Postgres Trusted Lang
 uage Extensions (Rajan Palanivel)
URL:https://pgconf.org/conferences/2024/program/proposals/2217
END:VEVENT
BEGIN:VEVENT
DTSTAMP:20260423T075407Z
UID:aff4971a-334d-4988-b5a4-06afea391e55
DTSTART:20240418T210000Z
DTEND:20240418T215000Z
LOCATION:Almaden
SUMMARY:Building GenAI applications on PostgreSQL (continued) (Gleb Otochki
 n)
URL:https://pgconf.org/conferences/2024/program/proposals/2272
END:VEVENT
BEGIN:VEVENT
DTSTAMP:20260423T075407Z
UID:3cc8ea2e-bdd5-4ff3-be9d-5ba7c562cfef
DTSTART:20240418T221000Z
DTEND:20240418T230000Z
LOCATION:Almaden
SUMMARY:Building data-driven apps in the cloud (Sridhar Ranganathan)
URL:https://pgconf.org/conferences/2024/program/proposals/2275
END:VEVENT
BEGIN:VEVENT
DTSTAMP:20260423T075407Z
UID:5b394695-e4f8-49fc-8f4c-ce93d4d7db46
DTSTART:20240418T221000Z
DTEND:20240418T230000Z
LOCATION:Winchester
SUMMARY:Database DevOps: Options for Test Data and Database Change Manageme
 nt (Ryan Booz)
URL:https://pgconf.org/conferences/2024/program/proposals/2144
END:VEVENT
BEGIN:VEVENT
DTSTAMP:20260423T075407Z
UID:fad4e7bd-7e5c-4983-ae6b-2c686521f07c
DTSTART:20240418T221000Z
DTEND:20240418T230000Z
LOCATION:Santa Clara
SUMMARY:Accelerate Oracle to PostgreSQL migration journey - top 10 challeng
 es and mitigation (Sameer Malik)
URL:https://pgconf.org/conferences/2024/program/proposals/2186
END:VEVENT
BEGIN:VEVENT
DTSTAMP:20260423T075407Z
UID:37150c29-e3ad-4193-bb21-c4773763a59a
DTSTART:20240418T221000Z
DTEND:20240418T230000Z
LOCATION:San Pedro
SUMMARY:Monitoring PostgreSQL: Navigating the Landscape of Metrics\, OS and
  Hardware Relationships\, and Toolsets (Charly Batista)
URL:https://pgconf.org/conferences/2024/program/proposals/2134
END:VEVENT
BEGIN:VEVENT
DTSTAMP:20260423T075407Z
UID:7efaaceb-7f76-45a2-afa8-b2ee68d5b2f5
DTSTART:20240418T231000Z
DTEND:20240419T000000Z
LOCATION:San Pedro
SUMMARY:Exploring Linux memory usage and IO performance with PostgreSQL  (F
 rits Hoogland)
URL:https://pgconf.org/conferences/2024/program/proposals/2222
END:VEVENT
BEGIN:VEVENT
DTSTAMP:20260423T075407Z
UID:dd0a210b-f03a-4009-a251-f5120d80a7c9
DTSTART:20240418T231000Z
DTEND:20240419T000000Z
LOCATION:Santa Clara
SUMMARY:Elevate Your PostgreSQL Experience in the Cloud with Azure Database
  for PostgreSQL (Varun Dhawan)
URL:https://pgconf.org/conferences/2024/program/proposals/2271
END:VEVENT
BEGIN:VEVENT
DTSTAMP:20260423T075407Z
UID:441a9379-4bac-49b7-9de6-6be1ea777a46
DTSTART:20240418T231000Z
DTEND:20240419T000000Z
LOCATION:Winchester
SUMMARY:PostgreSQL architecture considerations for application developers (
 Tracy Jenkins and Peter Celentano)
URL:https://pgconf.org/conferences/2024/program/proposals/2166
END:VEVENT
BEGIN:VEVENT
DTSTAMP:20260423T075407Z
UID:3571e631-5dfd-4f38-b352-8ef9904e5019
DTSTART:20240418T231000Z
DTEND:20240418T233000Z
LOCATION:Almaden
SUMMARY:Open Source At A Crossroads (Michael Meskes)
URL:https://pgconf.org/conferences/2024/program/proposals/2139
END:VEVENT
BEGIN:VEVENT
DTSTAMP:20260423T075407Z
UID:b466ceac-e446-4116-a757-53cbbd14cfda
DTSTART:20240418T234000Z
DTEND:20240419T000000Z
LOCATION:Almaden
SUMMARY:Top 5 PostgreSQL Query Tuning Tips (Janis Griffin)
URL:https://pgconf.org/conferences/2024/program/proposals/2249
END:VEVENT
BEGIN:VEVENT
DTSTAMP:20260423T075407Z
UID:a277d283-143a-4d34-bf4c-94078faaf3fe
DTSTART:20240419T160000Z
DTEND:20240419T165000Z
LOCATION:Santa Clara
SUMMARY:Self-Managing Databases—If Not Now Then When? (Johann Schleier-Sm
 ith)
URL:https://pgconf.org/conferences/2024/program/proposals/2284
END:VEVENT
BEGIN:VEVENT
DTSTAMP:20260423T075407Z
UID:d4fff8c0-9b9e-4de2-8c4f-8bcaee7c4ec6
DTSTART:20240419T160000Z
DTEND:20240419T165000Z
LOCATION:Almaden
SUMMARY:Postgres in the 21st Century (Nikita Shamgunov)
URL:https://pgconf.org/conferences/2024/program/proposals/2285
END:VEVENT
BEGIN:VEVENT
DTSTAMP:20260423T075407Z
UID:153ca4ca-02c6-4c01-9e34-ba9b01124b5e
DTSTART:20240419T160000Z
DTEND:20240419T165000Z
LOCATION:San Pedro
SUMMARY:Elevate your DBA toolset with pg collector  (Mohamed Ali)
URL:https://pgconf.org/conferences/2024/program/proposals/2221
END:VEVENT
BEGIN:VEVENT
DTSTAMP:20260423T075407Z
UID:57a3a35b-e20b-4e96-a095-44fbcb61d6e3
DTSTART:20240419T160000Z
DTEND:20240419T165000Z
LOCATION:Winchester
SUMMARY:Working With The Citus Extension (Robert Bernier)
URL:https://pgconf.org/conferences/2024/program/proposals/2103
END:VEVENT
BEGIN:VEVENT
DTSTAMP:20260423T075408Z
UID:bd1a43a6-de38-40d2-9348-c50b95357cef
DTSTART:20240419T170000Z
DTEND:20240419T175000Z
LOCATION:Santa Clara
SUMMARY:PostgreSQL Partitioning: Beyond the obvious  (Chirag Dave and Sami 
 Imseih)
URL:https://pgconf.org/conferences/2024/program/proposals/2204
END:VEVENT
BEGIN:VEVENT
DTSTAMP:20260423T075408Z
UID:1113b749-4f48-44f5-8cd3-eba499d4fedb
DTSTART:20240419T170000Z
DTEND:20240419T175000Z
LOCATION:Almaden
SUMMARY:Omnigres: Postgres can do WHAT? (Yurii Rashkovskii)
URL:https://pgconf.org/conferences/2024/program/proposals/2286
END:VEVENT
BEGIN:VEVENT
DTSTAMP:20260423T075408Z
UID:2ee7423f-6228-4a57-ae97-41c50c87aeb1
DTSTART:20240419T170000Z
DTEND:20240419T175000Z
LOCATION:Winchester
SUMMARY:We like to Move it\, Move it!: Migrating production systems between
  databases (Tim Steward)
URL:https://pgconf.org/conferences/2024/program/proposals/2156
END:VEVENT
BEGIN:VEVENT
DTSTAMP:20260423T075408Z
UID:e70b8f68-f0d9-482d-bcbe-13d65d65212a
DTSTART:20240419T170000Z
DTEND:20240419T175000Z
LOCATION:San Pedro
SUMMARY:Building GENAI Applications with OpenAI and PostgreSQL (Varun Dhawa
 n)
URL:https://pgconf.org/conferences/2024/program/proposals/2220
END:VEVENT
BEGIN:VEVENT
DTSTAMP:20260423T075408Z
UID:de6bf61b-6274-4500-a620-cd2c7032dae0
DTSTART:20240419T180000Z
DTEND:20240419T185000Z
LOCATION:Santa Clara
SUMMARY:Mastering PostgreSQL Partitioning: Supercharge Performance and Simp
 lify Maintenance (Ryan Booz)
URL:https://pgconf.org/conferences/2024/program/proposals/2145
END:VEVENT
BEGIN:VEVENT
DTSTAMP:20260423T075408Z
UID:8292f84c-ce8e-4885-8744-cf68f9097f68
DTSTART:20240419T180000Z
DTEND:20240419T185000Z
LOCATION:San Pedro
SUMMARY:PostgreSQL with OpenAI: Building and Monetizing Generative AI Plugi
 ns (Denis Magda)
URL:https://pgconf.org/conferences/2024/program/proposals/2120
END:VEVENT
BEGIN:VEVENT
DTSTAMP:20260423T075408Z
UID:9877dcf6-4628-4f9a-96d0-aae32864c266
DTSTART:20240419T180000Z
DTEND:20240419T185000Z
LOCATION:Winchester
SUMMARY:Moving MongoDB Workloads to Postgres (Peter Farkas)
URL:https://pgconf.org/conferences/2024/program/proposals/2202
END:VEVENT
BEGIN:VEVENT
DTSTAMP:20260423T075408Z
UID:26c49b6f-0518-4611-b8a9-5f76fc56de61
DTSTART:20240419T180000Z
DTEND:20240419T185000Z
LOCATION:Almaden
SUMMARY:Improve Postgres Security Posture with KloudDB Shield- Postgres and
  RDS Postgres (Srinivasa  Inaganti)
URL:https://pgconf.org/conferences/2024/program/proposals/2283
END:VEVENT
BEGIN:VEVENT
DTSTAMP:20260423T075408Z
UID:e1474618-14af-44f1-a0fe-949da323b0b9
DTSTART:20240419T190000Z
DTEND:20240419T195000Z
LOCATION:Santa Clara
SUMMARY:Model your data before you move it (Clay  Jackson)
URL:https://pgconf.org/conferences/2024/program/proposals/2270
END:VEVENT
BEGIN:VEVENT
DTSTAMP:20260423T075408Z
UID:1368ac87-73c5-4011-a73f-b186990c3fba
DTSTART:20240419T190000Z
DTEND:20240419T195000Z
LOCATION:Winchester
SUMMARY:Postgres in the Containers Era (Alvaro Hernandez)
URL:https://pgconf.org/conferences/2024/program/proposals/2258
END:VEVENT
BEGIN:VEVENT
DTSTAMP:20260423T075408Z
UID:a483daf3-8975-41dd-8be8-e728f341b65b
DTSTART:20240419T190000Z
DTEND:20240419T195000Z
LOCATION:Almaden
SUMMARY:The Postgres Advantage in AI Enterprise Workloads (Patrick Mottram)
URL:https://pgconf.org/conferences/2024/program/proposals/2277
END:VEVENT
BEGIN:VEVENT
DTSTAMP:20260423T075408Z
UID:79b4a94e-f3a3-42f5-abac-c4e4c1d6406b
DTSTART:20240419T190000Z
DTEND:20240419T195000Z
LOCATION:San Pedro
SUMMARY:The Future of MySQL is Postgres (Mason Sharp and Jonah Harris)
URL:https://pgconf.org/conferences/2024/program/proposals/2123
END:VEVENT
BEGIN:VEVENT
DTSTAMP:20260423T075408Z
UID:2d799b36-e7dc-4e85-b06c-b48fa8ef5f16
DTSTART:20240419T200000Z
DTEND:20240419T210000Z
LOCATION:Almaden
SUMMARY:Friday Lunch (PostgresConf Organizers)
URL:https://pgconf.org/conferences/2024/program/proposals/2281
END:VEVENT
BEGIN:VEVENT
DTSTAMP:20260423T075408Z
UID:4add728a-f532-4e4d-ab6a-e2e84ab0ba8a
DTSTART:20240419T210000Z
DTEND:20240419T215000Z
LOCATION:Santa Clara
SUMMARY:Transaction Isolation in Postgres (Gwen Shapira)
URL:https://pgconf.org/conferences/2024/program/proposals/2182
END:VEVENT
BEGIN:VEVENT
DTSTAMP:20260423T075408Z
UID:ab681296-c364-4757-9bf9-8db164faf1d3
DTSTART:20240419T210000Z
DTEND:20240419T215000Z
LOCATION:Winchester
SUMMARY:PCI-DSS on Postgres Encryption and Database access (Billy VanCannon
 )
URL:https://pgconf.org/conferences/2024/program/proposals/2209
END:VEVENT
BEGIN:VEVENT
DTSTAMP:20260423T075408Z
UID:6a245d5c-a36d-4c46-b4c8-e79de77ac696
DTSTART:20240419T210000Z
DTEND:20240419T215000Z
LOCATION:San Pedro
SUMMARY:Vector Search in PostgreSQL using Different ANN Algorithms (Gleb Ot
 ochkin and Alan Li)
URL:https://pgconf.org/conferences/2024/program/proposals/2179
END:VEVENT
BEGIN:VEVENT
DTSTAMP:20260423T075408Z
UID:be122015-f38c-4594-935f-3380b37cb76f
DTSTART:20240419T220000Z
DTEND:20240419T225000Z
LOCATION:Santa Clara
SUMMARY:Securing Postgres for use with GenAI (Min-Hank Ho)
URL:https://pgconf.org/conferences/2024/program/proposals/2216
END:VEVENT
BEGIN:VEVENT
DTSTAMP:20260423T075408Z
UID:2bd8856e-3984-4cd3-967b-b40153fbc504
DTSTART:20240419T220000Z
DTEND:20240419T222000Z
LOCATION:San Pedro
SUMMARY:Local-first application architecture using Postgres logical replica
 tion (Conrad Hofmeyr)
URL:https://pgconf.org/conferences/2024/program/proposals/2237
END:VEVENT
BEGIN:VEVENT
DTSTAMP:20260423T075408Z
UID:91ac2b7c-01cf-475c-bbbb-ec7d73a80f80
DTSTART:20240419T223000Z
DTEND:20240419T225000Z
LOCATION:San Pedro
SUMMARY:Bounded and Unbounded Data for RAG Systems: Postgres Is All You Nee
 d (Samuel Hu)
URL:https://pgconf.org/conferences/2024/program/proposals/2154
END:VEVENT
BEGIN:VEVENT
DTSTAMP:20260423T075408Z
UID:d895a3bd-3adc-41bd-90cc-b4f276db5a26
DTSTART:20240419T223000Z
DTEND:20240419T225000Z
LOCATION:Winchester
SUMMARY:Beyond Boundaries: Mastering 2-Level Encryption Migration in Postgr
 eSQL (BAJI SHAIK)
URL:https://pgconf.org/conferences/2024/program/proposals/2250
END:VEVENT
BEGIN:VEVENT
DTSTAMP:20260423T075408Z
UID:cf4b83fa-8d50-464c-b53f-aba66b5b91dd
DTSTART:20240419T230000Z
DTEND:20240419T235000Z
LOCATION:Winchester
SUMMARY:Scaling PostgreSQL: Navigating Horizontal and Vertical Scalability 
 Pathways (Dr. Ibrar Ahmed)
URL:https://pgconf.org/conferences/2024/program/proposals/2152
END:VEVENT
BEGIN:VEVENT
DTSTAMP:20260423T075408Z
UID:b9817ae9-d2fe-4a68-9daa-229ed45e4b86
DTSTART:20240419T230000Z
DTEND:20240419T235000Z
LOCATION:Santa Clara
SUMMARY:Discover the Power of PostgreSQL's Modularity and Extensibility (Pe
 rren Walker)
URL:https://pgconf.org/conferences/2024/program/proposals/2215
END:VEVENT
BEGIN:VEVENT
DTSTAMP:20260423T075408Z
UID:9b1e30fe-1c85-480b-b979-b68dc074ada4
DTSTART:20240419T230000Z
DTEND:20240419T232000Z
LOCATION:San Pedro
SUMMARY:How can we make pg_dump and pg_restore 10 times faster? (Sai Sriram
 pur)
URL:https://pgconf.org/conferences/2024/program/proposals/2161
END:VEVENT
BEGIN:VEVENT
DTSTAMP:20260423T075408Z
UID:2cd1c1e9-d9ad-4cdf-8232-e5796df16ee1
DTSTART:20240419T233000Z
DTEND:20240419T235000Z
LOCATION:San Pedro
SUMMARY:What does it take to build a first class data movement tool for Pos
 tgres? (Sai Srirampur)
URL:https://pgconf.org/conferences/2024/program/proposals/2112
END:VEVENT
END:VCALENDAR
