BEGIN:VCALENDAR
VERSION:2.0
PRODID:PostgresConf US 2018
CALSCALE:GREGORIAN
BEGIN:VEVENT
DTSTAMP:20260422T201346Z
UID:71460b7a-5be4-4e26-a331-fa66e997a134
DTSTART:20180416T060000Z
DTEND:20180416T090000Z
LOCATION:America
SUMMARY:Aurora PostgreSQL Tutorial and Extended Deep Dive (James Finnerty)
URL:https://pgconf.org/conferences/2018/program/proposals/155
END:VEVENT
BEGIN:VEVENT
DTSTAMP:20260422T201346Z
UID:eb5e4a89-edf3-4510-8fd5-dca01caba365
DTSTART:20180416T060000Z
DTEND:20180416T090000Z
LOCATION:Liberty II
SUMMARY:Mastering PostgreSQL Administration (Bruce Momjian)
URL:https://pgconf.org/conferences/2018/program/proposals/156
END:VEVENT
BEGIN:VEVENT
DTSTAMP:20260422T201346Z
UID:dce182e9-21b5-43ed-a234-a075a0c70c36
DTSTART:20180416T060000Z
DTEND:20180416T090000Z
LOCATION:Enterprise
SUMMARY:Personal Time Management (Thomas Limoncelli)
URL:https://pgconf.org/conferences/2018/program/proposals/139
END:VEVENT
BEGIN:VEVENT
DTSTAMP:20260422T201347Z
UID:092bcc6c-a268-4f4d-9a40-4c51d045542c
DTSTART:20180416T060000Z
DTEND:20180416T090000Z
LOCATION:Liberty III
SUMMARY:High Availability PostgreSQL and Kubernetes with Google Cloud (Alex
 is Guajardo and  Gabi Ferrara)
URL:https://pgconf.org/conferences/2018/program/proposals/243
END:VEVENT
BEGIN:VEVENT
DTSTAMP:20260422T201347Z
UID:c12eb328-fcda-45dd-a6e6-82af50fc5e5a
DTSTART:20180416T060000Z
DTEND:20180416T090000Z
LOCATION:Liberty I
SUMMARY:Tutorial on Modern PostgreSQL High Availability (Alvaro Hernandez a
 nd Pablo González Doval)
URL:https://pgconf.org/conferences/2018/program/proposals/227
END:VEVENT
BEGIN:VEVENT
DTSTAMP:20260422T201347Z
UID:1e580413-4fd7-4132-a8c5-8d150123a964
DTSTART:20180416T090000Z
DTEND:20180416T100000Z
LOCATION:Newport Grand Ballroom
SUMMARY:Monday Lunch
URL:https://pgconf.org/conferences/2018/program/proposals/253
END:VEVENT
BEGIN:VEVENT
DTSTAMP:20260422T201347Z
UID:7c131075-dc02-4f89-a04e-55746a7f0633
DTSTART:20180417T090000Z
DTEND:20180417T100000Z
LOCATION:Newport Grand Ballroom
SUMMARY:Tuesday Lunch
URL:https://pgconf.org/conferences/2018/program/proposals/254
END:VEVENT
BEGIN:VEVENT
DTSTAMP:20260422T201347Z
UID:03468987-34fe-4295-96aa-dcfcbd36bd65
DTSTART:20180418T062000Z
DTEND:20180418T064000Z
LOCATION:Newport Grand Ballroom
SUMMARY:Amazon and PostgreSQL: Better together (Mark Porter)
URL:https://pgconf.org/conferences/2018/program/proposals/285
END:VEVENT
BEGIN:VEVENT
DTSTAMP:20260422T201347Z
UID:d85a3e76-ec06-4b0b-b071-a82ae1c6e5de
DTSTART:20180418T065000Z
DTEND:20180418T071000Z
LOCATION:Newport Grand Ballroom
SUMMARY:Data Tells the Story (Scott Yara)
URL:https://pgconf.org/conferences/2018/program/proposals/199
END:VEVENT
BEGIN:VEVENT
DTSTAMP:20260422T201347Z
UID:cd1af2b5-84af-4817-a136-8a815a758269
DTSTART:20180418T071000Z
DTEND:20180418T073000Z
LOCATION:Newport Grand Ballroom
SUMMARY:Break
URL:https://pgconf.org/conferences/2018/program/proposals/265
END:VEVENT
BEGIN:VEVENT
DTSTAMP:20260422T201347Z
UID:72bc41db-dd25-448b-abe9-7196c46d3d19
DTSTART:20180418T073000Z
DTEND:20180418T082000Z
LOCATION:America
SUMMARY:Constraints: a Developer's Secret Weapon (Will Leinweber)
URL:https://pgconf.org/conferences/2018/program/proposals/237
END:VEVENT
BEGIN:VEVENT
DTSTAMP:20260422T201347Z
UID:7a59e5ee-cb3a-498b-a534-ccdbbbea4d9c
DTSTART:20180418T073000Z
DTEND:20180418T075000Z
LOCATION:Liberty I
SUMMARY:Reducing The Surface Area Of Risk In Data Security (Tim Gorman)
URL:https://pgconf.org/conferences/2018/program/proposals/154
END:VEVENT
BEGIN:VEVENT
DTSTAMP:20260422T201347Z
UID:d5f43e6a-4250-4854-92fd-1b68c21a5105
DTSTART:20180418T073000Z
DTEND:20180418T082000Z
LOCATION:Enterprise
SUMMARY: Automated Postgres Failover and Caching with Zero Code Changes ( E
 rik Brandsberg)
URL:https://pgconf.org/conferences/2018/program/proposals/145
END:VEVENT
BEGIN:VEVENT
DTSTAMP:20260422T201347Z
UID:466a2a04-5280-414a-bf09-e791eadd0aaa
DTSTART:20180418T073000Z
DTEND:20180418T082000Z
LOCATION:Liberty II-III
SUMMARY:A Regulatory Tale for Financial Services and Government (Ivan Novic
 k)
URL:https://pgconf.org/conferences/2018/program/proposals/200
END:VEVENT
BEGIN:VEVENT
DTSTAMP:20260422T201347Z
UID:1384c355-5e1e-4c21-91be-5f52e2be8ba3
DTSTART:20180418T073000Z
DTEND:20180418T082000Z
LOCATION:Freedom
SUMMARY:Greenplum Overview for Postgres Hackers (Heikki Heikki Linnakangas)
URL:https://pgconf.org/conferences/2018/program/proposals/214
END:VEVENT
BEGIN:VEVENT
DTSTAMP:20260422T201347Z
UID:b9c3e5eb-4b54-4347-8831-265bedfe8eff
DTSTART:20180418T080000Z
DTEND:20180418T082000Z
LOCATION:Liberty I
SUMMARY:Monitoring PostgreSQL 101 (Jason Yee)
URL:https://pgconf.org/conferences/2018/program/proposals/120
END:VEVENT
BEGIN:VEVENT
DTSTAMP:20260422T201347Z
UID:2d5426b8-20fa-4f24-a57e-c4e3c220156c
DTSTART:20180418T083000Z
DTEND:20180418T092000Z
LOCATION:Liberty I
SUMMARY:Building data pipelines with PostgreSQL and Kafka (Oskari Saarenmaa
 )
URL:https://pgconf.org/conferences/2018/program/proposals/115
END:VEVENT
BEGIN:VEVENT
DTSTAMP:20260422T201347Z
UID:64d7888d-7c75-48d1-90db-6828419f62d3
DTSTART:20180418T083000Z
DTEND:20180418T092000Z
LOCATION:Enterprise
SUMMARY:Taking care of the elephant (Michael Meskes)
URL:https://pgconf.org/conferences/2018/program/proposals/42
END:VEVENT
BEGIN:VEVENT
DTSTAMP:20260422T201347Z
UID:ff5fa70e-7acf-4a2b-87d1-f2ead5011779
DTSTART:20180418T083000Z
DTEND:20180418T092000Z
LOCATION:Freedom
SUMMARY:PostGIS Gotchas (Paul Ramsey)
URL:https://pgconf.org/conferences/2018/program/proposals/77
END:VEVENT
BEGIN:VEVENT
DTSTAMP:20260422T201347Z
UID:d63c0a13-57d3-4fe2-b7b7-d067f0c37ec5
DTSTART:20180418T083000Z
DTEND:20180418T092000Z
LOCATION:Liberty II-III
SUMMARY:How FINRA is Migrating to Postgres (Steve Downs)
URL:https://pgconf.org/conferences/2018/program/proposals/239
END:VEVENT
BEGIN:VEVENT
DTSTAMP:20260422T201347Z
UID:9b6fc948-a9dc-40bf-8097-8e32bbfe0f8d
DTSTART:20180418T083000Z
DTEND:20180418T092000Z
LOCATION:America
SUMMARY:TimescaleDB: Re-engineering PostgreSQL as a time-series database (M
 ichael Freedman)
URL:https://pgconf.org/conferences/2018/program/proposals/197
END:VEVENT
BEGIN:VEVENT
DTSTAMP:20260422T201347Z
UID:eadf4448-25d2-4110-82ee-1af281f54e09
DTSTART:20180418T092000Z
DTEND:20180418T102000Z
LOCATION:Newport Grand Ballroom
SUMMARY:Wednesday Lunch I
URL:https://pgconf.org/conferences/2018/program/proposals/257
END:VEVENT
BEGIN:VEVENT
DTSTAMP:20260422T201347Z
UID:b157a42d-9f46-4f69-8dae-502dc284e67c
DTSTART:20180418T093000Z
DTEND:20180418T102000Z
LOCATION:Freedom
SUMMARY:Understanding PostgreSQL IO (Jan Wieck)
URL:https://pgconf.org/conferences/2018/program/proposals/142
END:VEVENT
BEGIN:VEVENT
DTSTAMP:20260422T201347Z
UID:31b855f4-fa55-4425-bcff-a3e48c5f1929
DTSTART:20180418T093000Z
DTEND:20180418T102000Z
LOCATION:America
SUMMARY:Postgres Window Magic (Bruce Momjian)
URL:https://pgconf.org/conferences/2018/program/proposals/166
END:VEVENT
BEGIN:VEVENT
DTSTAMP:20260422T201347Z
UID:a1831fe9-ca43-421f-b6a7-fbeda3e321f5
DTSTART:20180418T093000Z
DTEND:20180418T095000Z
LOCATION:Enterprise
SUMMARY:Professional PostgreSQL monitoring made easy with pgwatch2 (Kaarel 
 Moppel)
URL:https://pgconf.org/conferences/2018/program/proposals/192
END:VEVENT
BEGIN:VEVENT
DTSTAMP:20260422T201347Z
UID:2f22957d-b1ee-44fc-9ea4-4185e75f9783
DTSTART:20180419T062000Z
DTEND:20180419T064000Z
LOCATION:Liberty II-III
SUMMARY:Greenplum: A Pivotal Moment on Wall Street (Howard Goldberg)
URL:https://pgconf.org/conferences/2018/program/proposals/149
END:VEVENT
BEGIN:VEVENT
DTSTAMP:20260422T201347Z
UID:21a007e7-21c7-4fb5-83f6-b2c4a95f8bef
DTSTART:20180419T065000Z
DTEND:20180419T071000Z
LOCATION:Liberty II-III
SUMMARY:Greenplum for Internet Scale Analytics and Mining (Shaun Litt)
URL:https://pgconf.org/conferences/2018/program/proposals/202
END:VEVENT
BEGIN:VEVENT
DTSTAMP:20260422T201347Z
UID:7fa03b20-6fbb-486b-9f9d-7c2be92cad29
DTSTART:20180419T065000Z
DTEND:20180419T074000Z
LOCATION:Freedom
SUMMARY:PostgreSQL at 20TB and Beyond (Christopher Travers)
URL:https://pgconf.org/conferences/2018/program/proposals/73
END:VEVENT
BEGIN:VEVENT
DTSTAMP:20260422T201347Z
UID:c89157af-e6fa-4f65-8258-0569eee4ebf1
DTSTART:20180419T065000Z
DTEND:20180419T074000Z
LOCATION:Liberty I
SUMMARY:How to Benchmark the Next Generation of Databases (Arjun Narayan)
URL:https://pgconf.org/conferences/2018/program/proposals/250
END:VEVENT
BEGIN:VEVENT
DTSTAMP:20260422T201347Z
UID:7fce4158-cb31-4c0c-9320-8a36afdd3743
DTSTART:20180419T065000Z
DTEND:20180419T074000Z
LOCATION:America
SUMMARY:Tour de Data Types: VARCHAR2 or CHAR(255)? (Andreas Scherbaum)
URL:https://pgconf.org/conferences/2018/program/proposals/36
END:VEVENT
BEGIN:VEVENT
DTSTAMP:20260422T201347Z
UID:a0109d90-c385-4f54-96ee-0bbcc05f494d
DTSTART:20180419T065000Z
DTEND:20180419T074000Z
LOCATION:Enterprise
SUMMARY:So you wanna run your database on Kubernetes? (JP Phillips)
URL:https://pgconf.org/conferences/2018/program/proposals/282
END:VEVENT
BEGIN:VEVENT
DTSTAMP:20260422T201347Z
UID:9b482882-e85f-42f6-be4a-d5d9d53df579
DTSTART:20180419T072000Z
DTEND:20180419T074000Z
LOCATION:Liberty II-III
SUMMARY:Executive Panel: DataOps In Practice - A Better Way to Develop and 
 Deliver Analytics (Jacque Istok\, Stephen O'Grady\, Shaun Litt\, and Niels
  Kasch)
URL:https://pgconf.org/conferences/2018/program/proposals/203
END:VEVENT
BEGIN:VEVENT
DTSTAMP:20260422T201347Z
UID:fdd1baf7-0a85-43af-a38e-dea25dbd4fa8
DTSTART:20180419T075000Z
DTEND:20180419T084000Z
LOCATION:Enterprise
SUMMARY:The Power of Postgres Logical Replication (Joshua D. Drake)
URL:https://pgconf.org/conferences/2018/program/proposals/249
END:VEVENT
BEGIN:VEVENT
DTSTAMP:20260422T201347Z
UID:9ffa4628-2e7f-49b9-9783-7d7c3b22f83f
DTSTART:20180419T075000Z
DTEND:20180419T084000Z
LOCATION:Liberty I
SUMMARY:Warehouse Benchmark: Redshift vs BigQuery vs Snowflake (George Fras
 er)
URL:https://pgconf.org/conferences/2018/program/proposals/107
END:VEVENT
BEGIN:VEVENT
DTSTAMP:20260422T201347Z
UID:4f070158-c9a6-4061-9fe8-f5158a580d71
DTSTART:20180419T075000Z
DTEND:20180419T084000Z
LOCATION:Liberty II-III
SUMMARY:What It Means to Be a Massively Parallel Postgres DBA (Pravin Rao a
 nd Randy Willard)
URL:https://pgconf.org/conferences/2018/program/proposals/215
END:VEVENT
BEGIN:VEVENT
DTSTAMP:20260422T201347Z
UID:c2f5a7fc-cc92-406c-9ae3-beef56eb176b
DTSTART:20180419T075000Z
DTEND:20180419T084000Z
LOCATION:America
SUMMARY:ANSI\, Schmansi! (Sehrope Sarkuni)
URL:https://pgconf.org/conferences/2018/program/proposals/121
END:VEVENT
BEGIN:VEVENT
DTSTAMP:20260422T201347Z
UID:693aba2c-fda3-4ba5-ad14-5ac5133bcbe9
DTSTART:20180419T075000Z
DTEND:20180419T081000Z
LOCATION:Freedom
SUMMARY:Distributing postgres with postgres-XL for very large astronomical 
 databases (Pilar de Teodoro)
URL:https://pgconf.org/conferences/2018/program/proposals/179
END:VEVENT
BEGIN:VEVENT
DTSTAMP:20260422T201347Z
UID:414d7b6f-79e3-4f0a-a9a7-5e654a26f10d
DTSTART:20180419T082000Z
DTEND:20180419T084000Z
LOCATION:Freedom
SUMMARY:PostgreSQL in a geographically distributed realtime transactional s
 ystem (Malcolm McLean)
URL:https://pgconf.org/conferences/2018/program/proposals/148
END:VEVENT
BEGIN:VEVENT
DTSTAMP:20260422T201347Z
UID:d098e60a-30b1-43c3-ac55-9be3f043a5c6
DTSTART:20180419T085000Z
DTEND:20180419T095000Z
LOCATION:Newport Grand Ballroom
SUMMARY:Thursday Lunch I
URL:https://pgconf.org/conferences/2018/program/proposals/259
END:VEVENT
BEGIN:VEVENT
DTSTAMP:20260422T201347Z
UID:2093714f-614a-4636-9291-fe847a784713
DTSTART:20180419T085000Z
DTEND:20180419T094000Z
LOCATION:America
SUMMARY:Using GIS in PostgreSQL (Lloyd Albin)
URL:https://pgconf.org/conferences/2018/program/proposals/78
END:VEVENT
BEGIN:VEVENT
DTSTAMP:20260422T201347Z
UID:191062f8-88a1-43d6-8974-2802e5646915
DTSTART:20180419T085000Z
DTEND:20180419T094000Z
LOCATION:Freedom
SUMMARY:ora_migrator: Moving from Oracle to PostgreSQL (Hans-Jürgen Schön
 ig)
URL:https://pgconf.org/conferences/2018/program/proposals/58
END:VEVENT
BEGIN:VEVENT
DTSTAMP:20260422T201347Z
UID:b7cfd875-7ede-403b-9db1-5ab145e172c1
DTSTART:20180419T085000Z
DTEND:20180419T094000Z
LOCATION:Enterprise
SUMMARY:Architecture & Pitfalls of Logical Replication (Atsushi Torikoshi)
URL:https://pgconf.org/conferences/2018/program/proposals/180
END:VEVENT
BEGIN:VEVENT
DTSTAMP:20260422T201347Z
UID:35826195-e6cb-474e-b50a-0970950626ff
DTSTART:20180419T095000Z
DTEND:20180419T104000Z
LOCATION:Liberty II-III
SUMMARY:Machine Learning\, Graph\, Text and Geospatial on Postgres and Gree
 nplum  (Bharath Sitaraman and Frank McQuillan)
URL:https://pgconf.org/conferences/2018/program/proposals/222
END:VEVENT
BEGIN:VEVENT
DTSTAMP:20260422T201347Z
UID:c31217f4-3ccb-40fc-a3a3-26f553c7fa06
DTSTART:20180419T095000Z
DTEND:20180419T105000Z
LOCATION:Newport Grand Ballroom
SUMMARY:Thursday Lunch II
URL:https://pgconf.org/conferences/2018/program/proposals/260
END:VEVENT
BEGIN:VEVENT
DTSTAMP:20260422T201347Z
UID:bc81a11b-4bff-44ee-ac37-4ffef4e16254
DTSTART:20180419T095000Z
DTEND:20180419T104000Z
LOCATION:America
SUMMARY:Distributed Foreign Data Wrappers (Mason Sharp)
URL:https://pgconf.org/conferences/2018/program/proposals/229
END:VEVENT
BEGIN:VEVENT
DTSTAMP:20260422T201347Z
UID:4991c286-0a6a-4682-bbc9-14ad668d76fb
DTSTART:20180419T095000Z
DTEND:20180419T104000Z
LOCATION:Liberty I
SUMMARY:Caching Data with Redis Data Structures (Dave Nielsen)
URL:https://pgconf.org/conferences/2018/program/proposals/125
END:VEVENT
BEGIN:VEVENT
DTSTAMP:20260422T201347Z
UID:a0987c9c-2bac-446b-b458-4674f53e895c
DTSTART:20180420T062000Z
DTEND:20180420T064000Z
LOCATION:America
SUMMARY:Contributing to PostgreSQL (Andrew Dunstan)
URL:https://pgconf.org/conferences/2018/program/proposals/140
END:VEVENT
BEGIN:VEVENT
DTSTAMP:20260422T201347Z
UID:9d30a894-f6e7-4747-a6c0-7a2b6446f876
DTSTART:20180420T065000Z
DTEND:20180420T074000Z
LOCATION:Freedom
SUMMARY:Distributing queries the Citus way (Marco Slot)
URL:https://pgconf.org/conferences/2018/program/proposals/233
END:VEVENT
BEGIN:VEVENT
DTSTAMP:20260422T201347Z
UID:352af557-40ff-4f64-8232-68e7b78d9520
DTSTART:20180420T065000Z
DTEND:20180420T074000Z
LOCATION:Enterprise
SUMMARY:Radical Ideas from the Practice of Cloud Computing (Thomas Limoncel
 li)
URL:https://pgconf.org/conferences/2018/program/proposals/138
END:VEVENT
BEGIN:VEVENT
DTSTAMP:20260422T201347Z
UID:f05fd7bf-367c-44fb-a9c7-fe5db9494af1
DTSTART:20180420T065000Z
DTEND:20180420T074000Z
LOCATION:Liberty I
SUMMARY:Deep Dive into the RDS PostgreSQL Universe (Jignesh Shah)
URL:https://pgconf.org/conferences/2018/program/proposals/118
END:VEVENT
BEGIN:VEVENT
DTSTAMP:20260422T201347Z
UID:b1af5242-efff-4f5c-9003-d72dd6b537d5
DTSTART:20180420T065000Z
DTEND:20180420T074000Z
LOCATION:Liberty II-III
SUMMARY:Greenplum Kontained: Coordinating Many Postgres Instances on Kubern
 etes (Goutam Tadi)
URL:https://pgconf.org/conferences/2018/program/proposals/221
END:VEVENT
BEGIN:VEVENT
DTSTAMP:20260422T201347Z
UID:03e904ad-ce58-4af1-a1ff-e951e7ee5fc7
DTSTART:20180420T065000Z
DTEND:20180420T074000Z
LOCATION:America
SUMMARY:From Startup to Mature Company (John Ashmead)
URL:https://pgconf.org/conferences/2018/program/proposals/134
END:VEVENT
BEGIN:VEVENT
DTSTAMP:20260422T201347Z
UID:990dc2cc-2a7d-4561-8b0b-90eca769d6a7
DTSTART:20180420T075000Z
DTEND:20180420T084000Z
LOCATION:America
SUMMARY:Real-Time Data Streams from PostgreSQL: A Game Changer in Applicati
 on Architecture (Jonathan Katz)
URL:https://pgconf.org/conferences/2018/program/proposals/144
END:VEVENT
BEGIN:VEVENT
DTSTAMP:20260422T201347Z
UID:7467745f-55f0-41c5-858d-030948667d78
DTSTART:20180420T075000Z
DTEND:20180420T084000Z
LOCATION:Freedom
SUMMARY:All the dirt on VACUUM (Jim Nasby)
URL:https://pgconf.org/conferences/2018/program/proposals/208
END:VEVENT
BEGIN:VEVENT
DTSTAMP:20260422T201347Z
UID:711da8b9-c58f-4edd-9ea0-d573f539805b
DTSTART:20180420T075000Z
DTEND:20180420T084000Z
LOCATION:Liberty I
SUMMARY:PostgreSQL on AWS: Tips & Tricks (and horror stories) (Alexander Ku
 kushkin)
URL:https://pgconf.org/conferences/2018/program/proposals/212
END:VEVENT
BEGIN:VEVENT
DTSTAMP:20260422T201347Z
UID:fcb85609-b6ab-4fa5-ab4a-7c4fcc831cd3
DTSTART:20180420T075000Z
DTEND:20180420T084000Z
LOCATION:Enterprise
SUMMARY:Next generation PostgreSQL replication with pglogical 3 and BDR 3 (
 Peter Eisentraut)
URL:https://pgconf.org/conferences/2018/program/proposals/127
END:VEVENT
BEGIN:VEVENT
DTSTAMP:20260422T201347Z
UID:943e1c65-326c-4a22-aa13-535398f9b390
DTSTART:20180420T075000Z
DTEND:20180420T084000Z
LOCATION:Liberty II-III
SUMMARY:Achieving Data Privacy Compliance in Postgres or Greenplum (Les McM
 onagle)
URL:https://pgconf.org/conferences/2018/program/proposals/122
END:VEVENT
BEGIN:VEVENT
DTSTAMP:20260422T201347Z
UID:49d7b70f-5527-4e71-bb4c-9fa1261cfa55
DTSTART:20180420T085000Z
DTEND:20180420T095000Z
LOCATION:Newport Grand Ballroom
SUMMARY:Friday Lunch
URL:https://pgconf.org/conferences/2018/program/proposals/261
END:VEVENT
BEGIN:VEVENT
DTSTAMP:20260422T201347Z
UID:7a17b0e1-02f4-4bbe-8297-a7b04c2d4c42
DTSTART:20180420T095000Z
DTEND:20180420T104000Z
LOCATION:America
SUMMARY:How To Index Your Database (Baron Schwartz)
URL:https://pgconf.org/conferences/2018/program/proposals/247
END:VEVENT
BEGIN:VEVENT
DTSTAMP:20260422T201347Z
UID:7de5b3f4-430f-428c-a034-10915d325834
DTSTART:20180420T095000Z
DTEND:20180420T104000Z
LOCATION:Enterprise
SUMMARY:NoSQL Best Practices for PostgreSQL (Dmitry Dolgov)
URL:https://pgconf.org/conferences/2018/program/proposals/105
END:VEVENT
BEGIN:VEVENT
DTSTAMP:20260422T201347Z
UID:9bbbbb70-0fa4-4c44-a6ed-1334227f7b95
DTSTART:20180420T095000Z
DTEND:20180420T104000Z
LOCATION:Freedom
SUMMARY:A Roadmap to Continuous Materialized Views (Corey Huinker)
URL:https://pgconf.org/conferences/2018/program/proposals/114
END:VEVENT
BEGIN:VEVENT
DTSTAMP:20260422T201347Z
UID:082fbf48-01ec-4fb4-a0cf-6f5161576059
DTSTART:20180420T095000Z
DTEND:20180420T104000Z
LOCATION:Liberty I
SUMMARY:Combine the power of community PostgreSQL and Microsoft Azure to mi
 grate existing or build new apps (Sunil Kamath)
URL:https://pgconf.org/conferences/2018/program/proposals/153
END:VEVENT
BEGIN:VEVENT
DTSTAMP:20260422T201347Z
UID:f9ea8e43-6a81-4baa-ab4b-cccd343228d8
DTSTART:20180420T095000Z
DTEND:20180420T104000Z
LOCATION:Liberty II-III
SUMMARY:Change Data Capture for a brave new world (Hannu Valtonen)
URL:https://pgconf.org/conferences/2018/program/proposals/187
END:VEVENT
END:VCALENDAR
