BEGIN:VCALENDAR
VERSION:2.0
PRODID:PGConf US 2017 [PgConf.US]
CALSCALE:GREGORIAN
BEGIN:VEVENT
DTSTAMP:20260423T073310Z
UID:2e6c9d6c-c97f-461f-90d2-5949c29906cd
DTSTART:20170328T130000Z
DTEND:20170328T160000Z
LOCATION:Enterprise
SUMMARY:Linux IO internals for PostgreSQL administrators (Ilya Kosmodemians
 ky)
URL:https://pgconf.org/conferences/2017/program/proposals/633
END:VEVENT
BEGIN:VEVENT
DTSTAMP:20260423T073310Z
UID:2a9b3582-f542-4e77-a10b-ce45b315a2f6
DTSTART:20170328T130000Z
DTEND:20170328T160000Z
LOCATION:America
SUMMARY:Detecting performance problems and fixing them (Hans-Jürgen Schön
 ig)
URL:https://pgconf.org/conferences/2017/program/proposals/609
END:VEVENT
BEGIN:VEVENT
DTSTAMP:20260423T073310Z
UID:f8b479d7-9170-4608-9502-d08a56e7edfc
DTSTART:20170328T130000Z
DTEND:20170328T160000Z
LOCATION:Liberty III
SUMMARY:Getting Stuff done with PostGIS (Leo Hsu and Regina Obe)
URL:https://pgconf.org/conferences/2017/program/proposals/606
END:VEVENT
BEGIN:VEVENT
DTSTAMP:20260423T073310Z
UID:4d611c68-635d-467e-b79e-f809ad64362a
DTSTART:20170328T133000Z
DTEND:20170328T141000Z
LOCATION:Liberty I
SUMMARY:Engineering cloud infrastructure for HIPAA-compliance (Shaun Qualhe
 im)
URL:https://pgconf.org/conferences/2017/program/proposals/535
END:VEVENT
BEGIN:VEVENT
DTSTAMP:20260423T073310Z
UID:482c330b-96e1-4b5c-b1fa-58bb410323b8
DTSTART:20170328T142000Z
DTEND:20170328T150000Z
LOCATION:Liberty I
SUMMARY:HIPAA Compliant\, Scalable and Highly Available PostgreSQL Architec
 ture in AWS (Yaser Raja and Glenn Poston)
URL:https://pgconf.org/conferences/2017/program/proposals/490
END:VEVENT
BEGIN:VEVENT
DTSTAMP:20260423T073310Z
UID:e0ed9f96-5801-413f-9a36-deba396cbdd7
DTSTART:20170328T150000Z
DTEND:20170328T154000Z
LOCATION:Liberty I
SUMMARY:How to Make Security on NoSQL More than just an afterthought (Chad 
 Hardin)
URL:https://pgconf.org/conferences/2017/program/proposals/644
END:VEVENT
BEGIN:VEVENT
DTSTAMP:20260423T073310Z
UID:e2e975e5-6eb3-49e4-b721-393a03871cff
DTSTART:20170329T133000Z
DTEND:20170329T142000Z
LOCATION:Liberty III
SUMMARY:Designing The Right Schema To Power Heap (Dan Robinson)
URL:https://pgconf.org/conferences/2017/program/proposals/591
END:VEVENT
BEGIN:VEVENT
DTSTAMP:20260423T073310Z
UID:343117de-866c-4f7c-98d5-725dcc9f878c
DTSTART:20170329T133000Z
DTEND:20170329T142000Z
LOCATION:America
SUMMARY:PostgreSQL worst practices (Ilya Kosmodemiansky)
URL:https://pgconf.org/conferences/2017/program/proposals/520
END:VEVENT
BEGIN:VEVENT
DTSTAMP:20260423T073310Z
UID:48dab6eb-7765-4100-9e66-7f230f667f1c
DTSTART:20170329T133000Z
DTEND:20170329T142000Z
LOCATION:Liberty I
SUMMARY:Sort vs. Hash: A Duality (Peter Geoghegan)
URL:https://pgconf.org/conferences/2017/program/proposals/640
END:VEVENT
BEGIN:VEVENT
DTSTAMP:20260423T073310Z
UID:37dc6960-88c6-4fe2-9345-17aaf4ed637b
DTSTART:20170329T133000Z
DTEND:20170329T142000Z
LOCATION:Liberty II
SUMMARY:Gophers Riding Elephants: Writing PostgreSQL tools in Go (AJ Bahnke
 n)
URL:https://pgconf.org/conferences/2017/program/proposals/526
END:VEVENT
BEGIN:VEVENT
DTSTAMP:20260423T073310Z
UID:4bc65227-803f-4bea-a27b-4dea4db6003c
DTSTART:20170329T143000Z
DTEND:20170329T152000Z
LOCATION:America
SUMMARY:Patroni - HA PostgreSQL made easy (Alexander Kukushkin)
URL:https://pgconf.org/conferences/2017/program/proposals/593
END:VEVENT
BEGIN:VEVENT
DTSTAMP:20260423T073310Z
UID:3fa71254-fc45-424f-8ff4-2176ed18436e
DTSTART:20170329T143000Z
DTEND:20170329T152000Z
LOCATION:Liberty III
SUMMARY:Softlayer vs RDS/AWS: A price to performance perspective (Joshua D.
  Drake)
URL:https://pgconf.org/conferences/2017/program/proposals/527
END:VEVENT
BEGIN:VEVENT
DTSTAMP:20260423T073310Z
UID:98f24614-66f7-4f02-a2ff-cfeaa6d6adf0
DTSTART:20170329T143000Z
DTEND:20170329T152000Z
LOCATION:Liberty I
SUMMARY:In-core compression: how to shrink your database size in several ti
 mes (Anastasia Lubennikova)
URL:https://pgconf.org/conferences/2017/program/proposals/642
END:VEVENT
BEGIN:VEVENT
DTSTAMP:20260423T073310Z
UID:e738a095-bedc-4f57-955a-f49b30597fee
DTSTART:20170329T143000Z
DTEND:20170329T152000Z
LOCATION:Liberty II
SUMMARY:Migration from Oracle to native PostgreSQL (Max ten Dam)
URL:https://pgconf.org/conferences/2017/program/proposals/553
END:VEVENT
BEGIN:VEVENT
DTSTAMP:20260423T073310Z
UID:89caa2be-1427-44f3-b85c-e0397aa965ef
DTSTART:20170329T152000Z
DTEND:20170329T155000Z
LOCATION:Newport Grand Ballroom
SUMMARY:Wednesday Coffee Break
URL:https://pgconf.org/conferences/2017/program/proposals/570
END:VEVENT
BEGIN:VEVENT
DTSTAMP:20260423T073310Z
UID:8dd0ae98-d911-4857-9b46-30444cd978df
DTSTART:20170330T130000Z
DTEND:20170330T135000Z
LOCATION:America
SUMMARY:From Dev to prod\, The ABC's of PostgreSQL backups (Scott Mead)
URL:https://pgconf.org/conferences/2017/program/proposals/540
END:VEVENT
BEGIN:VEVENT
DTSTAMP:20260423T073310Z
UID:8de2fd2c-4138-4ac3-99e5-b3b92cb3591a
DTSTART:20170330T130000Z
DTEND:20170330T135000Z
LOCATION:Liberty II
SUMMARY:Migrating off of MongoDB to PostgreSQL (Alvaro Hernandez)
URL:https://pgconf.org/conferences/2017/program/proposals/658
END:VEVENT
BEGIN:VEVENT
DTSTAMP:20260423T073310Z
UID:60592058-2bc5-477f-a82f-fb0872ca9aa3
DTSTART:20170330T130000Z
DTEND:20170330T135000Z
LOCATION:Liberty III
SUMMARY:Processing 1 billion rows per second (Hans-Jürgen Schönig)
URL:https://pgconf.org/conferences/2017/program/proposals/617
END:VEVENT
BEGIN:VEVENT
DTSTAMP:20260423T073310Z
UID:2859cc8c-e064-4049-9c74-faa901e78c38
DTSTART:20170330T130000Z
DTEND:20170330T135000Z
LOCATION:Liberty I
SUMMARY:All the dirt on VACUUM: 9.6 edition (Jim Nasby)
URL:https://pgconf.org/conferences/2017/program/proposals/620
END:VEVENT
BEGIN:VEVENT
DTSTAMP:20260423T073310Z
UID:3ec1e32d-6668-42a6-a6a4-ae25490204f6
DTSTART:20170330T130000Z
DTEND:20170330T135000Z
LOCATION:Enterprise
SUMMARY:Django and PostgreSQL: Two Great Tastes (Christophe Pettus)
URL:https://pgconf.org/conferences/2017/program/proposals/502
END:VEVENT
BEGIN:VEVENT
DTSTAMP:20260423T073310Z
UID:5b1d3d9e-e5a2-4205-8f83-7dd1c59a8b7b
DTSTART:20170330T140000Z
DTEND:20170330T145000Z
LOCATION:Liberty II
SUMMARY:Turbocharge your SQL queries in-memory with Apache® Ignite™  (De
 nis Magda)
URL:https://pgconf.org/conferences/2017/program/proposals/574
END:VEVENT
BEGIN:VEVENT
DTSTAMP:20260423T073310Z
UID:51caa305-e19c-4b45-9dc0-25e53d970e8c
DTSTART:20170330T140000Z
DTEND:20170330T145000Z
LOCATION:Liberty III
SUMMARY:Corruption War Stories (Christophe Pettus)
URL:https://pgconf.org/conferences/2017/program/proposals/530
END:VEVENT
BEGIN:VEVENT
DTSTAMP:20260423T073310Z
UID:2c4a6500-e5fc-4362-b43a-ce96a8bbc251
DTSTART:20170330T140000Z
DTEND:20170330T145000Z
LOCATION:Enterprise
SUMMARY:An Introduction to SQLAlchemy and Friends (Jon Banafato)
URL:https://pgconf.org/conferences/2017/program/proposals/497
END:VEVENT
BEGIN:VEVENT
DTSTAMP:20260423T073310Z
UID:4cab6bac-6788-4f58-9fc0-eee00f81dd4f
DTSTART:20170330T140000Z
DTEND:20170330T145000Z
LOCATION:America
SUMMARY:Amazon RDS for PostgreSQL: What’s New and Lessons Learned (Grant 
 McAlister)
URL:https://pgconf.org/conferences/2017/program/proposals/652
END:VEVENT
BEGIN:VEVENT
DTSTAMP:20260423T073310Z
UID:203693c3-9636-451f-b94d-c643fe25746f
DTSTART:20170330T140000Z
DTEND:20170330T145000Z
LOCATION:Liberty I
SUMMARY:Next-Generation Parallel Query (Robert Haas)
URL:https://pgconf.org/conferences/2017/program/proposals/495
END:VEVENT
BEGIN:VEVENT
DTSTAMP:20260423T073310Z
UID:6051f318-7274-457e-869c-efd824b77979
DTSTART:20170330T145000Z
DTEND:20170330T152000Z
LOCATION:Newport Grand Ballroom
SUMMARY:Thursday Coffee Break
URL:https://pgconf.org/conferences/2017/program/proposals/571
END:VEVENT
BEGIN:VEVENT
DTSTAMP:20260423T073310Z
UID:3205bfb0-d215-4c88-a325-93cc31de2221
DTSTART:20170331T130000Z
DTEND:20170331T135000Z
LOCATION:America
SUMMARY:Provisioning and Automating High Availability Postgres on AWS EC2 (
 Payal Singh)
URL:https://pgconf.org/conferences/2017/program/proposals/660
END:VEVENT
BEGIN:VEVENT
DTSTAMP:20260423T073310Z
UID:d3d3eac2-30aa-4816-8b82-8f9ef44fbd83
DTSTART:20170331T130000Z
DTEND:20170331T135000Z
LOCATION:Liberty I
SUMMARY:Implementing Graph Database based on PostgreSQL (Kisung Kim)
URL:https://pgconf.org/conferences/2017/program/proposals/655
END:VEVENT
BEGIN:VEVENT
DTSTAMP:20260423T073310Z
UID:f14e4751-5f44-4f63-89f0-753459c92548
DTSTART:20170331T130000Z
DTEND:20170331T135000Z
LOCATION:Liberty III
SUMMARY:Managing OS Provided PostgreSQL Packages (Keith Fiske)
URL:https://pgconf.org/conferences/2017/program/proposals/653
END:VEVENT
BEGIN:VEVENT
DTSTAMP:20260423T073310Z
UID:3db12ec9-0935-4767-b53e-3d4cd1f32a91
DTSTART:20170331T130000Z
DTEND:20170331T135000Z
LOCATION:Liberty II
SUMMARY:How Green Was My Valley (Joe Conway)
URL:https://pgconf.org/conferences/2017/program/proposals/616
END:VEVENT
BEGIN:VEVENT
DTSTAMP:20260423T073310Z
UID:615b65ed-1cb5-4c12-9f00-b19829af81cb
DTSTART:20170331T140000Z
DTEND:20170331T145000Z
LOCATION:Liberty I
SUMMARY:Evolution of pgAdmin: pgAdmin4 (Dave Page)
URL:https://pgconf.org/conferences/2017/program/proposals/486
END:VEVENT
BEGIN:VEVENT
DTSTAMP:20260423T073310Z
UID:08026c38-267a-4704-b51a-09d0ce5328e4
DTSTART:20170331T140000Z
DTEND:20170331T145000Z
LOCATION:Liberty II
SUMMARY:Exploiting the hidden talents of JDBC for maximum performance (Dave
  Cramer)
URL:https://pgconf.org/conferences/2017/program/proposals/536
END:VEVENT
BEGIN:VEVENT
DTSTAMP:20260423T073310Z
UID:0686d6e3-468e-4e95-932c-b183bdf8787a
DTSTART:20170331T140000Z
DTEND:20170331T145000Z
LOCATION:Liberty III
SUMMARY:Advanced Postgres Monitoring (Denish Patel)
URL:https://pgconf.org/conferences/2017/program/proposals/555
END:VEVENT
BEGIN:VEVENT
DTSTAMP:20260423T073310Z
UID:2443cc2b-957a-4aae-8690-d4efe81fe92a
DTSTART:20170331T140000Z
DTEND:20170331T145000Z
LOCATION:America
SUMMARY:TimescaleDB: Designing a scalable time-series database on PostgreSQ
 L (Mike Freedman)
URL:https://pgconf.org/conferences/2017/program/proposals/517
END:VEVENT
BEGIN:VEVENT
DTSTAMP:20260423T073310Z
UID:ea8cee31-d082-4e50-ae17-317911b697f2
DTSTART:20170331T150000Z
DTEND:20170331T153000Z
LOCATION:Newport Grand Ballroom
SUMMARY:Lightning Talks (PostgresConf Organizers)
URL:https://pgconf.org/conferences/2017/program/proposals/563
END:VEVENT
BEGIN:VEVENT
DTSTAMP:20260423T073310Z
UID:b6ed13af-7ab6-4463-ab4a-f83659538b56
DTSTART:20170331T153000Z
DTEND:20170331T155000Z
LOCATION:Newport Grand Ballroom
SUMMARY:Final Remarks and Conference Close (PostgresConf Organizers)
URL:https://pgconf.org/conferences/2017/program/proposals/496
END:VEVENT
END:VCALENDAR
